Workbook

Sheet Сводная таблица
B1: Результаты оценки уровня открытости бюджетных данных муниципальных образований в Республике Алтай за 2024 год
A3: № | B3: Наименование муниципального образования в Республике Алтай | C3: Итого по разделу 1 | D3: Итого по разделу 2 | E3: Итого по разделу 3 | F3: Итого по разделу 4 | G3: Итого по разделу 5 | H3: Итого по разделу 6 | I3: Итого по всем разделам | J3: % от максимального количества баллов | K3: Уровень открытости
B4: Единица измерения | C4: баллов | D4: баллов | E4: баллов | F4: баллов | G4: баллов | H4: баллов | I4: баллов | J4: %
B5: Максимальное количество баллов | C5: ='Рейтинг Раздел 1'!D5 -> 4 | D5: ='Рейтинг Раздел 2'!D5 -> 4 | E5: ='Рейтинг Раздел 3'!D5 -> 4 | F5: ='Рейтинг Раздел 4'!D5 -> 8 | G5: ='Рейтинг Раздел 5'!D5 -> 8 | H5: ='Рейтинг Раздел 6'!D5 -> 8 | I5: =SUM(C5:H5) -> 36 | J5: Х
A6: 1 | B6: Город Горно-Алтайск | C6: ='Рейтинг Раздел 1'!D6 -> 4 | D6: ='Рейтинг Раздел 2'!D6 -> 4 | E6: ='Рейтинг Раздел 3'!D6 -> 4 | F6: ='Рейтинг Раздел 4'!D6 -> 8 | G6: ='Рейтинг Раздел 5'!D6 -> 8 | H6: ='Рейтинг Раздел 6'!D6 -> 8 | I6: =SUM(C6:H6) -> 36 | J6: =I6/$I$5*100 -> 100 | K6: А | L6: Очень высокий уровень открытости бюджетных данных
A7: 2 | B7: Муниципальное образование «Кош-Агачский район» | C7: ='Рейтинг Раздел 1'!D7 -> 4 | D7: ='Рейтинг Раздел 2'!D7 -> 4 | E7: ='Рейтинг Раздел 3'!D7 -> 4 | F7: ='Рейтинг Раздел 4'!D7 -> 8 | G7: ='Рейтинг Раздел 5'!D7 -> 8 | H7: ='Рейтинг Раздел 6'!D7 -> 8 | I7: =SUM(C7:H7) -> 36 | J7: =I7/$I$5*100 -> 100 | K7: А | L7: Очень высокий уровень открытости бюджетных данных
A8: 3 | B8: Муниципальное образование «Майминский район» | C8: ='Рейтинг Раздел 1'!D8 -> 4 | D8: ='Рейтинг Раздел 2'!D8 -> 4 | E8: ='Рейтинг Раздел 3'!D8 -> 4 | F8: ='Рейтинг Раздел 4'!D8 -> 8 | G8: ='Рейтинг Раздел 5'!D8 -> 8 | H8: ='Рейтинг Раздел 6'!D8 -> 8 | I8: =SUM(C8:H8) -> 36 | J8: =I8/$I$5*100 -> 100 | K8: А | L8: Очень высокий уровень открытости бюджетных данных
A9: 4 | B9: Муниципальное образование «Онгудайский район» | C9: ='Рейтинг Раздел 1'!D9 -> 4 | D9: ='Рейтинг Раздел 2'!D9 -> 4 | E9: ='Рейтинг Раздел 3'!D9 -> 4 | F9: ='Рейтинг Раздел 4'!D9 -> 8 | G9: ='Рейтинг Раздел 5'!D9 -> 8 | H9: ='Рейтинг Раздел 6'!D9 -> 8 | I9: =SUM(C9:H9) -> 36 | J9: =I9/$I$5*100 -> 100 | K9: А | L9: Очень высокий уровень открытости бюджетных данных
A10: 5 | B10: Муниципальное образование «Чемальский район» | C10: ='Рейтинг Раздел 1'!D14 -> 4 | D10: ='Рейтинг Раздел 2'!D14 -> 4 | E10: ='Рейтинг Раздел 3'!D14 -> 4 | F10: ='Рейтинг Раздел 4'!D14 -> 8 | G10: ='Рейтинг Раздел 5'!D14 -> 8 | H10: ='Рейтинг Раздел 6'!D14 -> 8 | I10: =SUM(C10:H10) -> 36 | J10: =I10/$I$5*100 -> 100 | K10: А | L10: Очень высокий уровень открытости бюджетных данных
A11: 6 | B11: Муниципальное образование «Турочакский район» | C11: ='Рейтинг Раздел 1'!D10 -> 4 | D11: ='Рейтинг Раздел 2'!D10 -> 4 | E11: ='Рейтинг Раздел 3'!D10 -> 4 | F11: ='Рейтинг Раздел 4'!D10 -> 8 | G11: ='Рейтинг Раздел 5'!D10 -> 4 | H11: ='Рейтинг Раздел 6'!D10 -> 6 | I11: =SUM(C11:H11) -> 30 | J11: =I11/$I$5*100 -> 83.333333 | K11: А | L11: Очень высокий уровень открытости бюджетных данных
A12: 7 | B12: Муниципальное образование «Усть-Коксинский район» | C12: ='Рейтинг Раздел 1'!D13 -> 4 | D12: ='Рейтинг Раздел 2'!D13 -> 2 | E12: ='Рейтинг Раздел 3'!D13 -> 4 | F12: ='Рейтинг Раздел 4'!D13 -> 8 | G12: ='Рейтинг Раздел 5'!D13 -> 6 | H12: ='Рейтинг Раздел 6'!D13 -> 4 | I12: =SUM(C12:H12) -> 28 | J12: =I12/$I$5*100 -> 77.777778 | K12: B | L12: Высокий уровень открытости бюджетных данных
A13: 8 | B13: Муниципальное образование «Улаганский район» | C13: ='Рейтинг Раздел 1'!D11 -> 4 | D13: ='Рейтинг Раздел 2'!D11 -> 2 | E13: ='Рейтинг Раздел 3'!D11 -> 4 | F13: ='Рейтинг Раздел 4'!D11 -> 8 | G13: ='Рейтинг Раздел 5'!D11 -> 6 | H13: ='Рейтинг Раздел 6'!D11 -> 0 | I13: =SUM(C13:H13) -> 24 | J13: =I13/$I$5*100 -> 66.666667 | K13: B | L13: Высокий уровень открытости бюджетных данных
A14: 9 | B14: Муниципальное образование «Усть-Канский район» | C14: ='Рейтинг Раздел 1'!D12 -> 4 | D14: ='Рейтинг Раздел 2'!D12 -> 2 | E14: ='Рейтинг Раздел 3'!D12 -> 4 | F14: ='Рейтинг Раздел 4'!D12 -> 8 | G14: ='Рейтинг Раздел 5'!D12 -> 2 | H14: ='Рейтинг Раздел 6'!D12 -> 4 | I14: =SUM(C14:H14) -> 24 | J14: =I14/$I$5*100 -> 66.666667 | K14: B | L14: Высокий уровень открытости бюджетных данных
A15: 10 | B15: Муниципальное образование «Чойский район» | C15: ='Рейтинг Раздел 1'!D15 -> 4 | D15: ='Рейтинг Раздел 2'!D15 -> 2 | E15: ='Рейтинг Раздел 3'!D15 -> 4 | F15: ='Рейтинг Раздел 4'!D15 -> 8 | G15: ='Рейтинг Раздел 5'!D15 -> 0 | H15: ='Рейтинг Раздел 6'!D15 -> 0 | I15: =SUM(C15:H15) -> 18 | J15: =I15/$I$5*100 -> 50 | K15: C | L15: Средний уровень открытости бюджетных данных
A16: 11 | B16: Муниципальное образование «Шебалинский район» | C16: ='Рейтинг Раздел 1'!D16 -> 1 | D16: ='Рейтинг Раздел 2'!D16 -> 0 | E16: ='Рейтинг Раздел 3'!D16 -> 4 | F16: ='Рейтинг Раздел 4'!D16 -> 8 | G16: ='Рейтинг Раздел 5'!D16 -> 0 | H16: ='Рейтинг Раздел 6'!D16 -> 0 | I16: =SUM(C16:H16) -> 13 | J16: =I16/$I$5*100 -> 36.111111 | K16: D | L16: Низкий уровень открытости бюджетных данных

Sheet Рейтинг Раздел 1
A1: Результаты оценки уровня открытости бюджетных данных муниципальных образований в Республике Алтай по разделу 1 "Первоначально утвержденный бюджет" на 2024 год
A3: Наименование муниципального образования в Республике Алтай | B3: % от максимального количества баллов по разделу 1 | C3: Максимальное количество баллов | D3: Итого по разделу 1 | E3: 1.1 Размещение первоначально утвержденного решения о бюджете МО в РА в открытом доступе на сайте, предназначенном для размещения бюджетных данных в информационно - телекоммуникационной сети «Интернет» (далее – сайт)
A4: Единица измерения | B4: % | C4: баллов | D4: баллов | E4: баллов
A5: Максимальное количество баллов | B5: Х | C5: 4 | D5: =+E5 -> 4 | E5: 4
A6: Город Горно-Алтайск | B6: =D6/C6*100 -> 100 | C6: 4 | D6: =+E6 -> 4 | E6: =+'Оценка 1.1.'!C7 -> 4
A7: Муниципальное образование «Кош-Агачский район» | B7: =D7/C7*100 -> 100 | C7: 4 | D7: =+E7 -> 4 | E7: =+'Оценка 1.1.'!C8 -> 4
A8: Муниципальное образование «Майминский район» | B8: =D8/C8*100 -> 100 | C8: 4 | D8: =+E8 -> 4 | E8: =+'Оценка 1.1.'!C9 -> 4
A9: Муниципальное образование «Онгудайский район» | B9: =D9/C9*100 -> 100 | C9: 4 | D9: =+E9 -> 4 | E9: =+'Оценка 1.1.'!C10 -> 4
A10: Муниципальное образование «Турочакский район» | B10: =D10/C10*100 -> 100 | C10: 4 | D10: =+E10 -> 4 | E10: =+'Оценка 1.1.'!C11 -> 4
A11: Муниципальное образование «Улаганский район» | B11: =D11/C11*100 -> 100 | C11: 4 | D11: =+E11 -> 4 | E11: =+'Оценка 1.1.'!C12 -> 4
A12: Муниципальное образование «Усть-Канский район» | B12: =D12/C12*100 -> 100 | C12: 4 | D12: =+E12 -> 4 | E12: =+'Оценка 1.1.'!C13 -> 4
A13: Муниципальное образование «Усть-Коксинский район» | B13: =D13/C13*100 -> 100 | C13: 4 | D13: =+E13 -> 4 | E13: =+'Оценка 1.1.'!C14 -> 4
A14: Муниципальное образование «Чемальский район» | B14: =D14/C14*100 -> 100 | C14: 4 | D14: 4 | E14: 4
A15: Муниципальное образование «Чойский район» | B15: =D15/C15*100 -> 100 | C15: 4 | D15: =+E15 -> 4 | E15: =+'Оценка 1.1.'!C16 -> 4
A16: Муниципальное образование «Шебалинский район» | B16: =D16/C16*100 -> 25 | C16: 4 | D16: =+E16 -> 1 | E16: =+'Оценка 1.1.'!C17 -> 1

Sheet Оценка 1.1.
A1: Исходные данные и оценка показателя "1.1 Размещение первоначально утвержденного решения о бюджете МО в открытом доступе на сайте, предназначенном для размещения бюджетных данных в информационно - телекоммуникационной сети «Интернет» (далее - сайт)"
A3: Наименование муниципального образования в Республике Алтай | B3: 1.1 Размещение первоначально утвержденного решения о бюджете МО в открытом доступе на сайте, предназначенном для размещения бюджетных данных в информационно - телекоммуникационной сети «Интернет» (далее - сайт) | C3: Оценка показателя 1.1 (баллы)
B4: Да, размещено и отвечает требованиям | C4: 4
B5: Да, размещено, но в неструктурированном виде | C5: 1
B6: Нет, не размещено или не отвечает требованиям | C6: 0
A7: Город Горно-Алтайск | B7: Да, размещено и отвечает требованиям | C7: 4
A8: Муниципальное образование «Кош-Агачский район» | B8: Да, размещено и отвечает требованиям | C8: 4
A9: Муниципальное образование «Майминский район» | B9: Да, размещено и отвечает требованиям | C9: 4
A10: Муниципальное образование «Онгудайский район» | B10: Да, размещено и отвечает требованиям | C10: 4
A11: Муниципальное образование «Турочакский район» | B11: Да, размещено и отвечает требованиям | C11: 4
A12: Муниципальное образование «Улаганский район» | B12: Да, размещено и отвечает требованиям | C12: 4
A13: Муниципальное образование «Усть-Канский район» | B13: Да, размещено и отвечает требованиям | C13: 4
A14: Муниципальное образование «Усть-Коксинский район» | B14: Да, размещено и отвечает требованиям | C14: 4
A15: Муниципальное образование «Чемальский район» | B15: Да, размещено и отвечает требованиям | C15: 4
A16: Муниципальное образование «Чойский район» | B16: Да, размещено и отвечает требованиям | C16: 4
A17: Муниципальное образование «Шебалинский район» | B17: Да, размещено, но в неструктурированном виде | C17: 1

Sheet Рейтинг Раздел 2
A1: Результаты оценки уровня открытости бюджетных данных муниципальных образований в Республике Алтай по разделу 2 "Внесение изменений в решение о бюджете МО в РА"
A3: Наименование муниципального образования в Республике Алтай | B3: % от максимального количества баллов по разделу 2 | C3: Максимальное количество баллов | D3: Итого по разделу 2 | E3: 2.1. Размещение на сайте МО в РА проектов решений о внесении изменений в бюджет МО в РА на 2024 год и на плановый период 2025 и 2026 годов. | F3: 2.2. Размещение на сайте МО в РА актуализированной версии решения о бюджете МО в РА на 2024 год и на плановый период 2025 и 2026годов с учетом внесенных изменений.
A4: Единица измерения | B4: % | C4: баллов | D4: баллов | E4: баллов | F4: баллов
A5: Максимальное количество баллов | B5: Х | C5: 4 | D5: =+E5+F5 -> 4 | E5: 2 | F5: 2
A6: Город Горно-Алтайск | B6: =D6/C6*100 -> 100 | C6: 4 | D6: =+E6+F6 -> 4 | E6: =+'Оценка 2.1.'!C6 -> 2 | F6: =+'Оценка 2.2.'!C6 -> 2
A7: Муниципальное образование «Кош-Агачский район» | B7: =D7/C7*100 -> 100 | C7: 4 | D7: =+E7+F7 -> 4 | E7: =+'Оценка 2.1.'!C7 -> 2 | F7: =+'Оценка 2.2.'!C7 -> 2
A8: Муниципальное образование «Майминский район» | B8: =D8/C8*100 -> 100 | C8: 4 | D8: =+E8+F8 -> 4 | E8: =+'Оценка 2.1.'!C8 -> 2 | F8: =+'Оценка 2.2.'!C8 -> 2
A9: Муниципальное образование «Онгудайский район» | B9: =D9/C9*100 -> 100 | C9: 4 | D9: =+E9+F9 -> 4 | E9: =+'Оценка 2.1.'!C9 -> 2 | F9: =+'Оценка 2.2.'!C9 -> 2
A10: Муниципальное образование «Турочакский район» | B10: =D10/C10*100 -> 100 | C10: 4 | D10: =+E10+F10 -> 4 | E10: =+'Оценка 2.1.'!C10 -> 2 | F10: =+'Оценка 2.2.'!C10 -> 2
A11: Муниципальное образование «Улаганский район» | B11: =D11/C11*100 -> 50 | C11: 4 | D11: =+E11+F11 -> 2 | E11: =+'Оценка 2.1.'!C11 -> 2 | F11: =+'Оценка 2.2.'!C11 -> 0
A12: Муниципальное образование «Усть-Канский район» | B12: =D12/C12*100 -> 50 | C12: 4 | D12: =+E12+F12 -> 2 | E12: =+'Оценка 2.1.'!C12 -> 2 | F12: =+'Оценка 2.2.'!C12 -> 0
A13: Муниципальное образование «Усть-Коксинский район» | B13: =D13/C13*100 -> 50 | C13: 4 | D13: =+E13+F13 -> 2 | E13: =+'Оценка 2.1.'!C13 -> 2 | F13: =+'Оценка 2.2.'!C13 -> 0
A14: Муниципальное образование «Чемальский район» | B14: =D14/C14*100 -> 100 | C14: 4 | D14: =+E14+F14 -> 4 | E14: =+'Оценка 2.1.'!C14 -> 2 | F14: =+'Оценка 2.2.'!C14 -> 2
A15: Муниципальное образование «Чойский район» | B15: =D15/C15*100 -> 50 | C15: 4 | D15: =+E15+F15 -> 2 | E15: =+'Оценка 2.1.'!C15 -> 2 | F15: =+'Оценка 2.2.'!C15 -> 0
A16: Муниципальное образование «Шебалинский район» | B16: =D16/C16*100 -> 0 | C16: 4 | D16: =+E16+F16 -> 0 | E16: =+'Оценка 2.1.'!C16 -> 0 | F16: =+'Оценка 2.2.'!C16 -> 0

Sheet Оценка 2.1.
A1: Исходные данные и оценка показателя "2.1 Размещение на сайте МО решений о внесении изменений в бюджет МО."
A3: Наименование муниципального образования в Республике Алтай | B3: 2.1 Размещение на сайте МО решений о внесении изменений в бюджет МО. | C3: Оценка показателя 2.1 (баллы)
B4: Да, размещены и отвечают требованиям | C4: 2
B5: Нет, в установленные сроки не размещаются или размещаются в отдельных случаях, или не отвечают требованиям | C5: 0
A6: Город Горно-Алтайск | B6: Да, размещены и отвечают требованиям | C6: 2
A7: Муниципальное образование «Кош-Агачский район» | B7: Да, размещены и отвечают требованиям | C7: 2
A8: Муниципальное образование «Майминский район» | B8: Да, размещены и отвечают требованиям | C8: 2
A9: Муниципальное образование «Онгудайский район» | B9: Да, размещены и отвечают требованиям | C9: 2
A10: Муниципальное образование «Турочакский район» | B10: Да, размещены и отвечают требованиям | C10: 2
A11: Муниципальное образование «Улаганский район» | B11: Да, размещены и отвечают требованиям | C11: 2
A12: Муниципальное образование «Усть-Канский район» | B12: Да, размещены и отвечают требованиям | C12: 2
A13: Муниципальное образование «Усть-Коксинский район» | B13: Да, размещены и отвечают требованиям | C13: 2
A14: Муниципальное образование «Чемальский район» | B14: Да, размещены и отвечают требованиям | C14: 2
A15: Муниципальное образование «Чойский район» | B15: Да, размещены и отвечают требованиям | C15: 2
A16: Муниципальное образование «Шебалинский район» | B16: Да, размещено, но не отвечают требованиям | C16: 0

Sheet Оценка 2.2.
A1: Исходные данные и оценка показателя "2.2 Размещение на сайте МО актуализированной версии решения о бюджете МО с учетом внесенных изменений."
A3: Наименование муниципального образования в Республике Алтай | B3: 2.2 Размещение на сайте МО актуализированной версии решения о бюджете МО с учетом внесенных изменений. | C3: Оценка показателя 2.2. (баллы)
B4: Да, размещаются и отвечают требованиям | C4: 2
B5: Нет, в установленные сроки не размещаются или размещаются в отдельных случаях, или не отвечают требованиям | C5: 0
A6: Город Горно-Алтайск | B6: Да, размещено и отвечает требованиям | C6: 2
A7: Муниципальное образование «Кош-Агачский район» | B7: Да, размещено и отвечает требованиям | C7: 2
A8: Муниципальное образование «Майминский район» | B8: Да, размещено и отвечает требованиям | C8: 2
A9: Муниципальное образование «Онгудайский район» | B9: Да, размещено и отвечает требованиям | C9: 2
A10: Муниципальное образование «Турочакский район» | B10: Да, размещено и отвечает требованиям | C10: 2
A11: Муниципальное образование «Улаганский район» | B11: Данные отсутсвуют | C11: 0
A12: Муниципальное образование «Усть-Канский район» | B12: Данные отсутсвуют | C12: 0
A13: Муниципальное образование «Усть-Коксинский район» | B13: Да, размещено и отвечает требованиям | C13: 0
A14: Муниципальное образование «Чемальский район» | B14: Да, размещено и отвечает требованиям | C14: 2
A15: Муниципальное образование «Чойский район» | B15: Данные отсутсвуют | C15: 0
A16: Муниципальное образование «Шебалинский район» | B16: Данные отсутсвуют | C16: 0

Sheet Рейтинг Раздел 3
A1: Результаты оценки уровня открытости бюджетных данных муниципальных образований в Республике Алтай по разделу 3 " Промежуточная отчетность об исполнении бюджета МО в РА"
A3: Наименование муниципального образования в Республике Алтай | B3: % от максимального количества баллов по разделу 3 | C3: Максимальное количество баллов | D3: Итого по разделу 3 | E3: 3.1. Размещение на сайте МО, утвержденных органами местного самоуправления отчетов об исполнении бюджета МО за первый квартал, полугодие, девять месяцев текущего финансового года. | F3: 3.2. Размещение на сайте МО сведений об исполнении консолидированного бюджета МО по расходам в разрезе разделов и подразделов классификации расходов бюджетов за первый квартал, полугодие, девять месяцев текущего финансового года в сравнении с соответствующим периодом прошлого года
A4: Единица измерения | B4: % | C4: баллов | D4: баллов | E4: баллов | F4: баллов
A5: Максимальное количество баллов | B5: Х | C5: 4 | D5: =+E5+F5 -> 4 | E5: 2 | F5: 2
A6: Город Горно-Алтайск | B6: =D6/C6*100 -> 100 | C6: 4 | D6: =+E6+F6 -> 4 | E6: =+'Оценка 3.1.'!C6 -> 2 | F6: =+'Оценка 3.2.'!C6 -> 2
A7: Муниципальное образование «Кош-Агачский район» | B7: =D7/C7*100 -> 100 | C7: 4 | D7: =+E7+F7 -> 4 | E7: =+'Оценка 3.1.'!C7 -> 2 | F7: =+'Оценка 3.2.'!C7 -> 2
A8: Муниципальное образование «Майминский район» | B8: =D8/C8*100 -> 100 | C8: 4 | D8: =+E8+F8 -> 4 | E8: =+'Оценка 3.1.'!C8 -> 2 | F8: =+'Оценка 3.2.'!C8 -> 2
A9: Муниципальное образование «Онгудайский район» | B9: =D9/C9*100 -> 100 | C9: 4 | D9: =+E9+F9 -> 4 | E9: =+'Оценка 3.1.'!C9 -> 2 | F9: =+'Оценка 3.2.'!C9 -> 2
A10: Муниципальное образование «Турочакский район» | B10: =D10/C10*100 -> 100 | C10: 4 | D10: =+E10+F10 -> 4 | E10: =+'Оценка 3.1.'!C10 -> 2 | F10: =+'Оценка 3.2.'!C10 -> 2
A11: Муниципальное образование «Улаганский район» | B11: =D11/C11*100 -> 100 | C11: 4 | D11: =+E11+F11 -> 4 | E11: =+'Оценка 3.1.'!C11 -> 2 | F11: =+'Оценка 3.2.'!C11 -> 2
A12: Муниципальное образование «Усть-Канский район» | B12: =D12/C12*100 -> 100 | C12: 4 | D12: =+E12+F12 -> 4 | E12: =+'Оценка 3.1.'!C12 -> 2 | F12: =+'Оценка 3.2.'!C12 -> 2
A13: Муниципальное образование «Усть-Коксинский район» | B13: =D13/C13*100 -> 100 | C13: 4 | D13: =+E13+F13 -> 4 | E13: =+'Оценка 3.1.'!C13 -> 2 | F13: =+'Оценка 3.2.'!C13 -> 2
A14: Муниципальное образование «Чемальский район» | B14: =D14/C14*100 -> 100 | C14: 4 | D14: =+E14+F14 -> 4 | E14: =+'Оценка 3.1.'!C14 -> 2 | F14: =+'Оценка 3.2.'!C14 -> 2
A15: Муниципальное образование «Чойский район» | B15: =D15/C15*100 -> 100 | C15: 4 | D15: =+E15+F15 -> 4 | E15: =+'Оценка 3.1.'!C15 -> 2 | F15: =+'Оценка 3.2.'!C15 -> 2
A16: Муниципальное образование «Шебалинский район» | B16: =D16/C16*100 -> 100 | C16: 4 | D16: =+E16+F16 -> 4 | E16: =+'Оценка 3.1.'!C16 -> 2 | F16: =+'Оценка 3.2.'!C16 -> 2

Sheet Оценка 3.1.
A1: Исходные данные и оценка показателя "3.1. Размещение на сайте МО, утвержденных органами местного самоуправления отчетов об исполнении бюджета МО за первый квартал, полугодие, девять месяцев текущего финансового года."
A3: Наименование муниципального образования в Республике Алтай | B3: 3.1. Размещение на сайте МО, утвержденных органами местного самоуправления отчетов об исполнении бюджета МО за первый квартал, полугодие, девять месяцев текущего финансового года. | C3: Оценка показателя 3.1 (баллы)
B4: Да, размещены и отвечают требованиям | C4: 2
B5: Нет, не размещены, или размещены в отдельных случаях, или не отвечают требованиям | C5: 0
A6: Город Горно-Алтайск | B6: Да, размещены и отвечают требованиям | C6: 2
A7: Муниципальное образование «Кош-Агачский район» | B7: Да, размещены и отвечают требованиям | C7: 2
A8: Муниципальное образование «Майминский район» | B8: Да, размещены и отвечают требованиям | C8: 2
A9: Муниципальное образование «Онгудайский район» | B9: Да, размещены и отвечают требованиям | C9: 2
A10: Муниципальное образование «Турочакский район» | B10: Да, размещены и отвечают требованиям | C10: 2
A11: Муниципальное образование «Улаганский район» | B11: Да, размещены и отвечают требованиям | C11: 2
A12: Муниципальное образование «Усть-Канский район» | B12: Да, размещены и отвечают требованиям | C12: 2
A13: Муниципальное образование «Усть-Коксинский район» | B13: Да, размещены и отвечают требованиям | C13: 2
A14: Муниципальное образование «Чемальский район» | B14: Да, размещены и отвечают требованиям | C14: 2
A15: Муниципальное образование «Чойский район» | B15: Да, размещены и отвечают требованиям | C15: 2
A16: Муниципальное образование «Шебалинский район» | B16: Да, размещены и отвечают требованиям | C16: 2

Sheet Оценка 3.2.
A1: Исходные данные и оценка показателя "3.2. Размещение на сайте МО сведений об исполнении консолидированного бюджета МО по расходам в разрезе разделов и подразделов классификации расходов бюджетов за первый квартал, полугодие, девять месяцев текущего финансового года в сравнении с соответствующим периодом прошлого года."
A3: Наименование муниципального образования в Республике Алтай | B3: 3.2. Размещение на сайте МО сведений об исполнении консолидированного бюджета МО по расходам в разрезе разделов и подразделов классификации расходов бюджетов за первый квартал, полугодие, девять месяцев текущего финансового года в сравнении с соответствующим периодом прошлого года. | C3: Оценка показателя 3.2 (баллы)
B4: Да, размещаются и отвечают требованиям | C4: 2
B5: Нет, не размещаются или размещаются в отдельных случаях, или не отвечают требованиям | C5: 0
A6: Город Горно-Алтайск | B6: Да, размещаются и отвечают требованиям | C6: 2
A7: Муниципальное образование «Кош-Агачский район» | B7: Да, размещаются и отвечают требованиям | C7: 2
A8: Муниципальное образование «Майминский район» | B8: Да, размещаются и отвечают требованиям | C8: 2
A9: Муниципальное образование «Онгудайский район» | B9: Да, размещаются и отвечают требованиям | C9: 2
A10: Муниципальное образование «Турочакский район» | B10: Да, размещаются и отвечают требованиям | C10: 2
A11: Муниципальное образование «Улаганский район» | B11: Да, размещаются и отвечают требованиям | C11: 2
A12: Муниципальное образование «Усть-Канский район» | B12: Да, размещаются и отвечают требованиям | C12: 2
A13: Муниципальное образование «Усть-Коксинский район» | B13: Да, размещаются и отвечают требованиям | C13: 2
A14: Муниципальное образование «Чемальский район» | B14: Да, размещаются и отвечают требованиям | C14: 2
A15: Муниципальное образование «Чойский район» | B15: Да, размещаются и отвечают требованиям | C15: 2
A16: Муниципальное образование «Шебалинский район» | B16: Да, размещаются и отвечают требованиям | C16: 2

Sheet Рейтинг Раздел 4
A1: Результаты оценки уровня открытости бюджетных данных муниципальных образований в Республике Алтай по разделу 4 " Годовой отчет об исполнении бюджета МО в РА." за 2023 год
A3: Наименование муниципального образования в Республике Алтай | B3: % от максимального количества баллов по разделу 4 | C3: Максимальное количество баллов | D3: Итого по разделу 4 | E3: 4.1. Размещение на сайте МО проекта решения об исполнении бюджета МО за отчетный финансовый год. | F3: 4.2. Размещение на сайте МО в составе материалов к проекту решения об исполнении бюджета МО за отчетный финансовый год бюджетной отчетности об исполнении бюджета МО. | G3: 4.3. Размещение на сайте МО в составе материалов к проекту решения об исполнении бюджета МО за отчетный финансовый год бюджетной отчетности об исполнении консолидированного бюджета МО за отчетный финансовый год. | H3: 4.4. Размещение на сайте МО решения об исполнении бюджета МО за отчетный финансовый год.
A4: Единица измерения | B4: % | C4: баллов | D4: баллов | E4: баллов | F4: баллов | G4: баллов | H4: баллов
A5: Максимальное количество баллов | B5: Х | C5: 8 | D5: =+E5+F5+G5+H5 -> 8 | E5: 2 | F5: 2 | G5: 2 | H5: 2
A6: Город Горно-Алтайск | B6: =D6/C6*100 -> 100 | C6: 8 | D6: =+E6+F6+G6+H6 -> 8 | E6: =+'Оценка 4.1.'!C6 -> 2 | F6: =+'Оценка 4.2'!C6 -> 2 | G6: 2 | H6: =+'Оценка 4.4'!C6 -> 2
A7: Муниципальное образование «Кош-Агачский район» | B7: =D7/C7*100 -> 100 | C7: 8 | D7: =+E7+F7+G7+H7 -> 8 | E7: =+'Оценка 4.1.'!C7 -> 2 | F7: =+'Оценка 4.2'!C7 -> 2 | G7: =+'Оценка 4.3'!C7 -> 2 | H7: =+'Оценка 4.4'!C7 -> 2
A8: Муниципальное образование «Майминский район» | B8: =D8/C8*100 -> 100 | C8: 8 | D8: =+E8+F8+G8+H8 -> 8 | E8: =+'Оценка 4.1.'!C8 -> 2 | F8: =+'Оценка 4.2'!C8 -> 2 | G8: =+'Оценка 4.3'!C8 -> 2 | H8: =+'Оценка 4.4'!C8 -> 2
A9: Муниципальное образование «Онгудайский район» | B9: =D9/C9*100 -> 100 | C9: 8 | D9: =+E9+F9+G9+H9 -> 8 | E9: =+'Оценка 4.1.'!C9 -> 2 | F9: =+'Оценка 4.2'!C9 -> 2 | G9: =+'Оценка 4.3'!C9 -> 2 | H9: =+'Оценка 4.4'!C9 -> 2
A10: Муниципальное образование «Турочакский район» | B10: =D10/C10*100 -> 100 | C10: 8 | D10: =+E10+F10+G10+H10 -> 8 | E10: =+'Оценка 4.1.'!C10 -> 2 | F10: =+'Оценка 4.2'!C10 -> 2 | G10: =+'Оценка 4.3'!C10 -> 2 | H10: =+'Оценка 4.4'!C10 -> 2
A11: Муниципальное образование «Улаганский район» | B11: =D11/C11*100 -> 100 | C11: 8 | D11: =+E11+F11+G11+H11 -> 8 | E11: =+'Оценка 4.1.'!C11 -> 2 | F11: =+'Оценка 4.2'!C11 -> 2 | G11: =+'Оценка 4.3'!C11 -> 2 | H11: =+'Оценка 4.4'!C11 -> 2
A12: Муниципальное образование «Усть-Канский район» | B12: =D12/C12*100 -> 100 | C12: 8 | D12: =+E12+F12+G12+H12 -> 8 | E12: =+'Оценка 4.1.'!C12 -> 2 | F12: =+'Оценка 4.2'!C12 -> 2 | G12: =+'Оценка 4.3'!C12 -> 2 | H12: =+'Оценка 4.4'!C12 -> 2
A13: Муниципальное образование «Усть-Коксинский район» | B13: =D13/C13*100 -> 100 | C13: 8 | D13: =+E13+F13+G13+H13 -> 8 | E13: =+'Оценка 4.1.'!C13 -> 2 | F13: =+'Оценка 4.2'!C13 -> 2 | G13: =+'Оценка 4.3'!C13 -> 2 | H13: =+'Оценка 4.4'!C12 -> 2
A14: Муниципальное образование «Чемальский район» | B14: =D14/C14*100 -> 100 | C14: 8 | D14: =+E14+F14+G14+H14 -> 8 | E14: =+'Оценка 4.1.'!C14 -> 2 | F14: =+'Оценка 4.2'!C14 -> 2 | G14: =+'Оценка 4.3'!C14 -> 2 | H14: =+'Оценка 4.4'!C14 -> 2
A15: Муниципальное образование «Чойский район» | B15: =D15/C15*100 -> 100 | C15: 8 | D15: =+E15+F15+G15+H15 -> 8 | E15: =+'Оценка 4.1.'!C15 -> 2 | F15: =+'Оценка 4.2'!C15 -> 2 | G15: =+'Оценка 4.3'!C15 -> 2 | H15: =+'Оценка 4.4'!C15 -> 2
A16: Муниципальное образование «Шебалинский район» | B16: =D16/C16*100 -> 100 | C16: 8 | D16: =+E16+F16+G16+H16 -> 8 | E16: =+'Оценка 4.1.'!C16 -> 2 | F16: =+'Оценка 4.2'!C16 -> 2 | G16: =+'Оценка 4.3'!C16 -> 2 | H16: =+'Оценка 4.4'!C16 -> 2

Sheet Оценка 4.1.
A1: Исходные данные и оценка показателя "4.1. Размещение на сайте МО проекта решения об исполнении бюджета МО за отчетный финансовый год. "
A3: Наименование муниципального образования в Республике Алтай | B3: 4.1. Размещение на сайте МО проекта решения об исполнении бюджета МО за отчетный финансовый год. | C3: Оценка показателя 4.1 (баллы)
B4: Да, размещен и отвечает требованиям | C4: 2
B5: Нет, не размещен или не отвечает требованиям | C5: 0
A6: Город Горно-Алтайск | B6: Да, размещен и отвечает требованиям | C6: 2
A7: Муниципальное образование «Кош-Агачский район» | B7: Да, размещен и отвечает требованиям | C7: 2
A8: Муниципальное образование «Майминский район» | B8: Да, размещены и отвечают требованиям | C8: 2
A9: Муниципальное образование «Онгудайский район» | B9: Да, размещен и отвечает требованиям | C9: 2
A10: Муниципальное образование «Турочакский район» | B10: Да, размещен и отвечает требованиям | C10: 2
A11: Муниципальное образование «Улаганский район» | B11: Да, размещен и отвечает требованиям | C11: 2
A12: Муниципальное образование «Усть-Канский район» | B12: Да, размещены и отвечают требованиям | C12: 2
A13: Муниципальное образование «Усть-Коксинский район» | B13: Да, размещены и отвечают требованиям | C13: 2
A14: Муниципальное образование «Чемальский район» | B14: Да, размещены и отвечают требованиям | C14: 2
A15: Муниципальное образование «Чойский район» | B15: Да, размещены и отвечают требованиям | C15: 2
A16: Муниципальное образование «Шебалинский район» | B16: Да, размещены и отвечают требованиям | C16: 2

Sheet Оценка 4.2
A1: Исходные данные и оценка показателя "4.2. Размещение на сайте МО в составе материалов к проекту решения об исполнении бюджета МО за отчетный финансовый год бюджетной отчетности об исполнении бюджета МО. "
A3: Наименование муниципального образования в Республике Алтай | B3: 4.2. Размещение на сайте МО в составе материалов к проекту решения об исполнении бюджета МО за отчетный финансовый год бюджетной отчетности об исполнении бюджета МО. | C3: Оценка показателя 4.2 (баллы)
B4: Да, размещены и отвечают требованиям | C4: 2
B5: Нет, не размещены или не отвечают требованиям | C5: 0
A6: Город Горно-Алтайск | B6: Да, размещены и отвечают требованиям | C6: 2
A7: Муниципальное образование «Кош-Агачский район» | B7: Да, размещены и отвечают требованиям | C7: 2
A8: Муниципальное образование «Майминский район» | B8: Да, размещены и отвечают требованиям | C8: 2
A9: Муниципальное образование «Онгудайский район» | B9: Да, размещены и отвечают требованиям | C9: 2
A10: Муниципальное образование «Турочакский район» | B10: Да, размещены и отвечают требованиям | C10: 2
A11: Муниципальное образование «Улаганский район» | B11: Да, размещены и отвечают требованиям | C11: 2
A12: Муниципальное образование «Усть-Канский район» | B12: Да, размещены и отвечают требованиям | C12: 2
A13: Муниципальное образование «Усть-Коксинский район» | B13: Да, размещены и отвечают требованиям | C13: 2
A14: Муниципальное образование «Чемальский район» | B14: Да, размещены и отвечают требованиям | C14: 2
A15: Муниципальное образование «Чойский район» | B15: Да, размещены и отвечают требованиям | C15: 2
A16: Муниципальное образование «Шебалинский район» | B16: Да, размещены и отвечают требованиям | C16: 2

Sheet Оценка 4.3
A1: Исходные данные и оценка показателя "4.3.Размещение на сайте МО в составе материалов к проекту решения об исполнении бюджета МО за отчетный финансовый год бюджетной отчетности об исполнении консолидированного бюджета МО за отчетный финансовый год."
A3: Наименование муниципального образования в Республике Алтай | B3: 4.3. Размещение на сайте МО в составе материалов к проекту решения об исполнении бюджета МО за отчетный финансовый год бюджетной отчетности об исполнении консолидированного бюджета МО за отчетный финансовый год. | C3: Оценка показателя 4.3 (баллы)
B4: Да, размещены и отвечают требованиям | C4: 2
B5: Нет, не размещены или не отвечают требованиям | C5: 0
A6: Город Горно-Алтайск | B6: Да, размещены и отвечают требованиям | C6: 2
A7: Муниципальное образование «Кош-Агачский район» | B7: Да, размещены и отвечают требованиям | C7: 2
A8: Муниципальное образование «Майминский район» | B8: Да, размещены и отвечают требованиям | C8: 2
A9: Муниципальное образование «Онгудайский район» | B9: Да, размещены и отвечают требованиям | C9: 2
A10: Муниципальное образование «Турочакский район» | B10: Да, размещены и отвечают требованиям | C10: 2
A11: Муниципальное образование «Улаганский район» | B11: Да, размещены и отвечают требованиям | C11: 2
A12: Муниципальное образование «Усть-Канский район» | B12: Да, размещены и отвечают требованиям | C12: 2
A13: Муниципальное образование «Усть-Коксинский район» | B13: Да, размещены и отвечают требованиям | C13: 2
A14: Муниципальное образование «Чемальский район» | B14: Да, размещены и отвечают требованиям | C14: 2
A15: Муниципальное образование «Чойский район» | B15: Да, размещены и отвечают требованиям | C15: 2
A16: Муниципальное образование «Шебалинский район» | B16: Да, размещены и отвечают требованиям | C16: 2

Sheet Оценка 4.4
A1: Исходные данные и оценка показателя "Размещение на сайте МО решения об исполнении бюджета МО за отчетный финансовый год."
A3: Наименование муниципального образования в Республике Алтай | B3: 4.4. Размещение на сайте МО решения об исполнении бюджета МО за отчетный финансовый год. | C3: Оценка показателя 4.4 (баллы)
B4: Да, размещены и отвечают требованиям | C4: 2
B5: Нет, не размещены или не отвечают требованиям | C5: 0
A6: Город Горно-Алтайск | B6: Да, размещены и отвечают требованиям | C6: 2
A7: Муниципальное образование «Кош-Агачский район» | B7: Да, размещены и отвечают требованиям | C7: 2
A8: Муниципальное образование «Майминский район» | B8: Да, размещены и отвечают требованиям | C8: 2
A9: Муниципальное образование «Онгудайский район» | B9: Да, размещены и отвечают требованиям | C9: 2
A10: Муниципальное образование «Турочакский район» | B10: Да, размещены и отвечают требованиям | C10: 2
A11: Муниципальное образование «Улаганский район» | B11: Да, размещены и отвечают требованиям | C11: 2
A12: Муниципальное образование «Усть-Канский район» | B12: Да, размещены и отвечают требованиям | C12: 2
A13: Муниципальное образование «Усть-Коксинский район» | B13: Да, размещены и отвечают требованиям | C13: 2
A14: Муниципальное образование «Чемальский район» | B14: Да, размещены и отвечают требованиям | C14: 2
A15: Муниципальное образование «Чойский район» | B15: Да, размещены и отвечают требованиям | C15: 2
A16: Муниципальное образование «Шебалинский район» | B16: Да, размещены и отвечают требованиям | C16: 2

Sheet Рейтинг Раздел 5
A1: Результаты оценки уровня открытости бюджетных данных муниципальных образований в Республике Алтай по разделу 5 "Проект решения о бюджете МО в РА и материалы к нему"
A3: Наименование муниципального образования в Республике Алтай | B3: % от максимального количества баллов по разделу 5 | C3: Максимальное количество баллов | D3: Итого по разделу 5 | E3: 5.1.Размещение проекта решения о бюджете МО в открытом доступе на сайте МО. | F3: 5.2 Размещение на сайте МО сведений о хронологии рассмотрения и утверждения проекта решения о бюджете МО | G3: 5.3. Размещение на сайте МО в материалах к проекту бюджета МО прогноза социально-экономического развития МО на среднесрочный период.
A4: Единица измерения | B4: % | C4: баллов | D4: баллов | E4: баллов | F4: баллов | G4: баллов
A5: Максимальное количество баллов | B5: Х | C5: 8 | D5: =+E5+F5+G5 -> 8 | E5: 4 | F5: 2 | G5: 2
A6: Город Горно-Алтайск | B6: =D6/C6*100 -> 100 | C6: 8 | D6: =+E6+F6+G6 -> 8 | E6: =+'Оценка 5.1'!C6 -> 4 | F6: =+'Оценка 5.2'!C6 -> 2 | G6: =+'Оценка 5.3'!C6 -> 2
A7: Муниципальное образование «Кош-Агачский район» | B7: =D7/C7*100 -> 100 | C7: 8 | D7: =+E7+F7+G7 -> 8 | E7: =+'Оценка 5.1'!C7 -> 4 | F7: =+'Оценка 5.2'!C7 -> 2 | G7: =+'Оценка 5.3'!C7 -> 2
A8: Муниципальное образование «Майминский район» | B8: =D8/C8*100 -> 100 | C8: 8 | D8: =+E8+F8+G8 -> 8 | E8: =+'Оценка 5.1'!C8 -> 4 | F8: =+'Оценка 5.2'!C8 -> 2 | G8: =+'Оценка 5.3'!C8 -> 2
A9: Муниципальное образование «Онгудайский район» | B9: =D9/C9*100 -> 100 | C9: 8 | D9: =+E9+F9+G9 -> 8 | E9: =+'Оценка 5.1'!C9 -> 4 | F9: =+'Оценка 5.2'!C9 -> 2 | G9: =+'Оценка 5.3'!C9 -> 2
A10: Муниципальное образование «Турочакский район» | B10: =D10/C10*100 -> 50 | C10: 8 | D10: =+E10+F10+G10 -> 4 | E10: =+'Оценка 5.1'!C10 -> 4 | F10: =+'Оценка 5.2'!C10 -> 0 | G10: =+'Оценка 5.3'!C10 -> 0
A11: Муниципальное образование «Улаганский район» | B11: =D11/C11*100 -> 75 | C11: 8 | D11: =+E11+F11+G11 -> 6 | E11: =+'Оценка 5.1'!C11 -> 4 | F11: =+'Оценка 5.2'!C11 -> 0 | G11: =+'Оценка 5.3'!C11 -> 2
A12: Муниципальное образование «Усть-Канский район» | B12: =D12/C12*100 -> 25 | C12: 8 | D12: =+E12+F12+G12 -> 2 | E12: =+'Оценка 5.1'!C12 -> 0 | F12: =+'Оценка 5.2'!C12 -> 0 | G12: =+'Оценка 5.3'!C12 -> 2
A13: Муниципальное образование «Усть-Коксинский район» | B13: =D13/C13*100 -> 75 | C13: 8 | D13: =+E13+F13+G13 -> 6 | E13: =+'Оценка 5.1'!C13 -> 4 | F13: =+'Оценка 5.2'!C13 -> 2 | G13: =+'Оценка 5.3'!C13 -> 0
A14: Муниципальное образование «Чемальский район» | B14: =D14/C14*100 -> 100 | C14: 8 | D14: =+E14+F14+G14 -> 8 | E14: =+'Оценка 5.1'!C14 -> 4 | F14: =+'Оценка 5.2'!C14 -> 2 | G14: =+'Оценка 5.3'!C14 -> 2
A15: Муниципальное образование «Чойский район» | B15: =D15/C15*100 -> 0 | C15: 8 | D15: =+E15+F15+G15 -> 0 | E15: =+'Оценка 5.1'!C15 -> 0 | F15: =+'Оценка 5.2'!C15 -> 0 | G15: =+'Оценка 5.3'!C15 -> 0
A16: Муниципальное образование «Шебалинский район» | B16: =D16/C16*100 -> 0 | C16: 8 | D16: =+E16+F16+G16 -> 0 | E16: =+'Оценка 5.1'!C16 -> 0 | F16: =+'Оценка 5.2'!C16 -> 0 | G16: =+'Оценка 5.3'!C16 -> 0

Sheet Оценка 5.1
A1: Исходные данные и оценка показателя "5.1. Размещение проекта решения о бюджете МО в открытом доступе на сайте МО."
A3: Наименование муниципального образования в Республике Алтай | B3: 5.1. Размещение проекта решения о бюджете МО в открытом доступе на сайте МО. | C3: Оценка показателя 5.1 (баллы)
B4: Да, размещены и отвечают требованиям | C4: 4
B5: Нет, не размещены или не отвечают требованиям | C5: 0
A6: Город Горно-Алтайск | B6: Да, размещен и отвечает требованиям | C6: 4
A7: Муниципальное образование «Кош-Агачский район» | B7: Да, размещен и отвечает требованиям | C7: 4
A8: Муниципальное образование «Майминский район» | B8: Да, размещен и отвечает требованиям | C8: 4
A9: Муниципальное образование «Онгудайский район» | B9: Да, размещено и отвечает требованиям | C9: 4
A10: Муниципальное образование «Турочакский район» | B10: Да, размещено и отвечает требованиям | C10: 4
A11: Муниципальное образование «Улаганский район» | B11: Да, размещен и отвечает требованиям | C11: 4
A12: Муниципальное образование «Усть-Канский район» | B12: Данные отсутствуют | C12: 0
A13: Муниципальное образование «Усть-Коксинский район» | B13: Да, размещен и отвечает требованиям | C13: 4
A14: Муниципальное образование «Чемальский район» | B14: Да, размещен и отвечает требованиям | C14: 4
A15: Муниципальное образование «Чойский район» | B15: Данные отсутствуют | C15: 0
A16: Муниципальное образование «Шебалинский район» | B16: Данные отсутствуют | C16: 0

Sheet Оценка 5.2
A1: Исходные данные и оценка показателя "5.2.Размещение на сайте МО сведений о хронологии рассмотрения и утверждения проекта решения о бюджете МО"
A3: Наименование муниципального образования в Республике Алтай | B3: 5.2 Размещение на сайте МО сведений о хронологии рассмотрения и утверждения проекта решения о бюджете МО | C3: Оценка показателя 5.2 (баллы)
B4: Да, размещаются и отвечают требованиям | C4: 2
B5: Нет, не размещаются или их поиск затруднен | C5: 0
A6: Город Горно-Алтайск | B6: Да, размещаются и отвечают требованиям | C6: 2
A7: Муниципальное образование «Кош-Агачский район» | B7: Да, размещаются и отвечают требованиям | C7: 2
A8: Муниципальное образование «Майминский район» | B8: Да, размещаются и отвечают требованиям | C8: 2
A9: Муниципальное образование «Онгудайский район» | B9: Да, размещаются и отвечают требованиям | C9: 2
A10: Муниципальное образование «Турочакский район» | B10: Данные отсуствуют | C10: 0
A11: Муниципальное образование «Улаганский район» | B11: Данные отсуствуют | C11: 0
A12: Муниципальное образование «Усть-Канский район» | B12: Данные отсуствуют | C12: 0
A13: Муниципальное образование «Усть-Коксинский район» | B13: Да, размещаются и отвечают требованиям | C13: 2
A14: Муниципальное образование «Чемальский район» | B14: Да, размещаются и отвечают требованиям | C14: 2
A15: Муниципальное образование «Чойский район» | B15: Данные отсуствуют | C15: 0
A16: Муниципальное образование «Шебалинский район» | B16: Данные отсуствуют | C16: 0

Sheet Оценка 5.3
A1: Исходные данные и оценка показателя "5.3. Размещение на сайте МО в материалах к проекту бюджета МО прогноза социально-экономического развития МО на среднесрочный период."
A3: Наименование муниципального образования в Республике Алтай | B3: 5.3. Размещение на сайте МО в материалах к проекту бюджета МО прогноза социально-экономического развития МО на среднесрочный период. | C3: Оценка показателя 5.2 (баллы)
B4: Да, содержится | C4: 2
B5: Нет, в установленные сроки не содержится или не отвечает требованиям | C5: 0
A6: Город Горно-Алтайск | B6: Да, содержится | C6: 2
A7: Муниципальное образование «Кош-Агачский район» | B7: Да, содержится | C7: 2
A8: Муниципальное образование «Майминский район» | B8: Да, содержится | C8: 2
A9: Муниципальное образование «Онгудайский район» | B9: Да, содержится | C9: 2
A10: Муниципальное образование «Турочакский район» | B10: Нет, в установленные сроки не содержится или не отвечает требованиям | C10: 0
A11: Муниципальное образование «Улаганский район» | B11: Да, содержится | C11: 2
A12: Муниципальное образование «Усть-Канский район» | B12: Да, содержится | C12: 2
A13: Муниципальное образование «Усть-Коксинский район» | B13: Нет, в установленные сроки не содержится или не отвечает требованиям | C13: 0
A14: Муниципальное образование «Чемальский район» | B14: Да, содержится | C14: 2
A15: Муниципальное образование «Чойский район» | B15: Нет, в установленные сроки не содержится или не отвечает требованиям | C15: 0
A16: Муниципальное образование «Шебалинский район» | B16: Нет, в установленные сроки не содержится или не отвечает требованиям | C16: 0

Sheet Рейтинг Раздел 6
A1: Результаты оценки уровня открытости бюджетных данных муниципальных образований в Республике Алтай по разделу 6 "Бюджет для граждан"
A3: Наименование субъекта Российской Федерации | B3: % от максимального количества баллов по разделу 6 | C3: Максимальное количество баллов | D3: Итого по разделу 6 | E3: 6.1. Обеспечение доведения до общественности в доступной форме аналитической информации о принятом решении о бюджете МО на очередной финансовый год и на плановый период посредством размещения на сайте МО «Бюджета для граждан». | F3: 6.2. Обеспечение доведения до общественности в доступной форме информации об исполнении бюджета МО за отчетный год посредством размещения на сайте МО «Бюджета для граждан», разработанного на основе годового отчета об исполнении решения о бюджете МО за отчетный год. | G3: 6.3.Участие МО текущем году в региональном конкурсе творческих проектов по представлению бюджета для граждан.
A4: Единица измерения | B4: % | C4: баллов | D4: баллов | E4: баллов | F4: баллов | G4: баллов
A5: Максимальное количество баллов | B5: Х | C5: 8 | D5: =+E5+F5+G5 -> 8 | E5: 2 | F5: 2 | G5: 4
A6: Город Горно-Алтайск | B6: =D6/C6*100 -> 100 | C6: 8 | D6: =+E6+F6+G6 -> 8 | E6: =+'Оценка 6.1'!C6 -> 2 | F6: =+'Оценка 6.2'!C6 -> 2 | G6: =+'Оценка 6.3'!C6 -> 4
A7: Муниципальное образование «Кош-Агачский район» | B7: =D7/C7*100 -> 100 | C7: 8 | D7: =+E7+F7+G7 -> 8 | E7: =+'Оценка 6.1'!C7 -> 2 | F7: =+'Оценка 6.2'!C7 -> 2 | G7: =+'Оценка 6.3'!C7 -> 4
A8: Муниципальное образование «Майминский район» | B8: =D8/C8*100 -> 100 | C8: 8 | D8: =+E8+F8+G8 -> 8 | E8: =+'Оценка 6.1'!C8 -> 2 | F8: =+'Оценка 6.2'!C8 -> 2 | G8: =+'Оценка 6.3'!C8 -> 4
A9: Муниципальное образование «Онгудайский район» | B9: =D9/C9*100 -> 100 | C9: 8 | D9: =+E9+F9+G9 -> 8 | E9: =+'Оценка 6.1'!C9 -> 2 | F9: =+'Оценка 6.2'!C9 -> 2 | G9: =+'Оценка 6.3'!C9 -> 4
A10: Муниципальное образование «Турочакский район» | B10: =D10/C10*100 -> 75 | C10: 8 | D10: =+E10+F10+G10 -> 6 | E10: =+'Оценка 6.1'!C10 -> 0 | F10: =+'Оценка 6.2'!C10 -> 2 | G10: =+'Оценка 6.3'!C10 -> 4
A11: Муниципальное образование «Улаганский район» | B11: =D11/C11*100 -> 0 | C11: 8 | D11: =+E11+F11+G11 -> 0 | E11: =+'Оценка 6.1'!C11 -> 0 | F11: =+'Оценка 6.2'!C11 -> 0 | G11: =+'Оценка 6.3'!C11 -> 0
A12: Муниципальное образование «Усть-Канский район» | B12: =D12/C12*100 -> 50 | C12: 8 | D12: =+E12+F12+G12 -> 4 | E12: =+'Оценка 6.1'!C12 -> 0 | F12: =+'Оценка 6.2'!C12 -> 0 | G12: =+'Оценка 6.3'!C12 -> 4
A13: Муниципальное образование «Усть-Коксинский район» | B13: =D13/C13*100 -> 50 | C13: 8 | D13: =+E13+F13+G13 -> 4 | E13: =+'Оценка 6.1'!C13 -> 0 | F13: =+'Оценка 6.2'!C13 -> 0 | G13: =+'Оценка 6.3'!C13 -> 4
A14: Муниципальное образование «Чемальский район» | B14: =D14/C14*100 -> 100 | C14: 8 | D14: =+E14+F14+G14 -> 8 | E14: =+'Оценка 6.1'!C14 -> 2 | F14: =+'Оценка 6.2'!C14 -> 2 | G14: =+'Оценка 6.3'!C14 -> 4
A15: Муниципальное образование «Чойский район» | B15: =D15/C15*100 -> 0 | C15: 8 | D15: =+E15+F15+G15 -> 0 | E15: =+'Оценка 6.1'!C15 -> 0 | F15: =+'Оценка 6.2'!C15 -> 0 | G15: =+'Оценка 6.3'!C15 -> 0
A16: Муниципальное образование «Шебалинский район» | B16: =D16/C16*100 -> 0 | C16: 8 | D16: =+E16+F16+G16 -> 0 | E16: =+'Оценка 6.1'!C16 -> 0 | F16: =+'Оценка 6.2'!C16 -> 0 | G16: =+'Оценка 6.3'!C16 -> 0

Sheet Оценка 6.1
A1: Исходные данные и оценка показателя "6.1. Обеспечение доведения до общественности в доступной форме аналитической информации о принятом решении о бюджете МО на очередной финансовый год и на плановый период посредством размещения на сайте МО «Бюджета для граждан»
A3: Наименование муниципального образования в Республике Алтай | B3: 6.1. Обеспечение доведения до общественности в доступной форме аналитической информации о принятом решении о бюджете МО на очередной финансовый год и на плановый период посредством размещения на сайте МО «Бюджета для граждан». | C3: Оценка показателя 6.1 (баллы)
B4: Да, доводилась | C4: 2
B5: Нет, не доводилась | C5: 0
A6: Город Горно-Алтайск | B6: Да, доводилась | C6: 2
A7: Муниципальное образование «Кош-Агачский район» | B7: Да, доводилась | C7: 2
A8: Муниципальное образование «Майминский район» | B8: Да, доводилась | C8: 2
A9: Муниципальное образование «Онгудайский район» | B9: Да, доводилась | C9: 2
A10: Муниципальное образование «Турочакский район» | B10: Нет, не доводилась | C10: 0
A11: Муниципальное образование «Улаганский район» | B11: Нет, не доводилась | C11: 0
A12: Муниципальное образование «Усть-Канский район» | B12: Нет, не доводилась | C12: 0
A13: Муниципальное образование «Усть-Коксинский район» | B13: Нет, не доводилась | C13: 0
A14: Муниципальное образование «Чемальский район» | B14: Да, доводилась | C14: 2
A15: Муниципальное образование «Чойский район» | B15: Нет, не доводилась | C15: 0
A16: Муниципальное образование «Шебалинский район» | B16: Нет, не доводилась | C16: 0

Sheet Оценка 6.2
A1: Исходные данные и оценка показателя "6.2. Обеспечение доведения до общественности в доступной форме информации об исполнении бюджета МО за отчетный год посредством размещения на сайте МО «Бюджета для граждан», разработанного на основе годового отчета об исполнении решения о бюджете МО за 2023 год."
A3: Наименование муниципального образования в Республике Алтай | B3: 6.2. Обеспечение доведения до общественности в доступной форме информации об исполнении бюджета МО за отчетный год посредством размещения на сайте МО «Бюджета для граждан», разработанного на основе годового отчета об исполнении решения о бюджете МО за 2023 год. | C3: Оценка показателя 6.2 (баллы)
B4: Да, доводилась | C4: 2
B5: Нет, не доводилась | C5: 0
A6: Город Горно-Алтайск | B6: Да, доводилась | C6: 2
A7: Муниципальное образование «Кош-Агачский район» | B7: Да, доводилась | C7: 2
A8: Муниципальное образование «Майминский район» | B8: Да, доводилась | C8: 2
A9: Муниципальное образование «Онгудайский район» | B9: Да, доводилась | C9: 2
A10: Муниципальное образование «Турочакский район» | B10: Да, доводилась | C10: 2
A11: Муниципальное образование «Улаганский район» | B11: Нет, не доводилась | C11: 0
A12: Муниципальное образование «Усть-Канский район» | B12: Нет, не доводилась | C12: 0
A13: Муниципальное образование «Усть-Коксинский район» | B13: Нет, не доводилась | C13: 0
A14: Муниципальное образование «Чемальский район» | B14: Да, доводилась | C14: 2
A15: Муниципальное образование «Чойский район» | B15: Нет, не доводилась | C15: 0
A16: Муниципальное образование «Шебалинский район» | B16: Нет, не доводилась | C16: 0

Sheet Оценка 6.3
A1: Исходные данные и оценка показателя "6.3. Участие МО текущем году в региональном конкурсе творческих проектов по представлению бюджета для граждан"
A3: Наименование муниципального образования в Республике Алтай | B3: 6.3. Участие МО текущем году в региональном конкурсе творческих проектов по представлению бюджета для граждан. | C3: Оценка показателя 6.3 (баллы)
B4: Да, МО в РА принимало участие | C4: 4
B5: Нет, МО в РА не принимало участие | C5: 0
A6: Город Горно-Алтайск | B6: Да, МО в РА принимало участие | C6: 4
A7: Муниципальное образование «Кош-Агачский район» | B7: Да, МО в РА принимало участие | C7: 4
A8: Муниципальное образование «Майминский район» | B8: Да, МО в РА принимало участие | C8: 4
A9: Муниципальное образование «Онгудайский район» | B9: Да, МО в РА принимало участие | C9: 4
A10: Муниципальное образование «Турочакский район» | B10: Да, МО в РА принимало участие | C10: 4
A11: Муниципальное образование «Улаганский район» | B11: Нет, МО в РА не принимало участие | C11: 0
A12: Муниципальное образование «Усть-Канский район» | B12: Да, МО в РА принимало участие | C12: 4
A13: Муниципальное образование «Усть-Коксинский район» | B13: Да, МО в РА принимало участие | C13: 4
A14: Муниципальное образование «Чемальский район» | B14: Да, МО в РА принимало участие | C14: 4
A15: Муниципальное образование «Чойский район» | B15: Нет, МО в РА не принимало участие | C15: 0
A16: Муниципальное образование «Шебалинский район» | B16: Нет, МО в РА не принимало участие | C16: 0
