Workbook

Sheet Кош-Агач
A3: Перечень исходных данных, необходимых для осуществления оценки налогового потенциала муниципальных образований в Республике Алтай на очередной финансовый год и плановый период для проведения расчетов распределения межбюджетных трансфертов из республиканского бюджета Республики Алтай на очередной финансовый год и плановый период
A5: Муниципальное образование_Кош-Агачский район_
A7: показатель | C7: период | D7: ед. измерения | E7: значение показателя по данным МФ РА | F7: значение показателя по данным МО | G7: согласованное значение показателя
E8: КБ МО | F8: КБ МО | G8: КБ МО
A9: 1 | C9: 2 | D9: 3 | E9: 4 | F9: 5 | G9: 6
A10: Налог на доходы физических лиц | B10: сумма исчисленного налога на доходы физических лиц | C10: 2023 год | D10: тыс. руб. | E10: 252859.84
B11: сумма исчисленного налога на доходы физических лиц | C11: 2024 год | D11: тыс. руб. | E11: 317677.2
B12: сумма исчисленного налога на доходы физических лиц | C12: 1 полугодие 2025 года | D12: тыс. руб. | E12: 168007.9
A13: Налог, взимаемый в связи с применением упрощенной системы налогообложения | B13: сумма налога, взимаемого в связи с применением упрощенной системы налогообложения | C13: 2023 год | D13: тыс. руб. | E13: 0
B14: сумма налога, взимаемого в связи с применением упрощенной системы налогообложения | C14: 2024 год | D14: тыс. руб. | E14: 0
B15: сумма налога, взимаемого в связи с применением упрощенной системы налогообложения | C15: 1 полугодие 2025 года | D15: тыс. руб. | E15: 0
A16: Налог, взимаемый в связи с применением патентной системы налогообложения | B16: сумма исчисленного налога, взимаемого в связи с применением патентной системы налогообложения | C16: 2023 год | D16: тыс. руб. | E16: 3716.5
B17: сумма исчисленного налога, взимаемого в связи с применением патентной системы налогообложения | C17: 2024 год | D17: тыс. руб. | E17: 3445
B18: сумма исчисленного налога, взимаемого в связи с применением патентной системы налогообложения | C18: 1 полугодие 2025 года | D18: тыс. руб. | E18: 4525
A19: Единый сельскохозяйственный налог | B19: сумма исчисленного единого сельскохозяйственного налога | C19: 2023 год | D19: тыс. руб. | E19: 286
B20: сумма исчисленного единого сельскохозяйственного налога | C20: 2024 год | D20: тыс. руб. | E20: 0
B21: сумма исчисленного единого сельскохозяйственного налога | C21: 1 полугодие 2025 года | D21: тыс. руб. | E21: 0
A22: Земельный налог с организаций | B22: сумма земельного налога, подлежащая уплате в бюджет | C22: 2023 год | D22: тыс. руб. | E22: 4608
B23: сумма земельного налога, подлежащая уплате в бюджет | C23: 2024 год | D23: тыс. руб. | E23: 1427
B24: сумма земельного налога, подлежащая уплате в бюджет | C24: 1 полугодие 2025 года | D24: тыс. руб. | E24: 630.05
A25: Земельный налог с физических лиц | B25: сумма земельного налога, подлежащая уплате в бюджет | C25: 2024 год | D25: тыс. руб. | E25: 2000
A26: Налог на имущество физических лиц | B26: сумма налога на имущество физических лиц, подлежащая уплате в бюджет | C26: 2024 год | D26: тыс. руб. | E26: 4188
A27: Налог на имущество организаций | B27: сумма налога на имущество организаций, исчисленная к уплате в бюджет | C27: 2023 год | D27: тыс. руб. | E27: =764+185429 -> 186193
B28: сумма налога на имущество организаций, исчисленная к уплате в бюджет | C28: 2024 год | D28: тыс. руб. | E28: =2158+44737 -> 46895
B29: сумма налога на имущество организаций, исчисленная к уплате в бюджет | C29: 1 полугодие 2025 года | D29: тыс. руб. | E29: 26339.9
A30: Налогу на добычу общераспространенных полезных ископаемых | B30: сумма налога на добычу полезных ископаемых, подлежащая уплате в бюджет | C30: 2024 год | D30: тыс. руб. | E30: 215
A31: Налог на добычу полезных ископаемых (за исключением полезных ископаемых, в отношении которых при налогообложении установлен рентный коэффициент, отличный от 1, полезных ископаемых в виде углеводородного сырья, природных алмазов и общераспространенных полезных ископаемых, угля коксующегося, железных руд, апатит-магнетитовых, апатит-штаффелитовых и маложелезистых апатитовых руд, многокомпонентной комплексной руды, в отношении которой при налогообложении установлен коэффициент, характеризующий стоимость ценных компонентов в руде) | B31: сумма налога на добычу полезных ископаемых, подлежащая уплате в бюджет | C31: 2024 год | D31: тыс. руб. | E31: 0
A35: Глава муниципального образования
A36: _____________________________________________ | C36: ________________
C37: (подпись)

Sheet Улаган
A3: Перечень исходных данных, необходимых для осуществления оценки налогового потенциала муниципальных образований в Республике Алтай на очередной финансовый год и плановый период для проведения расчетов распределения межбюджетных трансфертов из республиканского бюджета Республики Алтай на очередной финансовый год и плановый период
A5: Муниципальное образование_Улаганский район_
A7: показатель | C7: период | D7: ед. измерения | E7: значение показателя по данным МФ РА | F7: значение показателя по данным МО | G7: согласованное значение показателя
E8: КБ МО | F8: КБ МО | G8: КБ МО
A9: 1 | C9: 2 | D9: 3 | E9: 4 | F9: 5 | G9: 6
A10: Налог на доходы физических лиц | B10: сумма исчисленного налога на доходы физических лиц | C10: 2023 год | D10: тыс. руб. | E10: 156730.91
B11: сумма исчисленного налога на доходы физических лиц | C11: 2024 год | D11: тыс. руб. | E11: 199418.95
B12: сумма исчисленного налога на доходы физических лиц | C12: 1 полугодие 2025 года | D12: тыс. руб. | E12: 107759.28
A13: Налог, взимаемый в связи с применением упрощенной системы налогообложения | B13: сумма налога, взимаемого в связи с применением упрощенной системы налогообложения | C13: 2023 год | D13: тыс. руб. | E13: 0
B14: сумма налога, взимаемого в связи с применением упрощенной системы налогообложения | C14: 2024 год | D14: тыс. руб. | E14: 0
B15: сумма налога, взимаемого в связи с применением упрощенной системы налогообложения | C15: 1 полугодие 2025 года | D15: тыс. руб. | E15: 0
A16: Налог, взимаемый в связи с применением патентной системы налогообложения | B16: сумма исчисленного налога, взимаемого в связи с применением патентной системы налогообложения | C16: 2023 год | D16: тыс. руб. | E16: 2611.18
B17: сумма исчисленного налога, взимаемого в связи с применением патентной системы налогообложения | C17: 2024 год | D17: тыс. руб. | E17: 3006.68
B18: сумма исчисленного налога, взимаемого в связи с применением патентной системы налогообложения | C18: 1 полугодие 2025 года | D18: тыс. руб. | E18: 5776
A19: Единый сельскохозяйственный налог | B19: сумма исчисленного единого сельскохозяйственного налога | C19: 2023 год | D19: тыс. руб. | E19: 0
B20: сумма исчисленного единого сельскохозяйственного налога | C20: 2024 год | D20: тыс. руб. | E20: 0
B21: сумма исчисленного единого сельскохозяйственного налога | C21: 1 полугодие 2025 года | D21: тыс. руб. | E21: 0
A22: Земельный налог с организаций | B22: сумма земельного налога, подлежащая уплате в бюджет | C22: 2023 год | D22: тыс. руб. | E22: 1505
B23: сумма земельного налога, подлежащая уплате в бюджет | C23: 2024 год | D23: тыс. руб. | E23: 1630
B24: сумма земельного налога, подлежащая уплате в бюджет | C24: 1 полугодие 2025 года | D24: тыс. руб. | E24: 1066.26
A25: Земельный налог с физических лиц | B25: сумма земельного налога, подлежащая уплате в бюджет | C25: 2024 год | D25: тыс. руб. | E25: 1305
A26: Налог на имущество физических лиц | B26: сумма налога на имущество физических лиц, подлежащая уплате в бюджет | C26: 2024 год | D26: тыс. руб. | E26: 3142
A27: Налог на имущество организаций | B27: сумма налога на имущество организаций, исчисленная к уплате в бюджет | C27: 2023 год | D27: тыс. руб. | E27: =128+17148 -> 17276
B28: сумма налога на имущество организаций, исчисленная к уплате в бюджет | C28: 2024 год | D28: тыс. руб. | E28: =25666+897 -> 26563
B29: сумма налога на имущество организаций, исчисленная к уплате в бюджет | C29: 1 полугодие 2025 года | D29: тыс. руб. | E29: 18749.2
A30: Налогу на добычу общераспространенных полезных ископаемых | B30: сумма налога на добычу полезных ископаемых, подлежащая уплате в бюджет | C30: 2024 год | D30: тыс. руб. | E30: 6
A31: Налог на добычу полезных ископаемых (за исключением полезных ископаемых, в отношении которых при налогообложении установлен рентный коэффициент, отличный от 1, полезных ископаемых в виде углеводородного сырья, природных алмазов и общераспространенных полезных ископаемых, угля коксующегося, железных руд, апатит-магнетитовых, апатит-штаффелитовых и маложелезистых апатитовых руд, многокомпонентной комплексной руды, в отношении которой при налогообложении установлен коэффициент, характеризующий стоимость ценных компонентов в руде) | B31: сумма налога на добычу полезных ископаемых, подлежащая уплате в бюджет | C31: 2024 год | D31: тыс. руб. | E31: 0
A35: Глава муниципального образования
A36: _____________________________________________ | C36: ________________
C37: (подпись)

Sheet Усть-Кан
A3: Перечень исходных данных, необходимых для осуществления оценки налогового потенциала муниципальных образований в Республике Алтай на очередной финансовый год и плановый период для проведения расчетов распределения межбюджетных трансфертов из республиканского бюджета Республики Алтай на очередной финансовый год и плановый период
A5: Муниципальное образование_Усть-Канский район_
A7: показатель | C7: период | D7: ед. измерения | E7: значение показателя по данным МФ РА | F7: значение показателя по данным МО | G7: согласованное значение показателя
E8: КБ МО | F8: КБ МО | G8: КБ МО
A9: 1 | C9: 2 | D9: 3 | E9: 4 | F9: 5 | G9: 6
A10: Налог на доходы физических лиц | B10: сумма исчисленного налога на доходы физических лиц | C10: 2023 год | D10: тыс. руб. | E10: 135124.54
B11: сумма исчисленного налога на доходы физических лиц | C11: 2024 год | D11: тыс. руб. | E11: 165310.03
B12: сумма исчисленного налога на доходы физических лиц | C12: 1 полугодие 2025 года | D12: тыс. руб. | E12: 79953.64
A13: Налог, взимаемый в связи с применением упрощенной системы налогообложения | B13: сумма налога, взимаемого в связи с применением упрощенной системы налогообложения | C13: 2023 год | D13: тыс. руб. | E13: 0
B14: сумма налога, взимаемого в связи с применением упрощенной системы налогообложения | C14: 2024 год | D14: тыс. руб. | E14: 0
B15: сумма налога, взимаемого в связи с применением упрощенной системы налогообложения | C15: 1 полугодие 2025 года | D15: тыс. руб. | E15: 0
A16: Налог, взимаемый в связи с применением патентной системы налогообложения | B16: сумма исчисленного налога, взимаемого в связи с применением патентной системы налогообложения | C16: 2023 год | D16: тыс. руб. | E16: 2203.56
B17: сумма исчисленного налога, взимаемого в связи с применением патентной системы налогообложения | C17: 2024 год | D17: тыс. руб. | E17: 2279.82
B18: сумма исчисленного налога, взимаемого в связи с применением патентной системы налогообложения | C18: 1 полугодие 2025 года | D18: тыс. руб. | E18: 4200
A19: Единый сельскохозяйственный налог | B19: сумма исчисленного единого сельскохозяйственного налога | C19: 2023 год | D19: тыс. руб. | E19: 1937
B20: сумма исчисленного единого сельскохозяйственного налога | C20: 2024 год | D20: тыс. руб. | E20: 858
B21: сумма исчисленного единого сельскохозяйственного налога | C21: 1 полугодие 2025 года | D21: тыс. руб. | E21: 873.13
A22: Земельный налог с организаций | B22: сумма земельного налога, подлежащая уплате в бюджет | C22: 2023 год | D22: тыс. руб. | E22: 908
B23: сумма земельного налога, подлежащая уплате в бюджет | C23: 2024 год | D23: тыс. руб. | E23: 1048
B24: сумма земельного налога, подлежащая уплате в бюджет | C24: 1 полугодие 2025 года | D24: тыс. руб. | E24: 543.26
A25: Земельный налог с физических лиц | B25: сумма земельного налога, подлежащая уплате в бюджет | C25: 2024 год | D25: тыс. руб. | E25: 4482
A26: Налог на имущество физических лиц | B26: сумма налога на имущество физических лиц, подлежащая уплате в бюджет | C26: 2024 год | D26: тыс. руб. | E26: 6786
A27: Налог на имущество организаций | B27: сумма налога на имущество организаций, исчисленная к уплате в бюджет | C27: 2023 год | D27: тыс. руб. | E27: =602+20183 -> 20785
B28: сумма налога на имущество организаций, исчисленная к уплате в бюджет | C28: 2024 год | D28: тыс. руб. | E28: =1142+38255 -> 39397
B29: сумма налога на имущество организаций, исчисленная к уплате в бюджет | C29: 1 полугодие 2025 года | D29: тыс. руб. | E29: 21385.38
A30: Налогу на добычу общераспространенных полезных ископаемых | B30: сумма налога на добычу полезных ископаемых, подлежащая уплате в бюджет | C30: 2024 год | D30: тыс. руб. | E30: 963
A31: Налог на добычу полезных ископаемых (за исключением полезных ископаемых, в отношении которых при налогообложении установлен рентный коэффициент, отличный от 1, полезных ископаемых в виде углеводородного сырья, природных алмазов и общераспространенных полезных ископаемых, угля коксующегося, железных руд, апатит-магнетитовых, апатит-штаффелитовых и маложелезистых апатитовых руд, многокомпонентной комплексной руды, в отношении которой при налогообложении установлен коэффициент, характеризующий стоимость ценных компонентов в руде) | B31: сумма налога на добычу полезных ископаемых, подлежащая уплате в бюджет | C31: 2024 год | D31: тыс. руб. | E31: 0
A35: Глава муниципального образования
A36: _____________________________________________ | C36: ________________
C37: (подпись)

Sheet Онгудай
A3: Перечень исходных данных, необходимых для осуществления оценки налогового потенциала муниципальных образований в Республике Алтай на очередной финансовый год и плановый период для проведения расчетов распределения межбюджетных трансфертов из республиканского бюджета Республики Алтай на очередной финансовый год и плановый период
A5: Муниципальное образование_Онгудайский район_
A7: показатель | C7: период | D7: ед. измерения | E7: значение показателя по данным МФ РА | F7: значение показателя по данным МО | G7: согласованное значение показателя
E8: КБ МО | F8: КБ МО | G8: КБ МО
A9: 1 | C9: 2 | D9: 3 | E9: 4 | F9: 5 | G9: 6
A10: Налог на доходы физических лиц | B10: сумма исчисленного налога на доходы физических лиц | C10: 2023 год | D10: тыс. руб. | E10: 152554.09
B11: сумма исчисленного налога на доходы физических лиц | C11: 2024 год | D11: тыс. руб. | E11: 181260.76
B12: сумма исчисленного налога на доходы физических лиц | C12: 1 полугодие 2025 года | D12: тыс. руб. | E12: 86643
A13: Налог, взимаемый в связи с применением упрощенной системы налогообложения | B13: сумма налога, взимаемого в связи с применением упрощенной системы налогообложения | C13: 2023 год | D13: тыс. руб. | E13: 0
B14: сумма налога, взимаемого в связи с применением упрощенной системы налогообложения | C14: 2024 год | D14: тыс. руб. | E14: 0
B15: сумма налога, взимаемого в связи с применением упрощенной системы налогообложения | C15: 1 полугодие 2025 года | D15: тыс. руб. | E15: 0
A16: Налог, взимаемый в связи с применением патентной системы налогообложения | B16: сумма исчисленного налога, взимаемого в связи с применением патентной системы налогообложения | C16: 2023 год | D16: тыс. руб. | E16: 3716.8
B17: сумма исчисленного налога, взимаемого в связи с применением патентной системы налогообложения | C17: 2024 год | D17: тыс. руб. | E17: 4540
B18: сумма исчисленного налога, взимаемого в связи с применением патентной системы налогообложения | C18: 1 полугодие 2025 года | D18: тыс. руб. | E18: 9460
A19: Единый сельскохозяйственный налог | B19: сумма исчисленного единого сельскохозяйственного налога | C19: 2023 год | D19: тыс. руб. | E19: 833
B20: сумма исчисленного единого сельскохозяйственного налога | C20: 2024 год | D20: тыс. руб. | E20: 632
B21: сумма исчисленного единого сельскохозяйственного налога | C21: 1 полугодие 2025 года | D21: тыс. руб. | E21: 685.13
A22: Земельный налог с организаций | B22: сумма земельного налога, подлежащая уплате в бюджет | C22: 2023 год | D22: тыс. руб. | E22: 5660
B23: сумма земельного налога, подлежащая уплате в бюджет | C23: 2024 год | D23: тыс. руб. | E23: 5355
B24: сумма земельного налога, подлежащая уплате в бюджет | C24: 1 полугодие 2025 года | D24: тыс. руб. | E24: 3241
A25: Земельный налог с физических лиц | B25: сумма земельного налога, подлежащая уплате в бюджет | C25: 2024 год | D25: тыс. руб. | E25: 4305
A26: Налог на имущество физических лиц | B26: сумма налога на имущество физических лиц, подлежащая уплате в бюджет | C26: 2024 год | D26: тыс. руб. | E26: 7197
A27: Налог на имущество организаций | B27: сумма налога на имущество организаций, исчисленная к уплате в бюджет | C27: 2023 год | D27: тыс. руб. | E27: =402+53350 -> 53752
B28: сумма налога на имущество организаций, исчисленная к уплате в бюджет | C28: 2024 год | D28: тыс. руб. | E28: =57100+1773 -> 58873
B29: сумма налога на имущество организаций, исчисленная к уплате в бюджет | C29: 1 полугодие 2025 года | D29: тыс. руб. | E29: 18667.05
A30: Налогу на добычу общераспространенных полезных ископаемых | B30: сумма налога на добычу полезных ископаемых, подлежащая уплате в бюджет | C30: 2024 год | D30: тыс. руб. | E30: 1183
A31: Налог на добычу полезных ископаемых (за исключением полезных ископаемых, в отношении которых при налогообложении установлен рентный коэффициент, отличный от 1, полезных ископаемых в виде углеводородного сырья, природных алмазов и общераспространенных полезных ископаемых, угля коксующегося, железных руд, апатит-магнетитовых, апатит-штаффелитовых и маложелезистых апатитовых руд, многокомпонентной комплексной руды, в отношении которой при налогообложении установлен коэффициент, характеризующий стоимость ценных компонентов в руде) | B31: сумма налога на добычу полезных ископаемых, подлежащая уплате в бюджет | C31: 2024 год | D31: тыс. руб. | E31: 0
A35: Глава муниципального образования
A36: _____________________________________________ | C36: ________________
C37: (подпись)

Sheet Шебалино
A3: Перечень исходных данных, необходимых для осуществления оценки налогового потенциала муниципальных образований в Республике Алтай на очередной финансовый год и плановый период для проведения расчетов распределения межбюджетных трансфертов из республиканского бюджета Республики Алтай на очередной финансовый год и плановый период
A5: Муниципальное образование_Шебалинский район__
A7: показатель | C7: период | D7: ед. измерения | E7: значение показателя по данным МФ РА | F7: значение показателя по данным МО | G7: согласованное значение показателя
E8: КБ МО | F8: КБ МО | G8: КБ МО
A9: 1 | C9: 2 | D9: 3 | E9: 4 | F9: 5 | G9: 6
A10: Налог на доходы физических лиц | B10: сумма исчисленного налога на доходы физических лиц | C10: 2023 год | D10: тыс. руб. | E10: 134877.55
B11: сумма исчисленного налога на доходы физических лиц | C11: 2024 год | D11: тыс. руб. | E11: 164551.8
B12: сумма исчисленного налога на доходы физических лиц | C12: 1 полугодие 2025 года | D12: тыс. руб. | E12: 80335.96
A13: Налог, взимаемый в связи с применением упрощенной системы налогообложения | B13: сумма налога, взимаемого в связи с применением упрощенной системы налогообложения | C13: 2023 год | D13: тыс. руб. | E13: 0
B14: сумма налога, взимаемого в связи с применением упрощенной системы налогообложения | C14: 2024 год | D14: тыс. руб. | E14: 0
B15: сумма налога, взимаемого в связи с применением упрощенной системы налогообложения | C15: 1 полугодие 2025 года | D15: тыс. руб. | E15: 0
A16: Налог, взимаемый в связи с применением патентной системы налогообложения | B16: сумма исчисленного налога, взимаемого в связи с применением патентной системы налогообложения | C16: 2023 год | D16: тыс. руб. | E16: 2614.98
B17: сумма исчисленного налога, взимаемого в связи с применением патентной системы налогообложения | C17: 2024 год | D17: тыс. руб. | E17: 3090.12
B18: сумма исчисленного налога, взимаемого в связи с применением патентной системы налогообложения | C18: 1 полугодие 2025 года | D18: тыс. руб. | E18: 4920
A19: Единый сельскохозяйственный налог | B19: сумма исчисленного единого сельскохозяйственного налога | C19: 2023 год | D19: тыс. руб. | E19: 227
B20: сумма исчисленного единого сельскохозяйственного налога | C20: 2024 год | D20: тыс. руб. | E20: 1708
B21: сумма исчисленного единого сельскохозяйственного налога | C21: 1 полугодие 2025 года | D21: тыс. руб. | E21: 1493.01
A22: Земельный налог с организаций | B22: сумма земельного налога, подлежащая уплате в бюджет | C22: 2023 год | D22: тыс. руб. | E22: 4158
B23: сумма земельного налога, подлежащая уплате в бюджет | C23: 2024 год | D23: тыс. руб. | E23: 5112
B24: сумма земельного налога, подлежащая уплате в бюджет | C24: 1 полугодие 2025 года | D24: тыс. руб. | E24: 4251.47
A25: Земельный налог с физических лиц | B25: сумма земельного налога, подлежащая уплате в бюджет | C25: 2024 год | D25: тыс. руб. | E25: 6042
A26: Налог на имущество физических лиц | B26: сумма налога на имущество физических лиц, подлежащая уплате в бюджет | C26: 2024 год | D26: тыс. руб. | E26: 4907
A27: Налог на имущество организаций | B27: сумма налога на имущество организаций, исчисленная к уплате в бюджет | C27: 2023 год | D27: тыс. руб. | E27: =15444+313 -> 15757
B28: сумма налога на имущество организаций, исчисленная к уплате в бюджет | C28: 2024 год | D28: тыс. руб. | E28: =1573+19120 -> 20693
B29: сумма налога на имущество организаций, исчисленная к уплате в бюджет | C29: 1 полугодие 2025 года | D29: тыс. руб. | E29: 11241.38
A30: Налогу на добычу общераспространенных полезных ископаемых | B30: сумма налога на добычу полезных ископаемых, подлежащая уплате в бюджет | C30: 2024 год | D30: тыс. руб. | E30: 288
A31: Налог на добычу полезных ископаемых (за исключением полезных ископаемых, в отношении которых при налогообложении установлен рентный коэффициент, отличный от 1, полезных ископаемых в виде углеводородного сырья, природных алмазов и общераспространенных полезных ископаемых, угля коксующегося, железных руд, апатит-магнетитовых, апатит-штаффелитовых и маложелезистых апатитовых руд, многокомпонентной комплексной руды, в отношении которой при налогообложении установлен коэффициент, характеризующий стоимость ценных компонентов в руде) | B31: сумма налога на добычу полезных ископаемых, подлежащая уплате в бюджет | C31: 2024 год | D31: тыс. руб. | E31: 0
A35: Глава муниципального образования
A36: _____________________________________________ | C36: ________________
C37: (подпись)

Sheet Усть-Кокса
A3: Перечень исходных данных, необходимых для осуществления оценки налогового потенциала муниципальных образований в Республике Алтай на очередной финансовый год и плановый период для проведения расчетов распределения межбюджетных трансфертов из республиканского бюджета Республики Алтай на очередной финансовый год и плановый период
A5: Муниципальное образование_Усть-Коксинский район_
A7: показатель | C7: период | D7: ед. измерения | E7: значение показателя по данным МФ РА | F7: значение показателя по данным МО | G7: согласованное значение показателя
E8: КБ МО | F8: КБ МО | G8: КБ МО
A9: 1 | C9: 2 | D9: 3 | E9: 4 | F9: 5 | G9: 6
A10: Налог на доходы физических лиц | B10: сумма исчисленного налога на доходы физических лиц | C10: 2023 год | D10: тыс. руб. | E10: 191855.69
B11: сумма исчисленного налога на доходы физических лиц | C11: 2024 год | D11: тыс. руб. | E11: 229116.34
B12: сумма исчисленного налога на доходы физических лиц | C12: 1 полугодие 2025 года | D12: тыс. руб. | E12: 111043.75
A13: Налог, взимаемый в связи с применением упрощенной системы налогообложения | B13: сумма налога, взимаемого в связи с применением упрощенной системы налогообложения | C13: 2023 год | D13: тыс. руб. | E13: 0
B14: сумма налога, взимаемого в связи с применением упрощенной системы налогообложения | C14: 2024 год | D14: тыс. руб. | E14: 0
B15: сумма налога, взимаемого в связи с применением упрощенной системы налогообложения | C15: 1 полугодие 2025 года | D15: тыс. руб. | E15: 0
A16: Налог, взимаемый в связи с применением патентной системы налогообложения | B16: сумма исчисленного налога, взимаемого в связи с применением патентной системы налогообложения | C16: 2023 год | D16: тыс. руб. | E16: 5129.12
B17: сумма исчисленного налога, взимаемого в связи с применением патентной системы налогообложения | C17: 2024 год | D17: тыс. руб. | E17: 5542.84
B18: сумма исчисленного налога, взимаемого в связи с применением патентной системы налогообложения | C18: 1 полугодие 2025 года | D18: тыс. руб. | E18: 10672.7
A19: Единый сельскохозяйственный налог | B19: сумма исчисленного единого сельскохозяйственного налога | C19: 2023 год | D19: тыс. руб. | E19: 1092
B20: сумма исчисленного единого сельскохозяйственного налога | C20: 2024 год | D20: тыс. руб. | E20: 2105
B21: сумма исчисленного единого сельскохозяйственного налога | C21: 1 полугодие 2025 года | D21: тыс. руб. | E21: 3037.39
A22: Земельный налог с организаций | B22: сумма земельного налога, подлежащая уплате в бюджет | C22: 2023 год | D22: тыс. руб. | E22: 5630
B23: сумма земельного налога, подлежащая уплате в бюджет | C23: 2024 год | D23: тыс. руб. | E23: 9043
B24: сумма земельного налога, подлежащая уплате в бюджет | C24: 1 полугодие 2025 года | D24: тыс. руб. | E24: 6229.52
A25: Земельный налог с физических лиц | B25: сумма земельного налога, подлежащая уплате в бюджет | C25: 2024 год | D25: тыс. руб. | E25: 6544
A26: Налог на имущество физических лиц | B26: сумма налога на имущество физических лиц, подлежащая уплате в бюджет | C26: 2024 год | D26: тыс. руб. | E26: 6949
A27: Налог на имущество организаций | B27: сумма налога на имущество организаций, исчисленная к уплате в бюджет | C27: 2023 год | D27: тыс. руб. | E27: =739+23739 -> 24478
B28: сумма налога на имущество организаций, исчисленная к уплате в бюджет | C28: 2024 год | D28: тыс. руб. | E28: =2697+54930 -> 57627
B29: сумма налога на имущество организаций, исчисленная к уплате в бюджет | C29: 1 полугодие 2025 года | D29: тыс. руб. | E29: 31712.53
A30: Налогу на добычу общераспространенных полезных ископаемых | B30: сумма налога на добычу полезных ископаемых, подлежащая уплате в бюджет | C30: 2024 год | D30: тыс. руб. | E30: 428
A31: Налог на добычу полезных ископаемых (за исключением полезных ископаемых, в отношении которых при налогообложении установлен рентный коэффициент, отличный от 1, полезных ископаемых в виде углеводородного сырья, природных алмазов и общераспространенных полезных ископаемых, угля коксующегося, железных руд, апатит-магнетитовых, апатит-штаффелитовых и маложелезистых апатитовых руд, многокомпонентной комплексной руды, в отношении которой при налогообложении установлен коэффициент, характеризующий стоимость ценных компонентов в руде) | B31: сумма налога на добычу полезных ископаемых, подлежащая уплате в бюджет | C31: 2024 год | D31: тыс. руб. | E31: 0
A35: Глава муниципального образования
A36: _____________________________________________ | C36: ________________
C37: (подпись)

Sheet Турочак
A3: Перечень исходных данных, необходимых для осуществления оценки налогового потенциала муниципальных образований в Республике Алтай на очередной финансовый год и плановый период для проведения расчетов распределения межбюджетных трансфертов из республиканского бюджета Республики Алтай на очередной финансовый год и плановый период
A5: Муниципальное образование_Турочакский район_
A7: показатель | C7: период | D7: ед. измерения | E7: значение показателя по данным МФ РА | F7: значение показателя по данным МО | G7: согласованное значение показателя
E8: КБ МО | F8: КБ МО | G8: КБ МО
A9: 1 | C9: 2 | D9: 3 | E9: 4 | F9: 5 | G9: 6
A10: Налог на доходы физических лиц | B10: сумма исчисленного налога на доходы физических лиц | C10: 2023 год | D10: тыс. руб. | E10: 220201.4
B11: сумма исчисленного налога на доходы физических лиц | C11: 2024 год | D11: тыс. руб. | E11: 284032.98
B12: сумма исчисленного налога на доходы физических лиц | C12: 1 полугодие 2025 года | D12: тыс. руб. | E12: 136429.16
A13: Налог, взимаемый в связи с применением упрощенной системы налогообложения | B13: сумма налога, взимаемого в связи с применением упрощенной системы налогообложения | C13: 2023 год | D13: тыс. руб. | E13: 0
B14: сумма налога, взимаемого в связи с применением упрощенной системы налогообложения | C14: 2024 год | D14: тыс. руб. | E14: 0
B15: сумма налога, взимаемого в связи с применением упрощенной системы налогообложения | C15: 1 полугодие 2025 года | D15: тыс. руб. | E15: 0
A16: Налог, взимаемый в связи с применением патентной системы налогообложения | B16: сумма исчисленного налога, взимаемого в связи с применением патентной системы налогообложения | C16: 2023 год | D16: тыс. руб. | E16: 5251.18
B17: сумма исчисленного налога, взимаемого в связи с применением патентной системы налогообложения | C17: 2024 год | D17: тыс. руб. | E17: 5465.34
B18: сумма исчисленного налога, взимаемого в связи с применением патентной системы налогообложения | C18: 1 полугодие 2025 года | D18: тыс. руб. | E18: 10183
A19: Единый сельскохозяйственный налог | B19: сумма исчисленного единого сельскохозяйственного налога | C19: 2023 год | D19: тыс. руб. | E19: 0
B20: сумма исчисленного единого сельскохозяйственного налога | C20: 2024 год | D20: тыс. руб. | E20: 0
B21: сумма исчисленного единого сельскохозяйственного налога | C21: 1 полугодие 2025 года | D21: тыс. руб. | E21: 9.9
A22: Земельный налог с организаций | B22: сумма земельного налога, подлежащая уплате в бюджет | C22: 2023 год | D22: тыс. руб. | E22: 5368
B23: сумма земельного налога, подлежащая уплате в бюджет | C23: 2024 год | D23: тыс. руб. | E23: 5652
B24: сумма земельного налога, подлежащая уплате в бюджет | C24: 1 полугодие 2025 года | D24: тыс. руб. | E24: 3584.51
A25: Земельный налог с физических лиц | B25: сумма земельного налога, подлежащая уплате в бюджет | C25: 2024 год | D25: тыс. руб. | E25: 11477
A26: Налог на имущество физических лиц | B26: сумма налога на имущество физических лиц, подлежащая уплате в бюджет | C26: 2024 год | D26: тыс. руб. | E26: 7386
A27: Налог на имущество организаций | B27: сумма налога на имущество организаций, исчисленная к уплате в бюджет | C27: 2023 год | D27: тыс. руб. | E27: =583+16997 -> 17580
B28: сумма налога на имущество организаций, исчисленная к уплате в бюджет | C28: 2024 год | D28: тыс. руб. | E28: =2737+28392 -> 31129
B29: сумма налога на имущество организаций, исчисленная к уплате в бюджет | C29: 1 полугодие 2025 года | D29: тыс. руб. | E29: 17319.95
A30: Налогу на добычу общераспространенных полезных ископаемых | B30: сумма налога на добычу полезных ископаемых, подлежащая уплате в бюджет | C30: 2024 год | D30: тыс. руб. | E30: 1804
A31: Налог на добычу полезных ископаемых (за исключением полезных ископаемых, в отношении которых при налогообложении установлен рентный коэффициент, отличный от 1, полезных ископаемых в виде углеводородного сырья, природных алмазов и общераспространенных полезных ископаемых, угля коксующегося, железных руд, апатит-магнетитовых, апатит-штаффелитовых и маложелезистых апатитовых руд, многокомпонентной комплексной руды, в отношении которой при налогообложении установлен коэффициент, характеризующий стоимость ценных компонентов в руде) | B31: сумма налога на добычу полезных ископаемых, подлежащая уплате в бюджет | C31: 2024 год | D31: тыс. руб. | E31: 226102
A35: Глава муниципального образования
A36: _____________________________________________ | C36: ________________
C37: (подпись)

Sheet Майма
A3: Перечень исходных данных, необходимых для осуществления оценки налогового потенциала муниципальных образований в Республике Алтай на очередной финансовый год и плановый период для проведения расчетов распределения межбюджетных трансфертов из республиканского бюджета Республики Алтай на очередной финансовый год и плановый период
A5: Муниципальное образование_Майминский район_
A7: показатель | C7: период | D7: ед. измерения | E7: значение показателя по данным МФ РА | F7: значение показателя по данным МО | G7: согласованное значение показателя
E8: КБ МО | F8: КБ МО | G8: КБ МО
A9: 1 | C9: 2 | D9: 3 | E9: 4 | F9: 5 | G9: 6
A10: Налог на доходы физических лиц | B10: сумма исчисленного налога на доходы физических лиц | C10: 2023 год | D10: тыс. руб. | E10: 1036957.9
B11: сумма исчисленного налога на доходы физических лиц | C11: 2024 год | D11: тыс. руб. | E11: 1440733.9
B12: сумма исчисленного налога на доходы физических лиц | C12: 1 полугодие 2025 года | D12: тыс. руб. | E12: 736893.2
A13: Налог, взимаемый в связи с применением упрощенной системы налогообложения | B13: сумма налога, взимаемого в связи с применением упрощенной системы налогообложения | C13: 2023 год | D13: тыс. руб. | E13: 0
B14: сумма налога, взимаемого в связи с применением упрощенной системы налогообложения | C14: 2024 год | D14: тыс. руб. | E14: 0
B15: сумма налога, взимаемого в связи с применением упрощенной системы налогообложения | C15: 1 полугодие 2025 года | D15: тыс. руб. | E15: 0
A16: Налог, взимаемый в связи с применением патентной системы налогообложения | B16: сумма исчисленного налога, взимаемого в связи с применением патентной системы налогообложения | C16: 2023 год | D16: тыс. руб. | E16: 12158.36
B17: сумма исчисленного налога, взимаемого в связи с применением патентной системы налогообложения | C17: 2024 год | D17: тыс. руб. | E17: 13943
B18: сумма исчисленного налога, взимаемого в связи с применением патентной системы налогообложения | C18: 1 полугодие 2025 года | D18: тыс. руб. | E18: 22350
A19: Единый сельскохозяйственный налог | B19: сумма исчисленного единого сельскохозяйственного налога | C19: 2023 год | D19: тыс. руб. | E19: 756
B20: сумма исчисленного единого сельскохозяйственного налога | C20: 2024 год | D20: тыс. руб. | E20: 1318
B21: сумма исчисленного единого сельскохозяйственного налога | C21: 1 полугодие 2025 года | D21: тыс. руб. | E21: 1185.75
A22: Земельный налог с организаций | B22: сумма земельного налога, подлежащая уплате в бюджет | C22: 2023 год | D22: тыс. руб. | E22: 21724
B23: сумма земельного налога, подлежащая уплате в бюджет | C23: 2024 год | D23: тыс. руб. | E23: 28091
B24: сумма земельного налога, подлежащая уплате в бюджет | C24: 1 полугодие 2025 года | D24: тыс. руб. | E24: 18408.13
A25: Земельный налог с физических лиц | B25: сумма земельного налога, подлежащая уплате в бюджет | C25: 2024 год | D25: тыс. руб. | E25: 21641
A26: Налог на имущество физических лиц | B26: сумма налога на имущество физических лиц, подлежащая уплате в бюджет | C26: 2024 год | D26: тыс. руб. | E26: 24282
A27: Налог на имущество организаций | B27: сумма налога на имущество организаций, исчисленная к уплате в бюджет | C27: 2023 год | D27: тыс. руб. | E27: =5026+106849 -> 111875
B28: сумма налога на имущество организаций, исчисленная к уплате в бюджет | C28: 2024 год | D28: тыс. руб. | E28: =40078+189279 -> 229357
B29: сумма налога на имущество организаций, исчисленная к уплате в бюджет | C29: 1 полугодие 2025 года | D29: тыс. руб. | E29: 121055.76
A30: Налогу на добычу общераспространенных полезных ископаемых | B30: сумма налога на добычу полезных ископаемых, подлежащая уплате в бюджет | C30: 2024 год | D30: тыс. руб. | E30: 22668
A31: Налог на добычу полезных ископаемых (за исключением полезных ископаемых, в отношении которых при налогообложении установлен рентный коэффициент, отличный от 1, полезных ископаемых в виде углеводородного сырья, природных алмазов и общераспространенных полезных ископаемых, угля коксующегося, железных руд, апатит-магнетитовых, апатит-штаффелитовых и маложелезистых апатитовых руд, многокомпонентной комплексной руды, в отношении которой при налогообложении установлен коэффициент, характеризующий стоимость ценных компонентов в руде) | B31: сумма налога на добычу полезных ископаемых, подлежащая уплате в бюджет | C31: 2024 год | D31: тыс. руб. | E31: 0
A35: Глава муниципального образования
A36: _____________________________________________ | C36: ________________
C37: (подпись)

Sheet Чоя
A3: Перечень исходных данных, необходимых для осуществления оценки налогового потенциала муниципальных образований в Республике Алтай на очередной финансовый год и плановый период для проведения расчетов распределения межбюджетных трансфертов из республиканского бюджета Республики Алтай на очередной финансовый год и плановый период
A5: Муниципальное образование_Чойский район__
A7: показатель | C7: период | D7: ед. измерения | E7: значение показателя по данным МФ РА | F7: значение показателя по данным МО | G7: согласованное значение показателя
E8: КБ МО | F8: КБ МО | G8: КБ МО
A9: 1 | C9: 2 | D9: 3 | E9: 4 | F9: 5 | G9: 6
A10: Налог на доходы физических лиц | B10: сумма исчисленного налога на доходы физических лиц | C10: 2023 год | D10: тыс. руб. | E10: 111079.7
B11: сумма исчисленного налога на доходы физических лиц | C11: 2024 год | D11: тыс. руб. | E11: 124938.35
B12: сумма исчисленного налога на доходы физических лиц | C12: 1 полугодие 2025 года | D12: тыс. руб. | E12: 67272.52
A13: Налог, взимаемый в связи с применением упрощенной системы налогообложения | B13: сумма налога, взимаемого в связи с применением упрощенной системы налогообложения | C13: 2023 год | D13: тыс. руб. | E13: 0
B14: сумма налога, взимаемого в связи с применением упрощенной системы налогообложения | C14: 2024 год | D14: тыс. руб. | E14: 0
B15: сумма налога, взимаемого в связи с применением упрощенной системы налогообложения | C15: 1 полугодие 2025 года | D15: тыс. руб. | E15: 0
A16: Налог, взимаемый в связи с применением патентной системы налогообложения | B16: сумма исчисленного налога, взимаемого в связи с применением патентной системы налогообложения | C16: 2023 год | D16: тыс. руб. | E16: 1981.58
B17: сумма исчисленного налога, взимаемого в связи с применением патентной системы налогообложения | C17: 2024 год | D17: тыс. руб. | E17: 2099.56
B18: сумма исчисленного налога, взимаемого в связи с применением патентной системы налогообложения | C18: 1 полугодие 2025 года | D18: тыс. руб. | E18: 4881
A19: Единый сельскохозяйственный налог | B19: сумма исчисленного единого сельскохозяйственного налога | C19: 2023 год | D19: тыс. руб. | E19: 144
B20: сумма исчисленного единого сельскохозяйственного налога | C20: 2024 год | D20: тыс. руб. | E20: 59
B21: сумма исчисленного единого сельскохозяйственного налога | C21: 1 полугодие 2025 года | D21: тыс. руб. | E21: 37.79
A22: Земельный налог с организаций | B22: сумма земельного налога, подлежащая уплате в бюджет | C22: 2023 год | D22: тыс. руб. | E22: 1231
B23: сумма земельного налога, подлежащая уплате в бюджет | C23: 2024 год | D23: тыс. руб. | E23: 1246
B24: сумма земельного налога, подлежащая уплате в бюджет | C24: 1 полугодие 2025 года | D24: тыс. руб. | E24: 737.26
A25: Земельный налог с физических лиц | B25: сумма земельного налога, подлежащая уплате в бюджет | C25: 2024 год | D25: тыс. руб. | E25: 3026
A26: Налог на имущество физических лиц | B26: сумма налога на имущество физических лиц, подлежащая уплате в бюджет | C26: 2024 год | D26: тыс. руб. | E26: 974
A27: Налог на имущество организаций | B27: сумма налога на имущество организаций, исчисленная к уплате в бюджет | C27: 2023 год | D27: тыс. руб. | E27: =17394+250 -> 17644
B28: сумма налога на имущество организаций, исчисленная к уплате в бюджет | C28: 2024 год | D28: тыс. руб. | E28: =1844+25203 -> 27047
B29: сумма налога на имущество организаций, исчисленная к уплате в бюджет | C29: 1 полугодие 2025 года | D29: тыс. руб. | E29: 13597.1
A30: Налогу на добычу общераспространенных полезных ископаемых | B30: сумма налога на добычу полезных ископаемых, подлежащая уплате в бюджет | C30: 2024 год | D30: тыс. руб. | E30: 3779
A31: Налог на добычу полезных ископаемых (за исключением полезных ископаемых, в отношении которых при налогообложении установлен рентный коэффициент, отличный от 1, полезных ископаемых в виде углеводородного сырья, природных алмазов и общераспространенных полезных ископаемых, угля коксующегося, железных руд, апатит-магнетитовых, апатит-штаффелитовых и маложелезистых апатитовых руд, многокомпонентной комплексной руды, в отношении которой при налогообложении установлен коэффициент, характеризующий стоимость ценных компонентов в руде) | B31: сумма налога на добычу полезных ископаемых, подлежащая уплате в бюджет | C31: 2024 год | D31: тыс. руб. | E31: 53963
A35: Глава муниципального образования
A36: _____________________________________________ | C36: ________________
C37: (подпись)

Sheet Чемал
A3: Перечень исходных данных, необходимых для осуществления оценки налогового потенциала муниципальных образований в Республике Алтай на очередной финансовый год и плановый период для проведения расчетов распределения межбюджетных трансфертов из республиканского бюджета Республики Алтай на очередной финансовый год и плановый период
A5: Муниципальное образование_Чемальский район_
A7: показатель | C7: период | D7: ед. измерения | E7: значение показателя по данным МФ РА | F7: значение показателя по данным МО | G7: согласованное значение показателя
E8: КБ МО | F8: КБ МО | G8: КБ МО
A9: 1 | C9: 2 | D9: 3 | E9: 4 | F9: 5 | G9: 6
A10: Налог на доходы физических лиц | B10: сумма исчисленного налога на доходы физических лиц | C10: 2023 год | D10: тыс. руб. | E10: 184627.38
B11: сумма исчисленного налога на доходы физических лиц | C11: 2024 год | D11: тыс. руб. | E11: 235448.94
B12: сумма исчисленного налога на доходы физических лиц | C12: 1 полугодие 2025 года | D12: тыс. руб. | E12: 128670.46
A13: Налог, взимаемый в связи с применением упрощенной системы налогообложения | B13: сумма налога, взимаемого в связи с применением упрощенной системы налогообложения | C13: 2023 год | D13: тыс. руб. | E13: 0
B14: сумма налога, взимаемого в связи с применением упрощенной системы налогообложения | C14: 2024 год | D14: тыс. руб. | E14: 0
B15: сумма налога, взимаемого в связи с применением упрощенной системы налогообложения | C15: 1 полугодие 2025 года | D15: тыс. руб. | E15: 0
A16: Налог, взимаемый в связи с применением патентной системы налогообложения | B16: сумма исчисленного налога, взимаемого в связи с применением патентной системы налогообложения | C16: 2023 год | D16: тыс. руб. | E16: 7409.62
B17: сумма исчисленного налога, взимаемого в связи с применением патентной системы налогообложения | C17: 2024 год | D17: тыс. руб. | E17: 6990.56
B18: сумма исчисленного налога, взимаемого в связи с применением патентной системы налогообложения | C18: 1 полугодие 2025 года | D18: тыс. руб. | E18: 12241
A19: Единый сельскохозяйственный налог | B19: сумма исчисленного единого сельскохозяйственного налога | C19: 2023 год | D19: тыс. руб. | E19: 39
B20: сумма исчисленного единого сельскохозяйственного налога | C20: 2024 год | D20: тыс. руб. | E20: 25
B21: сумма исчисленного единого сельскохозяйственного налога | C21: 1 полугодие 2025 года | D21: тыс. руб. | E21: 24.87
A22: Земельный налог с организаций | B22: сумма земельного налога, подлежащая уплате в бюджет | C22: 2023 год | D22: тыс. руб. | E22: 13367
B23: сумма земельного налога, подлежащая уплате в бюджет | C23: 2024 год | D23: тыс. руб. | E23: 22799
B24: сумма земельного налога, подлежащая уплате в бюджет | C24: 1 полугодие 2025 года | D24: тыс. руб. | E24: 16203.95
A25: Земельный налог с физических лиц | B25: сумма земельного налога, подлежащая уплате в бюджет | C25: 2024 год | D25: тыс. руб. | E25: 25802
A26: Налог на имущество физических лиц | B26: сумма налога на имущество физических лиц, подлежащая уплате в бюджет | C26: 2024 год | D26: тыс. руб. | E26: 14779
A27: Налог на имущество организаций | B27: сумма налога на имущество организаций, исчисленная к уплате в бюджет | C27: 2023 год | D27: тыс. руб. | E27: =2165+28193 -> 30358
B28: сумма налога на имущество организаций, исчисленная к уплате в бюджет | C28: 2024 год | D28: тыс. руб. | E28: =43415+14430 -> 57845
B29: сумма налога на имущество организаций, исчисленная к уплате в бюджет | C29: 1 полугодие 2025 года | D29: тыс. руб. | E29: 35220
A30: Налогу на добычу общераспространенных полезных ископаемых | B30: сумма налога на добычу полезных ископаемых, подлежащая уплате в бюджет | C30: 2024 год | D30: тыс. руб. | E30: 1757
A31: Налог на добычу полезных ископаемых (за исключением полезных ископаемых, в отношении которых при налогообложении установлен рентный коэффициент, отличный от 1, полезных ископаемых в виде углеводородного сырья, природных алмазов и общераспространенных полезных ископаемых, угля коксующегося, железных руд, апатит-магнетитовых, апатит-штаффелитовых и маложелезистых апатитовых руд, многокомпонентной комплексной руды, в отношении которой при налогообложении установлен коэффициент, характеризующий стоимость ценных компонентов в руде) | B31: сумма налога на добычу полезных ископаемых, подлежащая уплате в бюджет | C31: 2024 год | D31: тыс. руб. | E31: 0
A35: Глава муниципального образования
A36: _____________________________________________ | C36: ________________
C37: (подпись)

Sheet Горно-Алтайск
A3: Перечень исходных данных, необходимых для осуществления оценки налогового потенциала муниципальных образований в Республике Алтай на очередной финансовый год и плановый период для проведения расчетов распределения межбюджетных трансфертов из республиканского бюджета Республики Алтай на очередной финансовый год и плановый период
A5: Муниципальное образование_г. Горно-Алтайск_
A7: показатель | C7: период | D7: ед. измерения | E7: значение показателя по данным МФ РА | F7: значение показателя по данным МО | G7: согласованное значение показателя
E8: КБ МО | F8: КБ МО | G8: КБ МО
A9: 1 | C9: 2 | D9: 3 | E9: 4 | F9: 5 | G9: 6
A10: Налог на доходы физических лиц | B10: сумма исчисленного налога на доходы физических лиц | C10: 2023 год | D10: тыс. руб. | E10: 2529575.9
B11: сумма исчисленного налога на доходы физических лиц | C11: 2024 год | D11: тыс. руб. | E11: 3081259.8
B12: сумма исчисленного налога на доходы физических лиц | C12: 1 полугодие 2025 года | D12: тыс. руб. | E12: 1683134
A13: Налог, взимаемый в связи с применением упрощенной системы налогообложения | B13: сумма налога, взимаемого в связи с применением упрощенной системы налогообложения | C13: 2023 год | D13: тыс. руб. | E13: 761829
B14: сумма налога, взимаемого в связи с применением упрощенной системы налогообложения | C14: 2024 год | D14: тыс. руб. | E14: 863871
B15: сумма налога, взимаемого в связи с применением упрощенной системы налогообложения | C15: 1 полугодие 2025 года | D15: тыс. руб. | E15: 346679.48
A16: Налог, взимаемый в связи с применением патентной системы налогообложения | B16: сумма исчисленного налога, взимаемого в связи с применением патентной системы налогообложения | C16: 2023 год | D16: тыс. руб. | E16: 20982.04
B17: сумма исчисленного налога, взимаемого в связи с применением патентной системы налогообложения | C17: 2024 год | D17: тыс. руб. | E17: 23046.3
B18: сумма исчисленного налога, взимаемого в связи с применением патентной системы налогообложения | C18: 1 полугодие 2025 года | D18: тыс. руб. | E18: 34299
A19: Единый сельскохозяйственный налог | B19: сумма исчисленного единого сельскохозяйственного налога | C19: 2023 год | D19: тыс. руб. | E19: 473
B20: сумма исчисленного единого сельскохозяйственного налога | C20: 2024 год | D20: тыс. руб. | E20: 213
B21: сумма исчисленного единого сельскохозяйственного налога | C21: 1 полугодие 2025 года | D21: тыс. руб. | E21: 212.6
A22: Земельный налог с организаций | B22: сумма земельного налога, подлежащая уплате в бюджет | C22: 2023 год | D22: тыс. руб. | E22: 27362
B23: сумма земельного налога, подлежащая уплате в бюджет | C23: 2024 год | D23: тыс. руб. | E23: 31565
B24: сумма земельного налога, подлежащая уплате в бюджет | C24: 1 полугодие 2025 года | D24: тыс. руб. | E24: 16816.85
A25: Земельный налог с физических лиц | B25: сумма земельного налога, подлежащая уплате в бюджет | C25: 2024 год | D25: тыс. руб. | E25: 14022
A26: Налог на имущество физических лиц | B26: сумма налога на имущество физических лиц, подлежащая уплате в бюджет | C26: 2024 год | D26: тыс. руб. | E26: 43705
A27: Налог на имущество организаций | B27: сумма налога на имущество организаций, исчисленная к уплате в бюджет | C27: 2023 год | D27: тыс. руб. | E27: =18758+185429 -> 204187
B28: сумма налога на имущество организаций, исчисленная к уплате в бюджет | C28: 2024 год | D28: тыс. руб. | E28: =51945+183557 -> 235502
B29: сумма налога на имущество организаций, исчисленная к уплате в бюджет | C29: 1 полугодие 2025 года | D29: тыс. руб. | E29: 142220.58
A30: Налогу на добычу общераспространенных полезных ископаемых | B30: сумма налога на добычу полезных ископаемых, подлежащая уплате в бюджет | C30: 2024 год | D30: тыс. руб. | E30: 0
A31: Налог на добычу полезных ископаемых (за исключением полезных ископаемых, в отношении которых при налогообложении установлен рентный коэффициент, отличный от 1, полезных ископаемых в виде углеводородного сырья, природных алмазов и общераспространенных полезных ископаемых, угля коксующегося, железных руд, апатит-магнетитовых, апатит-штаффелитовых и маложелезистых апатитовых руд, многокомпонентной комплексной руды, в отношении которой при налогообложении установлен коэффициент, характеризующий стоимость ценных компонентов в руде) | B31: сумма налога на добычу полезных ископаемых, подлежащая уплате в бюджет | C31: 2024 год | D31: тыс. руб. | E31: 0
A35: Глава муниципального образования
A36: _____________________________________________ | C36: ________________
C37: (подпись)

Sheet СВОД
A3: Перечень исходных данных, необходимых для осуществления оценки налогового потенциала муниципальных образований в Республике Алтай на очередной финансовый год и плановый период для проведения расчетов распределения межбюджетных трансфертов из республиканского бюджета Республики Алтай на очередной финансовый год и плановый период
A5: СВОД
A7: показатель | C7: период | D7: ед. измерения | E7: значение показателя по данным МФ РА | F7: значение показателя по данным МО | G7: согласованное значение показателя
E8: КБ МО | F8: КБ МО | G8: КБ МО
A9: 1 | C9: 2 | D9: 3 | E9: 4 | F9: 5 | G9: 6
A10: Налог на доходы физических лиц | B10: сумма исчисленного налога на доходы физических лиц | C10: 2023 год | D10: тыс. руб. | E10: ='Кош-Агач'!E10+Улаган!E10+'Усть-Кан'!E10+Онгудай!E10+Шебалино!E10+'Усть-Кокса'!E10+Турочак!E10+Майма!E10+Чоя!E10+Чемал!E10+'Горно-Алтайск'!E10 -> 5106444.9
B11: сумма исчисленного налога на доходы физических лиц | C11: 2024 год | D11: тыс. руб. | E11: ='Кош-Агач'!E11+Улаган!E11+'Усть-Кан'!E11+Онгудай!E11+Шебалино!E11+'Усть-Кокса'!E11+Турочак!E11+Майма!E11+Чоя!E11+Чемал!E11+'Горно-Алтайск'!E11 -> 6423749
B12: сумма исчисленного налога на доходы физических лиц | C12: 1 полугодие 2025 года | D12: тыс. руб. | E12: ='Кош-Агач'!E12+Улаган!E12+'Усть-Кан'!E12+Онгудай!E12+Шебалино!E12+'Усть-Кокса'!E12+Турочак!E12+Майма!E12+Чоя!E12+Чемал!E12+'Горно-Алтайск'!E12 -> 3386142.9
A13: Налог, взимаемый в связи с применением упрощенной системы налогообложения | B13: сумма налога, взимаемого в связи с применением упрощенной системы налогообложения | C13: 2023 год | D13: тыс. руб. | E13: ='Кош-Агач'!E13+Улаган!E13+'Усть-Кан'!E13+Онгудай!E13+Шебалино!E13+'Усть-Кокса'!E13+Турочак!E13+Майма!E13+Чоя!E13+Чемал!E13+'Горно-Алтайск'!E13 -> 761829
B14: сумма налога, взимаемого в связи с применением упрощенной системы налогообложения | C14: 2024 год | D14: тыс. руб. | E14: ='Кош-Агач'!E14+Улаган!E14+'Усть-Кан'!E14+Онгудай!E14+Шебалино!E14+'Усть-Кокса'!E14+Турочак!E14+Майма!E14+Чоя!E14+Чемал!E14+'Горно-Алтайск'!E14 -> 863871
B15: сумма налога, взимаемого в связи с применением упрощенной системы налогообложения | C15: 1 полугодие 2025 года | D15: тыс. руб. | E15: ='Кош-Агач'!E15+Улаган!E15+'Усть-Кан'!E15+Онгудай!E15+Шебалино!E15+'Усть-Кокса'!E15+Турочак!E15+Майма!E15+Чоя!E15+Чемал!E15+'Горно-Алтайск'!E15 -> 346679.48
A16: Налог, взимаемый в связи с применением патентной системы налогообложения | B16: сумма исчисленного налога, взимаемого в связи с применением патентной системы налогообложения | C16: 2023 год | D16: тыс. руб. | E16: ='Кош-Агач'!E16+Улаган!E16+'Усть-Кан'!E16+Онгудай!E16+Шебалино!E16+'Усть-Кокса'!E16+Турочак!E16+Майма!E16+Чоя!E16+Чемал!E16+'Горно-Алтайск'!E16 -> 67774.92
B17: сумма исчисленного налога, взимаемого в связи с применением патентной системы налогообложения | C17: 2024 год | D17: тыс. руб. | E17: ='Кош-Агач'!E17+Улаган!E17+'Усть-Кан'!E17+Онгудай!E17+Шебалино!E17+'Усть-Кокса'!E17+Турочак!E17+Майма!E17+Чоя!E17+Чемал!E17+'Горно-Алтайск'!E17 -> 73449.22
B18: сумма исчисленного налога, взимаемого в связи с применением патентной системы налогообложения | C18: 1 полугодие 2025 года | D18: тыс. руб. | E18: ='Кош-Агач'!E18+Улаган!E18+'Усть-Кан'!E18+Онгудай!E18+Шебалино!E18+'Усть-Кокса'!E18+Турочак!E18+Майма!E18+Чоя!E18+Чемал!E18+'Горно-Алтайск'!E18 -> 123507.7
A19: Единый сельскохозяйственный налог | B19: сумма исчисленного единого сельскохозяйственного налога | C19: 2023 год | D19: тыс. руб. | E19: ='Кош-Агач'!E19+Улаган!E19+'Усть-Кан'!E19+Онгудай!E19+Шебалино!E19+'Усть-Кокса'!E19+Турочак!E19+Майма!E19+Чоя!E19+Чемал!E19+'Горно-Алтайск'!E19 -> 5787
B20: сумма исчисленного единого сельскохозяйственного налога | C20: 2024 год | D20: тыс. руб. | E20: ='Кош-Агач'!E20+Улаган!E20+'Усть-Кан'!E20+Онгудай!E20+Шебалино!E20+'Усть-Кокса'!E20+Турочак!E20+Майма!E20+Чоя!E20+Чемал!E20+'Горно-Алтайск'!E20 -> 6918
B21: сумма исчисленного единого сельскохозяйственного налога | C21: 1 полугодие 2025 года | D21: тыс. руб. | E21: ='Кош-Агач'!E21+Улаган!E21+'Усть-Кан'!E21+Онгудай!E21+Шебалино!E21+'Усть-Кокса'!E21+Турочак!E21+Майма!E21+Чоя!E21+Чемал!E21+'Горно-Алтайск'!E21 -> 7559.57
A22: Земельный налог с организаций | B22: сумма земельного налога, подлежащая уплате в бюджет | C22: 2023 год | D22: тыс. руб. | E22: ='Кош-Агач'!E22+Улаган!E22+'Усть-Кан'!E22+Онгудай!E22+Шебалино!E22+'Усть-Кокса'!E22+Турочак!E22+Майма!E22+Чоя!E22+Чемал!E22+'Горно-Алтайск'!E22 -> 91521
B23: сумма земельного налога, подлежащая уплате в бюджет | C23: 2024 год | D23: тыс. руб. | E23: ='Кош-Агач'!E23+Улаган!E23+'Усть-Кан'!E23+Онгудай!E23+Шебалино!E23+'Усть-Кокса'!E23+Турочак!E23+Майма!E23+Чоя!E23+Чемал!E23+'Горно-Алтайск'!E23 -> 112968
B24: сумма земельного налога, подлежащая уплате в бюджет | C24: 1 полугодие 2025 года | D24: тыс. руб. | E24: ='Кош-Агач'!E24+Улаган!E24+'Усть-Кан'!E24+Онгудай!E24+Шебалино!E24+'Усть-Кокса'!E24+Турочак!E24+Майма!E24+Чоя!E24+Чемал!E24+'Горно-Алтайск'!E24 -> 71712.26
A25: Земельный налог с физических лиц | B25: сумма земельного налога, подлежащая уплате в бюджет | C25: 2024 год | D25: тыс. руб. | E25: ='Кош-Агач'!E25+Улаган!E25+'Усть-Кан'!E25+Онгудай!E25+Шебалино!E25+'Усть-Кокса'!E25+Турочак!E25+Майма!E25+Чоя!E25+Чемал!E25+'Горно-Алтайск'!E25 -> 100646
A26: Налог на имущество физических лиц | B26: сумма налога на имущество физических лиц, подлежащая уплате в бюджет | C26: 2024 год | D26: тыс. руб. | E26: ='Кош-Агач'!E26+Улаган!E26+'Усть-Кан'!E26+Онгудай!E26+Шебалино!E26+'Усть-Кокса'!E26+Турочак!E26+Майма!E26+Чоя!E26+Чемал!E26+'Горно-Алтайск'!E26 -> 124295
A27: Налог на имущество организаций | B27: сумма налога на имущество организаций, исчисленная к уплате в бюджет | C27: 2023 год | D27: тыс. руб. | E27: ='Кош-Агач'!E27+Улаган!E27+'Усть-Кан'!E27+Онгудай!E27+Шебалино!E27+'Усть-Кокса'!E27+Турочак!E27+Майма!E27+Чоя!E27+Чемал!E27+'Горно-Алтайск'!E27 -> 699885
B28: сумма налога на имущество организаций, исчисленная к уплате в бюджет | C28: 2024 год | D28: тыс. руб. | E28: ='Кош-Агач'!E28+Улаган!E28+'Усть-Кан'!E28+Онгудай!E28+Шебалино!E28+'Усть-Кокса'!E28+Турочак!E28+Майма!E28+Чоя!E28+Чемал!E28+'Горно-Алтайск'!E28 -> 830928
B29: сумма налога на имущество организаций, исчисленная к уплате в бюджет | C29: 1 полугодие 2025 года | D29: тыс. руб. | E29: ='Кош-Агач'!E29+Улаган!E29+'Усть-Кан'!E29+Онгудай!E29+Шебалино!E29+'Усть-Кокса'!E29+Турочак!E29+Майма!E29+Чоя!E29+Чемал!E29+'Горно-Алтайск'!E29 -> 457508.83
A30: Налогу на добычу общераспространенных полезных ископаемых | B30: сумма налога на добычу полезных ископаемых, подлежащая уплате в бюджет | C30: 2024 год | D30: тыс. руб. | E30: ='Кош-Агач'!E30+Улаган!E30+'Усть-Кан'!E30+Онгудай!E30+Шебалино!E30+'Усть-Кокса'!E30+Турочак!E30+Майма!E30+Чоя!E30+Чемал!E30+'Горно-Алтайск'!E30 -> 33091
A31: Налог на добычу полезных ископаемых (за исключением полезных ископаемых, в отношении которых при налогообложении установлен рентный коэффициент, отличный от 1, полезных ископаемых в виде углеводородного сырья, природных алмазов и общераспространенных полезных ископаемых, угля коксующегося, железных руд, апатит-магнетитовых, апатит-штаффелитовых и маложелезистых апатитовых руд, многокомпонентной комплексной руды, в отношении которой при налогообложении установлен коэффициент, характеризующий стоимость ценных компонентов в руде) | B31: сумма налога на добычу полезных ископаемых, подлежащая уплате в бюджет | C31: 2024 год | D31: тыс. руб. | E31: ='Кош-Агач'!E31+Улаган!E31+'Усть-Кан'!E31+Онгудай!E31+Шебалино!E31+'Усть-Кокса'!E31+Турочак!E31+Майма!E31+Чоя!E31+Чемал!E31+'Горно-Алтайск'!E31 -> 280065
