Workbook

Sheet Кош-Агач
A3: Перечень исходных данных, необходимых для осуществления оценки налогового потенциала муниципальных образований в Республике Алтай на очередной финансовый год и плановый период для проведения расчетов распределения межбюджетных трансфертов из республиканского бюджета Республики Алтай на очередной финансовый год и плановый период
A5: Муниципальное образование_Кош-Агачский район_
A7: показатель | C7: период | D7: ед. измерения | E7: значение показателя по данным МФ РА | F7: значение показателя по данным МО | G7: согласованное значение показателя
E8: МО | F8: МО | G8: МО
A9: 1 | C9: 2 | D9: 3 | E9: 4 | F9: 5 | G9: 6
A10: Налог на доходы физических лиц | B10: сумма исчисленного налога на доходы физических лиц | C10: 2024 год | D10: тыс. руб. | E10: 317677.2
B11: сумма исчисленного налога на доходы физических лиц | C11: 2025 год | D11: тыс. руб. | E11: 349476.56
B12: сумма исчисленного налога на доходы физических лиц | C12: 1 полугодие 2026 года | D12: тыс. руб. | E12: 205833.52
A13: Налог, взимаемый в связи с применением упрощенной системы налогообложения | B13: сумма налога, взимаемого в связи с применением упрощенной системы налогообложения | C13: 2024 год | D13: тыс. руб. | E13: 0
B14: сумма налога, взимаемого в связи с применением упрощенной системы налогообложения | C14: 2025 год | D14: тыс. руб. | E14: 0
B15: сумма налога, взимаемого в связи с применением упрощенной системы налогообложения | C15: 1 полугодие 2026 года | D15: тыс. руб. | E15: 0
A16: Налог, взимаемый в связи с применением патентной системы налогообложения | B16: сумма исчисленного налога, взимаемого в связи с применением патентной системы налогообложения | C16: 2024 год | D16: тыс. руб. | E16: 3445
B17: сумма исчисленного налога, взимаемого в связи с применением патентной системы налогообложения | C17: 2025 год | D17: тыс. руб. | E17: ='[1]ПСН (2)'!$BF$18 -> 3339.42
B18: сумма исчисленного налога, взимаемого в связи с применением патентной системы налогообложения | C18: 1 полугодие 2026 года | D18: тыс. руб. | E18: ='[1]ПСН (2)'!$BG$18 -> 3003.14
A19: Единый сельскохозяйственный налог | B19: сумма исчисленного единого сельскохозяйственного налога | C19: 2024 год | D19: тыс. руб. | E19: 0
B20: сумма исчисленного единого сельскохозяйственного налога | C20: 2025 год | D20: тыс. руб. | E20: 0
B21: сумма исчисленного единого сельскохозяйственного налога | C21: 1 полугодие 2026 года | D21: тыс. руб. | E21: 0
A22: Земельный налог с организаций | B22: сумма земельного налога, подлежащая уплате в бюджет с учетом налоговых льгот | C22: 2024 год | D22: тыс. руб. | E22: 1605
B23: сумма земельного налога, подлежащая уплате в бюджет с учетом налоговых льгот | C23: 2025 год | D23: тыс. руб. | E23: 2014
B24: сумма земельного налога, подлежащая уплате в бюджет с учетом налоговых льгот | C24: 1 полугодие 2026 года | D24: тыс. руб. | E24: =[2]ЗНорг!$BE$18 -> 775.2809
A25: Земельный налог с физических лиц | B25: сумма земельного налога, подлежащая уплате в бюджет с учетом налоговых льгот | C25: 2025 год | D25: тыс. руб. | E25: 2491
A26: Налог на имущество физических лиц | B26: сумма налога на имущество физических лиц, подлежащая уплате в бюджет, с учетом налоговых льгот | C26: 2025 год | D26: тыс. руб. | E26: 10414
A27: Налог на имущество организаций | B27: сумма налога на имущество организаций, исчисленная к уплате в бюджет | C27: 2024 год | D27: тыс. руб. | E27: =2158+44737 -> 46895
B28: сумма налога на имущество организаций, исчисленная к уплате в бюджет | C28: 2025 год | D28: тыс. руб. | E28: =[3]НИО!$AY$18 -> 45085
B29: сумма налога на имущество организаций, исчисленная к уплате в бюджет | C29: 1 полугодие 2026 года | D29: тыс. руб. | E29: =[3]НИО!$AZ$18 -> 24219.34
A30: Налогу на добычу общераспространенных полезных ископаемых | B30: сумма налога на добычу полезных ископаемых, подлежащая уплате в бюджет | C30: 2025 год | D30: тыс. руб. | E30: =[4]НДПИобщерасп!$BA$18 -> 21
A31: Налог на добычу полезных ископаемых (за исключением полезных ископаемых, в отношении которых при налогообложении установлен рентный коэффициент, отличный от 1, полезных ископаемых в виде углеводородного сырья, природных алмазов и общераспространенных полезных ископаемых, угля коксующегося, железных руд, апатит-магнетитовых, апатит-штаффелитовых и маложелезистых апатитовых руд, многокомпонентной комплексной руды, в отношении которой при налогообложении установлен коэффициент, характеризующий стоимость ценных компонентов в руде) | B31: сумма налога на добычу полезных ископаемых, подлежащая уплате в бюджет | C31: 2025 год | D31: тыс. руб. | E31: 0
A35: Глава муниципального образования
A36: _____________________________________________ | C36: ________________
C37: (подпись)

Sheet Улаган
A3: Перечень исходных данных, необходимых для осуществления оценки налогового потенциала муниципальных образований в Республике Алтай на очередной финансовый год и плановый период для проведения расчетов распределения межбюджетных трансфертов из республиканского бюджета Республики Алтай на очередной финансовый год и плановый период
A5: Муниципальное образование_Улаганский район_
A7: показатель | C7: период | D7: ед. измерения | E7: значение показателя по данным МФ РА | F7: значение показателя по данным МО | G7: согласованное значение показателя
E8: МО | F8: МО | G8: МО
A9: 1 | C9: 2 | D9: 3 | E9: 4 | F9: 5 | G9: 6
A10: Налог на доходы физических лиц | B10: сумма исчисленного налога на доходы физических лиц | C10: 2024 год | D10: тыс. руб. | E10: 199418.95
B11: сумма исчисленного налога на доходы физических лиц | C11: 2025 год | D11: тыс. руб. | E11: 219202.05
B12: сумма исчисленного налога на доходы физических лиц | C12: 1 полугодие 2026 года | D12: тыс. руб. | E12: 129565.43
A13: Налог, взимаемый в связи с применением упрощенной системы налогообложения | B13: сумма налога, взимаемого в связи с применением упрощенной системы налогообложения | C13: 2024 год | D13: тыс. руб. | E13: 0
B14: сумма налога, взимаемого в связи с применением упрощенной системы налогообложения | C14: 2025 год | D14: тыс. руб. | E14: 0
B15: сумма налога, взимаемого в связи с применением упрощенной системы налогообложения | C15: 1 полугодие 2026 года | D15: тыс. руб. | E15: 0
A16: Налог, взимаемый в связи с применением патентной системы налогообложения | B16: сумма исчисленного налога, взимаемого в связи с применением патентной системы налогообложения | C16: 2024 год | D16: тыс. руб. | E16: 3006.68
B17: сумма исчисленного налога, взимаемого в связи с применением патентной системы налогообложения | C17: 2025 год | D17: тыс. руб. | E17: ='[1]ПСН (2)'!$BF$19 -> 4755.28
B18: сумма исчисленного налога, взимаемого в связи с применением патентной системы налогообложения | C18: 1 полугодие 2026 года | D18: тыс. руб. | E18: ='[1]ПСН (2)'!$BG$19 -> 3872.02
A19: Единый сельскохозяйственный налог | B19: сумма исчисленного единого сельскохозяйственного налога | C19: 2024 год | D19: тыс. руб. | E19: 0
B20: сумма исчисленного единого сельскохозяйственного налога | C20: 2025 год | D20: тыс. руб. | E20: 0
B21: сумма исчисленного единого сельскохозяйственного налога | C21: 1 полугодие 2026 года | D21: тыс. руб. | E21: 0
A22: Земельный налог с организаций | B22: сумма земельного налога, подлежащая уплате в бюджет с учетом налоговых льгот | C22: 2024 год | D22: тыс. руб. | E22: 1630
B23: сумма земельного налога, подлежащая уплате в бюджет с учетом налоговых льгот | C23: 2025 год | D23: тыс. руб. | E23: 1965
B24: сумма земельного налога, подлежащая уплате в бюджет с учетом налоговых льгот | C24: 1 полугодие 2026 года | D24: тыс. руб. | E24: =[2]ЗНорг!$BE$19 -> 916.89488
A25: Земельный налог с физических лиц | B25: сумма земельного налога, подлежащая уплате в бюджет с учетом налоговых льгот | C25: 2025 год | D25: тыс. руб. | E25: 1734
A26: Налог на имущество физических лиц | B26: сумма налога на имущество физических лиц, подлежащая уплате в бюджет, с учетом налоговых льгот | C26: 2025 год | D26: тыс. руб. | E26: 3502
A27: Налог на имущество организаций | B27: сумма налога на имущество организаций, исчисленная к уплате в бюджет | C27: 2024 год | D27: тыс. руб. | E27: =25666+897 -> 26563
B28: сумма налога на имущество организаций, исчисленная к уплате в бюджет | C28: 2025 год | D28: тыс. руб. | E28: =[3]НИО!$AY$19 -> 40242
B29: сумма налога на имущество организаций, исчисленная к уплате в бюджет | C29: 1 полугодие 2026 года | D29: тыс. руб. | E29: =[3]НИО!$AZ$19 -> 21316.11
A30: Налогу на добычу общераспространенных полезных ископаемых | B30: сумма налога на добычу полезных ископаемых, подлежащая уплате в бюджет | C30: 2025 год | D30: тыс. руб. | E30: =[4]НДПИобщерасп!$BA$19 -> 6
A31: Налог на добычу полезных ископаемых (за исключением полезных ископаемых, в отношении которых при налогообложении установлен рентный коэффициент, отличный от 1, полезных ископаемых в виде углеводородного сырья, природных алмазов и общераспространенных полезных ископаемых, угля коксующегося, железных руд, апатит-магнетитовых, апатит-штаффелитовых и маложелезистых апатитовых руд, многокомпонентной комплексной руды, в отношении которой при налогообложении установлен коэффициент, характеризующий стоимость ценных компонентов в руде) | B31: сумма налога на добычу полезных ископаемых, подлежащая уплате в бюджет | C31: 2025 год | D31: тыс. руб. | E31: 0
A35: Глава муниципального образования
A36: _____________________________________________ | C36: ________________
C37: (подпись)

Sheet Усть-Кан
A3: Перечень исходных данных, необходимых для осуществления оценки налогового потенциала муниципальных образований в Республике Алтай на очередной финансовый год и плановый период для проведения расчетов распределения межбюджетных трансфертов из республиканского бюджета Республики Алтай на очередной финансовый год и плановый период
A5: Муниципальное образование_Усть-Канский район_
A7: показатель | C7: период | D7: ед. измерения | E7: значение показателя по данным МФ РА | F7: значение показателя по данным МО | G7: согласованное значение показателя
E8: МО | F8: МО | G8: МО
A9: 1 | C9: 2 | D9: 3 | E9: 4 | F9: 5 | G9: 6
A10: Налог на доходы физических лиц | B10: сумма исчисленного налога на доходы физических лиц | C10: 2024 год | D10: тыс. руб. | E10: 165310.03
B11: сумма исчисленного налога на доходы физических лиц | C11: 2025 год | D11: тыс. руб. | E11: 181046.01
B12: сумма исчисленного налога на доходы физических лиц | C12: 1 полугодие 2026 года | D12: тыс. руб. | E12: 92334.923
A13: Налог, взимаемый в связи с применением упрощенной системы налогообложения | B13: сумма налога, взимаемого в связи с применением упрощенной системы налогообложения | C13: 2024 год | D13: тыс. руб. | E13: 0
B14: сумма налога, взимаемого в связи с применением упрощенной системы налогообложения | C14: 2025 год | D14: тыс. руб. | E14: 0
B15: сумма налога, взимаемого в связи с применением упрощенной системы налогообложения | C15: 1 полугодие 2026 года | D15: тыс. руб. | E15: 0
A16: Налог, взимаемый в связи с применением патентной системы налогообложения | B16: сумма исчисленного налога, взимаемого в связи с применением патентной системы налогообложения | C16: 2024 год | D16: тыс. руб. | E16: 2279.82
B17: сумма исчисленного налога, взимаемого в связи с применением патентной системы налогообложения | C17: 2025 год | D17: тыс. руб. | E17: ='[1]ПСН (2)'!$BF$20 -> 2866.12
B18: сумма исчисленного налога, взимаемого в связи с применением патентной системы налогообложения | C18: 1 полугодие 2026 года | D18: тыс. руб. | E18: ='[1]ПСН (2)'!$BG$20 -> 2773.94
A19: Единый сельскохозяйственный налог | B19: сумма исчисленного единого сельскохозяйственного налога | C19: 2024 год | D19: тыс. руб. | E19: 858
B20: сумма исчисленного единого сельскохозяйственного налога | C20: 2025 год | D20: тыс. руб. | E20: =[5]ЕСН!$BB$20 -> 5645
B21: сумма исчисленного единого сельскохозяйственного налога | C21: 1 полугодие 2026 года | D21: тыс. руб. | E21: =[5]ЕСН!$BC$20 -> 4870.3915
A22: Земельный налог с организаций | B22: сумма земельного налога, подлежащая уплате в бюджет с учетом налоговых льгот | C22: 2024 год | D22: тыс. руб. | E22: 1048
B23: сумма земельного налога, подлежащая уплате в бюджет с учетом налоговых льгот | C23: 2025 год | D23: тыс. руб. | E23: 1078
B24: сумма земельного налога, подлежащая уплате в бюджет с учетом налоговых льгот | C24: 1 полугодие 2026 года | D24: тыс. руб. | E24: =[2]ЗНорг!$BE$20 -> 589.43656
A25: Земельный налог с физических лиц | B25: сумма земельного налога, подлежащая уплате в бюджет с учетом налоговых льгот | C25: 2025 год | D25: тыс. руб. | E25: 5272
A26: Налог на имущество физических лиц | B26: сумма налога на имущество физических лиц, подлежащая уплате в бюджет, с учетом налоговых льгот | C26: 2025 год | D26: тыс. руб. | E26: 7073
A27: Налог на имущество организаций | B27: сумма налога на имущество организаций, исчисленная к уплате в бюджет | C27: 2024 год | D27: тыс. руб. | E27: =1142+38255 -> 39397
B28: сумма налога на имущество организаций, исчисленная к уплате в бюджет | C28: 2025 год | D28: тыс. руб. | E28: =[3]НИО!$AY$20 -> 40588
B29: сумма налога на имущество организаций, исчисленная к уплате в бюджет | C29: 1 полугодие 2026 года | D29: тыс. руб. | E29: =[3]НИО!$AZ$20 -> 20444.04
A30: Налогу на добычу общераспространенных полезных ископаемых | B30: сумма налога на добычу полезных ископаемых, подлежащая уплате в бюджет | C30: 2025 год | D30: тыс. руб. | E30: =[4]НДПИобщерасп!$BA$20 -> 939
A31: Налог на добычу полезных ископаемых (за исключением полезных ископаемых, в отношении которых при налогообложении установлен рентный коэффициент, отличный от 1, полезных ископаемых в виде углеводородного сырья, природных алмазов и общераспространенных полезных ископаемых, угля коксующегося, железных руд, апатит-магнетитовых, апатит-штаффелитовых и маложелезистых апатитовых руд, многокомпонентной комплексной руды, в отношении которой при налогообложении установлен коэффициент, характеризующий стоимость ценных компонентов в руде) | B31: сумма налога на добычу полезных ископаемых, подлежащая уплате в бюджет | C31: 2025 год | D31: тыс. руб. | E31: 0
A35: Глава муниципального образования
A36: _____________________________________________ | C36: ________________
C37: (подпись)

Sheet Онгудай
A3: Перечень исходных данных, необходимых для осуществления оценки налогового потенциала муниципальных образований в Республике Алтай на очередной финансовый год и плановый период для проведения расчетов распределения межбюджетных трансфертов из республиканского бюджета Республики Алтай на очередной финансовый год и плановый период
A5: Муниципальное образование_Онгудайский район_
A7: показатель | C7: период | D7: ед. измерения | E7: значение показателя по данным МФ РА | F7: значение показателя по данным МО | G7: согласованное значение показателя
E8: МО | F8: МО | G8: МО
A9: 1 | C9: 2 | D9: 3 | E9: 4 | F9: 5 | G9: 6
A10: Налог на доходы физических лиц | B10: сумма исчисленного налога на доходы физических лиц | C10: 2024 год | D10: тыс. руб. | E10: 181260.76
B11: сумма исчисленного налога на доходы физических лиц | C11: 2025 год | D11: тыс. руб. | E11: 206941.08
B12: сумма исчисленного налога на доходы физических лиц | C12: 1 полугодие 2026 года | D12: тыс. руб. | E12: 105547.01
A13: Налог, взимаемый в связи с применением упрощенной системы налогообложения | B13: сумма налога, взимаемого в связи с применением упрощенной системы налогообложения | C13: 2024 год | D13: тыс. руб. | E13: 0
B14: сумма налога, взимаемого в связи с применением упрощенной системы налогообложения | C14: 2025 год | D14: тыс. руб. | E14: 0
B15: сумма налога, взимаемого в связи с применением упрощенной системы налогообложения | C15: 1 полугодие 2026 года | D15: тыс. руб. | E15: 0
A16: Налог, взимаемый в связи с применением патентной системы налогообложения | B16: сумма исчисленного налога, взимаемого в связи с применением патентной системы налогообложения | C16: 2024 год | D16: тыс. руб. | E16: 4540
B17: сумма исчисленного налога, взимаемого в связи с применением патентной системы налогообложения | C17: 2025 год | D17: тыс. руб. | E17: ='[1]ПСН (2)'!$BF$21 -> 6817.02
B18: сумма исчисленного налога, взимаемого в связи с применением патентной системы налогообложения | C18: 1 полугодие 2026 года | D18: тыс. руб. | E18: ='[1]ПСН (2)'!$BG$21 -> 7484.46
A19: Единый сельскохозяйственный налог | B19: сумма исчисленного единого сельскохозяйственного налога | C19: 2024 год | D19: тыс. руб. | E19: 632
B20: сумма исчисленного единого сельскохозяйственного налога | C20: 2025 год | D20: тыс. руб. | E20: =[5]ЕСН!$BB$21 -> 2091
B21: сумма исчисленного единого сельскохозяйственного налога | C21: 1 полугодие 2026 года | D21: тыс. руб. | E21: =[5]ЕСН!$BC$21 -> 1905.797
A22: Земельный налог с организаций | B22: сумма земельного налога, подлежащая уплате в бюджет с учетом налоговых льгот | C22: 2024 год | D22: тыс. руб. | E22: 5355
B23: сумма земельного налога, подлежащая уплате в бюджет с учетом налоговых льгот | C23: 2025 год | D23: тыс. руб. | E23: =[2]ЗНорг!$BD$21 -> 5195
B24: сумма земельного налога, подлежащая уплате в бюджет с учетом налоговых льгот | C24: 1 полугодие 2026 года | D24: тыс. руб. | E24: =[2]ЗНорг!$BE$21 -> 2693.8912
A25: Земельный налог с физических лиц | B25: сумма земельного налога, подлежащая уплате в бюджет с учетом налоговых льгот | C25: 2025 год | D25: тыс. руб. | E25: 5144
A26: Налог на имущество физических лиц | B26: сумма налога на имущество физических лиц, подлежащая уплате в бюджет, с учетом налоговых льгот | C26: 2025 год | D26: тыс. руб. | E26: 8211
A27: Налог на имущество организаций | B27: сумма налога на имущество организаций, исчисленная к уплате в бюджет | C27: 2024 год | D27: тыс. руб. | E27: =57100+1773 -> 58873
B28: сумма налога на имущество организаций, исчисленная к уплате в бюджет | C28: 2025 год | D28: тыс. руб. | E28: =[3]НИО!$AY$21 -> 53935
B29: сумма налога на имущество организаций, исчисленная к уплате в бюджет | C29: 1 полугодие 2026 года | D29: тыс. руб. | E29: =[3]НИО!$AZ$21 -> 32047.65
A30: Налогу на добычу общераспространенных полезных ископаемых | B30: сумма налога на добычу полезных ископаемых, подлежащая уплате в бюджет | C30: 2025 год | D30: тыс. руб. | E30: =[4]НДПИобщерасп!$BA$21 -> 401
A31: Налог на добычу полезных ископаемых (за исключением полезных ископаемых, в отношении которых при налогообложении установлен рентный коэффициент, отличный от 1, полезных ископаемых в виде углеводородного сырья, природных алмазов и общераспространенных полезных ископаемых, угля коксующегося, железных руд, апатит-магнетитовых, апатит-штаффелитовых и маложелезистых апатитовых руд, многокомпонентной комплексной руды, в отношении которой при налогообложении установлен коэффициент, характеризующий стоимость ценных компонентов в руде) | B31: сумма налога на добычу полезных ископаемых, подлежащая уплате в бюджет | C31: 2025 год | D31: тыс. руб. | E31: 0
A35: Глава муниципального образования
A36: _____________________________________________ | C36: ________________
C37: (подпись)

Sheet Шебалино
A3: Перечень исходных данных, необходимых для осуществления оценки налогового потенциала муниципальных образований в Республике Алтай на очередной финансовый год и плановый период для проведения расчетов распределения межбюджетных трансфертов из республиканского бюджета Республики Алтай на очередной финансовый год и плановый период
A5: Муниципальное образование_Шебалинский район__
A7: показатель | C7: период | D7: ед. измерения | E7: значение показателя по данным МФ РА | F7: значение показателя по данным МО | G7: согласованное значение показателя
E8: МО | F8: МО | G8: МО
A9: 1 | C9: 2 | D9: 3 | E9: 4 | F9: 5 | G9: 6
A10: Налог на доходы физических лиц | B10: сумма исчисленного налога на доходы физических лиц | C10: 2024 год | D10: тыс. руб. | E10: 164551.8
B11: сумма исчисленного налога на доходы физических лиц | C11: 2025 год | D11: тыс. руб. | E11: 180148.88
B12: сумма исчисленного налога на доходы физических лиц | C12: 1 полугодие 2026 года | D12: тыс. руб. | E12: 96076.909
A13: Налог, взимаемый в связи с применением упрощенной системы налогообложения | B13: сумма налога, взимаемого в связи с применением упрощенной системы налогообложения | C13: 2024 год | D13: тыс. руб. | E13: 0
B14: сумма налога, взимаемого в связи с применением упрощенной системы налогообложения | C14: 2025 год | D14: тыс. руб. | E14: 0
B15: сумма налога, взимаемого в связи с применением упрощенной системы налогообложения | C15: 1 полугодие 2026 года | D15: тыс. руб. | E15: 0
A16: Налог, взимаемый в связи с применением патентной системы налогообложения | B16: сумма исчисленного налога, взимаемого в связи с применением патентной системы налогообложения | C16: 2024 год | D16: тыс. руб. | E16: 3090.12
B17: сумма исчисленного налога, взимаемого в связи с применением патентной системы налогообложения | C17: 2025 год | D17: тыс. руб. | E17: ='[1]ПСН (2)'!$BF$22 -> 3659.26
B18: сумма исчисленного налога, взимаемого в связи с применением патентной системы налогообложения | C18: 1 полугодие 2026 года | D18: тыс. руб. | E18: ='[1]ПСН (2)'!$BG$22 -> 3334.82
A19: Единый сельскохозяйственный налог | B19: сумма исчисленного единого сельскохозяйственного налога | C19: 2024 год | D19: тыс. руб. | E19: 1708
B20: сумма исчисленного единого сельскохозяйственного налога | C20: 2025 год | D20: тыс. руб. | E20: =[5]ЕСН!$BB$22 -> 1750
B21: сумма исчисленного единого сельскохозяйственного налога | C21: 1 полугодие 2026 года | D21: тыс. руб. | E21: =[5]ЕСН!$BC$22 -> 1812.3413
A22: Земельный налог с организаций | B22: сумма земельного налога, подлежащая уплате в бюджет с учетом налоговых льгот | C22: 2024 год | D22: тыс. руб. | E22: 5112
B23: сумма земельного налога, подлежащая уплате в бюджет с учетом налоговых льгот | C23: 2025 год | D23: тыс. руб. | E23: 5387
B24: сумма земельного налога, подлежащая уплате в бюджет с учетом налоговых льгот | C24: 1 полугодие 2026 года | D24: тыс. руб. | E24: =[2]ЗНорг!$BE$22 -> 2706.607
A25: Земельный налог с физических лиц | B25: сумма земельного налога, подлежащая уплате в бюджет с учетом налоговых льгот | C25: 2025 год | D25: тыс. руб. | E25: 7270
A26: Налог на имущество физических лиц | B26: сумма налога на имущество физических лиц, подлежащая уплате в бюджет, с учетом налоговых льгот | C26: 2025 год | D26: тыс. руб. | E26: 6834
A27: Налог на имущество организаций | B27: сумма налога на имущество организаций, исчисленная к уплате в бюджет | C27: 2024 год | D27: тыс. руб. | E27: =1573+19120 -> 20693
B28: сумма налога на имущество организаций, исчисленная к уплате в бюджет | C28: 2025 год | D28: тыс. руб. | E28: =[3]НИО!$AY$22 -> 20034
B29: сумма налога на имущество организаций, исчисленная к уплате в бюджет | C29: 1 полугодие 2026 года | D29: тыс. руб. | E29: =[3]НИО!$AZ$22 -> 10028.81
A30: Налогу на добычу общераспространенных полезных ископаемых | B30: сумма налога на добычу полезных ископаемых, подлежащая уплате в бюджет | C30: 2025 год | D30: тыс. руб. | E30: =[4]НДПИобщерасп!$BA$22 -> 0
A31: Налог на добычу полезных ископаемых (за исключением полезных ископаемых, в отношении которых при налогообложении установлен рентный коэффициент, отличный от 1, полезных ископаемых в виде углеводородного сырья, природных алмазов и общераспространенных полезных ископаемых, угля коксующегося, железных руд, апатит-магнетитовых, апатит-штаффелитовых и маложелезистых апатитовых руд, многокомпонентной комплексной руды, в отношении которой при налогообложении установлен коэффициент, характеризующий стоимость ценных компонентов в руде) | B31: сумма налога на добычу полезных ископаемых, подлежащая уплате в бюджет | C31: 2025 год | D31: тыс. руб. | E31: 0
A35: Глава муниципального образования
A36: _____________________________________________ | C36: ________________
C37: (подпись)

Sheet Усть-Кокса
A3: Перечень исходных данных, необходимых для осуществления оценки налогового потенциала муниципальных образований в Республике Алтай на очередной финансовый год и плановый период для проведения расчетов распределения межбюджетных трансфертов из республиканского бюджета Республики Алтай на очередной финансовый год и плановый период
A5: Муниципальное образование_Усть-Коксинский район_
A7: показатель | C7: период | D7: ед. измерения | E7: значение показателя по данным МФ РА | F7: значение показателя по данным МО | G7: согласованное значение показателя
E8: МО | F8: МО | G8: МО
A9: 1 | C9: 2 | D9: 3 | E9: 4 | F9: 5 | G9: 6
A10: Налог на доходы физических лиц | B10: сумма исчисленного налога на доходы физических лиц | C10: 2024 год | D10: тыс. руб. | E10: 229116.34
B11: сумма исчисленного налога на доходы физических лиц | C11: 2025 год | D11: тыс. руб. | E11: 238267.51
B12: сумма исчисленного налога на доходы физических лиц | C12: 1 полугодие 2026 года | D12: тыс. руб. | E12: 122038.06
A13: Налог, взимаемый в связи с применением упрощенной системы налогообложения | B13: сумма налога, взимаемого в связи с применением упрощенной системы налогообложения | C13: 2024 год | D13: тыс. руб. | E13: 0
B14: сумма налога, взимаемого в связи с применением упрощенной системы налогообложения | C14: 2025 год | D14: тыс. руб. | E14: 0
B15: сумма налога, взимаемого в связи с применением упрощенной системы налогообложения | C15: 1 полугодие 2026 года | D15: тыс. руб. | E15: 0
A16: Налог, взимаемый в связи с применением патентной системы налогообложения | B16: сумма исчисленного налога, взимаемого в связи с применением патентной системы налогообложения | C16: 2024 год | D16: тыс. руб. | E16: 5542.84
B17: сумма исчисленного налога, взимаемого в связи с применением патентной системы налогообложения | C17: 2025 год | D17: тыс. руб. | E17: ='[1]ПСН (2)'!$BF$23 -> 6676.16
B18: сумма исчисленного налога, взимаемого в связи с применением патентной системы налогообложения | C18: 1 полугодие 2026 года | D18: тыс. руб. | E18: ='[1]ПСН (2)'!$BG$23 -> 8259.62
A19: Единый сельскохозяйственный налог | B19: сумма исчисленного единого сельскохозяйственного налога | C19: 2024 год | D19: тыс. руб. | E19: 2105
B20: сумма исчисленного единого сельскохозяйственного налога | C20: 2025 год | D20: тыс. руб. | E20: =[5]ЕСН!$BB$23 -> 2445
B21: сумма исчисленного единого сельскохозяйственного налога | C21: 1 полугодие 2026 года | D21: тыс. руб. | E21: =[5]ЕСН!$BC$23 -> -930.443
A22: Земельный налог с организаций | B22: сумма земельного налога, подлежащая уплате в бюджет с учетом налоговых льгот | C22: 2024 год | D22: тыс. руб. | E22: 9368
B23: сумма земельного налога, подлежащая уплате в бюджет с учетом налоговых льгот | C23: 2025 год | D23: тыс. руб. | E23: 9759
B24: сумма земельного налога, подлежащая уплате в бюджет с учетом налоговых льгот | C24: 1 полугодие 2026 года | D24: тыс. руб. | E24: =[2]ЗНорг!$BE$23 -> 5776.4314
A25: Земельный налог с физических лиц | B25: сумма земельного налога, подлежащая уплате в бюджет с учетом налоговых льгот | C25: 2025 год | D25: тыс. руб. | E25: 8220
A26: Налог на имущество физических лиц | B26: сумма налога на имущество физических лиц, подлежащая уплате в бюджет, с учетом налоговых льгот | C26: 2025 год | D26: тыс. руб. | E26: 8958
A27: Налог на имущество организаций | B27: сумма налога на имущество организаций, исчисленная к уплате в бюджет | C27: 2024 год | D27: тыс. руб. | E27: =2697+54930 -> 57627
B28: сумма налога на имущество организаций, исчисленная к уплате в бюджет | C28: 2025 год | D28: тыс. руб. | E28: =[3]НИО!$AY$23 -> 50896
B29: сумма налога на имущество организаций, исчисленная к уплате в бюджет | C29: 1 полугодие 2026 года | D29: тыс. руб. | E29: =[3]НИО!$AZ$23 -> 29957.99
A30: Налогу на добычу общераспространенных полезных ископаемых | B30: сумма налога на добычу полезных ископаемых, подлежащая уплате в бюджет | C30: 2025 год | D30: тыс. руб. | E30: =[4]НДПИобщерасп!$BA$23 -> 0
A31: Налог на добычу полезных ископаемых (за исключением полезных ископаемых, в отношении которых при налогообложении установлен рентный коэффициент, отличный от 1, полезных ископаемых в виде углеводородного сырья, природных алмазов и общераспространенных полезных ископаемых, угля коксующегося, железных руд, апатит-магнетитовых, апатит-штаффелитовых и маложелезистых апатитовых руд, многокомпонентной комплексной руды, в отношении которой при налогообложении установлен коэффициент, характеризующий стоимость ценных компонентов в руде) | B31: сумма налога на добычу полезных ископаемых, подлежащая уплате в бюджет | C31: 2025 год | D31: тыс. руб. | E31: 0
A35: Глава муниципального образования
A36: _____________________________________________ | C36: ________________
C37: (подпись)

Sheet Турочак
A3: Перечень исходных данных, необходимых для осуществления оценки налогового потенциала муниципальных образований в Республике Алтай на очередной финансовый год и плановый период для проведения расчетов распределения межбюджетных трансфертов из республиканского бюджета Республики Алтай на очередной финансовый год и плановый период
A5: Муниципальное образование_Турочакский район_
A7: показатель | C7: период | D7: ед. измерения | E7: значение показателя по данным МФ РА | F7: значение показателя по данным МО | G7: согласованное значение показателя
E8: МО | F8: МО | G8: МО
A9: 1 | C9: 2 | D9: 3 | E9: 4 | F9: 5 | G9: 6
A10: Налог на доходы физических лиц | B10: сумма исчисленного налога на доходы физических лиц | C10: 2024 год | D10: тыс. руб. | E10: 284032.98
B11: сумма исчисленного налога на доходы физических лиц | C11: 2025 год | D11: тыс. руб. | E11: 325324.33
B12: сумма исчисленного налога на доходы физических лиц | C12: 1 полугодие 2026 года | D12: тыс. руб. | E12: 154540.02
A13: Налог, взимаемый в связи с применением упрощенной системы налогообложения | B13: сумма налога, взимаемого в связи с применением упрощенной системы налогообложения | C13: 2024 год | D13: тыс. руб. | E13: 0
B14: сумма налога, взимаемого в связи с применением упрощенной системы налогообложения | C14: 2025 год | D14: тыс. руб. | E14: 0
B15: сумма налога, взимаемого в связи с применением упрощенной системы налогообложения | C15: 1 полугодие 2026 года | D15: тыс. руб. | E15: 0
A16: Налог, взимаемый в связи с применением патентной системы налогообложения | B16: сумма исчисленного налога, взимаемого в связи с применением патентной системы налогообложения | C16: 2024 год | D16: тыс. руб. | E16: 5465.34
B17: сумма исчисленного налога, взимаемого в связи с применением патентной системы налогообложения | C17: 2025 год | D17: тыс. руб. | E17: ='[1]ПСН (2)'!$BF$24 -> 7015.72
B18: сумма исчисленного налога, взимаемого в связи с применением патентной системы налогообложения | C18: 1 полугодие 2026 года | D18: тыс. руб. | E18: ='[1]ПСН (2)'!$BG$24 -> 6935.92
A19: Единый сельскохозяйственный налог | B19: сумма исчисленного единого сельскохозяйственного налога | C19: 2024 год | D19: тыс. руб. | E19: 0
B20: сумма исчисленного единого сельскохозяйственного налога | C20: 2025 год | D20: тыс. руб. | E20: =[5]ЕСН!$BB$24 -> 0
B21: сумма исчисленного единого сельскохозяйственного налога | C21: 1 полугодие 2026 года | D21: тыс. руб. | E21: =[5]ЕСН!$BC$24 -> 0
A22: Земельный налог с организаций | B22: сумма земельного налога, подлежащая уплате в бюджет с учетом налоговых льгот | C22: 2024 год | D22: тыс. руб. | E22: 5757
B23: сумма земельного налога, подлежащая уплате в бюджет с учетом налоговых льгот | C23: 2025 год | D23: тыс. руб. | E23: 6755
B24: сумма земельного налога, подлежащая уплате в бюджет с учетом налоговых льгот | C24: 1 полугодие 2026 года | D24: тыс. руб. | E24: =[2]ЗНорг!$BE$24 -> 4098.1052
A25: Земельный налог с физических лиц | B25: сумма земельного налога, подлежащая уплате в бюджет с учетом налоговых льгот | C25: 2025 год | D25: тыс. руб. | E25: 11370
A26: Налог на имущество физических лиц | B26: сумма налога на имущество физических лиц, подлежащая уплате в бюджет, с учетом налоговых льгот | C26: 2025 год | D26: тыс. руб. | E26: 9374
A27: Налог на имущество организаций | B27: сумма налога на имущество организаций, исчисленная к уплате в бюджет | C27: 2024 год | D27: тыс. руб. | E27: =2737+28392 -> 31129
B28: сумма налога на имущество организаций, исчисленная к уплате в бюджет | C28: 2025 год | D28: тыс. руб. | E28: =[3]НИО!$AY$24 -> 31256
B29: сумма налога на имущество организаций, исчисленная к уплате в бюджет | C29: 1 полугодие 2026 года | D29: тыс. руб. | E29: =[3]НИО!$AZ$24 -> 16437.54
A30: Налогу на добычу общераспространенных полезных ископаемых | B30: сумма налога на добычу полезных ископаемых, подлежащая уплате в бюджет | C30: 2025 год | D30: тыс. руб. | E30: =[4]НДПИобщерасп!$BA$24 -> 5362
A31: Налог на добычу полезных ископаемых (за исключением полезных ископаемых, в отношении которых при налогообложении установлен рентный коэффициент, отличный от 1, полезных ископаемых в виде углеводородного сырья, природных алмазов и общераспространенных полезных ископаемых, угля коксующегося, железных руд, апатит-магнетитовых, апатит-штаффелитовых и маложелезистых апатитовых руд, многокомпонентной комплексной руды, в отношении которой при налогообложении установлен коэффициент, характеризующий стоимость ценных компонентов в руде) | B31: сумма налога на добычу полезных ископаемых, подлежащая уплате в бюджет | C31: 2025 год | D31: тыс. руб. | E31: =[4]НДПИпрочие!$BB$24 -> 428995
A35: Глава муниципального образования
A36: _____________________________________________ | C36: ________________
C37: (подпись)

Sheet Майма
A3: Перечень исходных данных, необходимых для осуществления оценки налогового потенциала муниципальных образований в Республике Алтай на очередной финансовый год и плановый период для проведения расчетов распределения межбюджетных трансфертов из республиканского бюджета Республики Алтай на очередной финансовый год и плановый период
A5: Муниципальное образование_Майминский район_
A7: показатель | C7: период | D7: ед. измерения | E7: значение показателя по данным МФ РА | F7: значение показателя по данным МО | G7: согласованное значение показателя
E8: МО | F8: МО | G8: МО
A9: 1 | C9: 2 | D9: 3 | E9: 4 | F9: 5 | G9: 6
A10: Налог на доходы физических лиц | B10: сумма исчисленного налога на доходы физических лиц | C10: 2024 год | D10: тыс. руб. | E10: 1440733.9
B11: сумма исчисленного налога на доходы физических лиц | C11: 2025 год | D11: тыс. руб. | E11: 1814503.9
B12: сумма исчисленного налога на доходы физических лиц | C12: 1 полугодие 2026 года | D12: тыс. руб. | E12: 937045.7
A13: Налог, взимаемый в связи с применением упрощенной системы налогообложения | B13: сумма налога, взимаемого в связи с применением упрощенной системы налогообложения | C13: 2024 год | D13: тыс. руб. | E13: 0
B14: сумма налога, взимаемого в связи с применением упрощенной системы налогообложения | C14: 2025 год | D14: тыс. руб. | E14: 0
B15: сумма налога, взимаемого в связи с применением упрощенной системы налогообложения | C15: 1 полугодие 2026 года | D15: тыс. руб. | E15: 0
A16: Налог, взимаемый в связи с применением патентной системы налогообложения | B16: сумма исчисленного налога, взимаемого в связи с применением патентной системы налогообложения | C16: 2024 год | D16: тыс. руб. | E16: 13943
B17: сумма исчисленного налога, взимаемого в связи с применением патентной системы налогообложения | C17: 2025 год | D17: тыс. руб. | E17: ='[1]ПСН (2)'!$BF$25 -> 18895.08
B18: сумма исчисленного налога, взимаемого в связи с применением патентной системы налогообложения | C18: 1 полугодие 2026 года | D18: тыс. руб. | E18: ='[1]ПСН (2)'!$BG$25 -> 17100.96
A19: Единый сельскохозяйственный налог | B19: сумма исчисленного единого сельскохозяйственного налога | C19: 2024 год | D19: тыс. руб. | E19: 1318
B20: сумма исчисленного единого сельскохозяйственного налога | C20: 2025 год | D20: тыс. руб. | E20: =[5]ЕСН!$BB$25 -> 1307
B21: сумма исчисленного единого сельскохозяйственного налога | C21: 1 полугодие 2026 года | D21: тыс. руб. | E21: =[5]ЕСН!$BC$25 -> 1258.053
A22: Земельный налог с организаций | B22: сумма земельного налога, подлежащая уплате в бюджет с учетом налоговых льгот | C22: 2024 год | D22: тыс. руб. | E22: 28256
B23: сумма земельного налога, подлежащая уплате в бюджет с учетом налоговых льгот | C23: 2025 год | D23: тыс. руб. | E23: 48250
B24: сумма земельного налога, подлежащая уплате в бюджет с учетом налоговых льгот | C24: 1 полугодие 2026 года | D24: тыс. руб. | E24: =[2]ЗНорг!$BE$25 -> 30597.003
A25: Земельный налог с физических лиц | B25: сумма земельного налога, подлежащая уплате в бюджет с учетом налоговых льгот | C25: 2025 год | D25: тыс. руб. | E25: 28649
A26: Налог на имущество физических лиц | B26: сумма налога на имущество физических лиц, подлежащая уплате в бюджет, с учетом налоговых льгот | C26: 2025 год | D26: тыс. руб. | E26: 30602
A27: Налог на имущество организаций | B27: сумма налога на имущество организаций, исчисленная к уплате в бюджет | C27: 2024 год | D27: тыс. руб. | E27: =40078+189279 -> 229357
B28: сумма налога на имущество организаций, исчисленная к уплате в бюджет | C28: 2025 год | D28: тыс. руб. | E28: =[3]НИО!$AY$25 -> 212575
B29: сумма налога на имущество организаций, исчисленная к уплате в бюджет | C29: 1 полугодие 2026 года | D29: тыс. руб. | E29: =[3]НИО!$AZ$25 -> 115294.06
A30: Налогу на добычу общераспространенных полезных ископаемых | B30: сумма налога на добычу полезных ископаемых, подлежащая уплате в бюджет | C30: 2025 год | D30: тыс. руб. | E30: =[4]НДПИобщерасп!$BA$25 -> 27695
A31: Налог на добычу полезных ископаемых (за исключением полезных ископаемых, в отношении которых при налогообложении установлен рентный коэффициент, отличный от 1, полезных ископаемых в виде углеводородного сырья, природных алмазов и общераспространенных полезных ископаемых, угля коксующегося, железных руд, апатит-магнетитовых, апатит-штаффелитовых и маложелезистых апатитовых руд, многокомпонентной комплексной руды, в отношении которой при налогообложении установлен коэффициент, характеризующий стоимость ценных компонентов в руде) | B31: сумма налога на добычу полезных ископаемых, подлежащая уплате в бюджет | C31: 2025 год | D31: тыс. руб. | E31: 0
A35: Глава муниципального образования
A36: _____________________________________________ | C36: ________________
C37: (подпись)

Sheet Чоя
A3: Перечень исходных данных, необходимых для осуществления оценки налогового потенциала муниципальных образований в Республике Алтай на очередной финансовый год и плановый период для проведения расчетов распределения межбюджетных трансфертов из республиканского бюджета Республики Алтай на очередной финансовый год и плановый период
A5: Муниципальное образование_Чойский район__
A7: показатель | C7: период | D7: ед. измерения | E7: значение показателя по данным МФ РА | F7: значение показателя по данным МО | G7: согласованное значение показателя
E8: МО | F8: МО | G8: МО
A9: 1 | C9: 2 | D9: 3 | E9: 4 | F9: 5 | G9: 6
A10: Налог на доходы физических лиц | B10: сумма исчисленного налога на доходы физических лиц | C10: 2024 год | D10: тыс. руб. | E10: 124938.35
B11: сумма исчисленного налога на доходы физических лиц | C11: 2025 год | D11: тыс. руб. | E11: 143181.84
B12: сумма исчисленного налога на доходы физических лиц | C12: 1 полугодие 2026 года | D12: тыс. руб. | E12: 78594.201
A13: Налог, взимаемый в связи с применением упрощенной системы налогообложения | B13: сумма налога, взимаемого в связи с применением упрощенной системы налогообложения | C13: 2024 год | D13: тыс. руб. | E13: 0
B14: сумма налога, взимаемого в связи с применением упрощенной системы налогообложения | C14: 2025 год | D14: тыс. руб. | E14: 0
B15: сумма налога, взимаемого в связи с применением упрощенной системы налогообложения | C15: 1 полугодие 2026 года | D15: тыс. руб. | E15: 0
A16: Налог, взимаемый в связи с применением патентной системы налогообложения | B16: сумма исчисленного налога, взимаемого в связи с применением патентной системы налогообложения | C16: 2024 год | D16: тыс. руб. | E16: 2099.56
B17: сумма исчисленного налога, взимаемого в связи с применением патентной системы налогообложения | C17: 2025 год | D17: тыс. руб. | E17: ='[1]ПСН (2)'!$BF$26 -> 3339.42
B18: сумма исчисленного налога, взимаемого в связи с применением патентной системы налогообложения | C18: 1 полугодие 2026 года | D18: тыс. руб. | E18: ='[1]ПСН (2)'!$BG$26 -> 2197.14
A19: Единый сельскохозяйственный налог | B19: сумма исчисленного единого сельскохозяйственного налога | C19: 2024 год | D19: тыс. руб. | E19: 59
B20: сумма исчисленного единого сельскохозяйственного налога | C20: 2025 год | D20: тыс. руб. | E20: =[5]ЕСН!$BB$26 -> 0
B21: сумма исчисленного единого сельскохозяйственного налога | C21: 1 полугодие 2026 года | D21: тыс. руб. | E21: =[5]ЕСН!$BC$26 -> 302.267
A22: Земельный налог с организаций | B22: сумма земельного налога, подлежащая уплате в бюджет с учетом налоговых льгот | C22: 2024 год | D22: тыс. руб. | E22: 1246
B23: сумма земельного налога, подлежащая уплате в бюджет с учетом налоговых льгот | C23: 2025 год | D23: тыс. руб. | E23: 1413
B24: сумма земельного налога, подлежащая уплате в бюджет с учетом налоговых льгот | C24: 1 полугодие 2026 года | D24: тыс. руб. | E24: =[2]ЗНорг!$BE$26 -> 832.07931
A25: Земельный налог с физических лиц | B25: сумма земельного налога, подлежащая уплате в бюджет с учетом налоговых льгот | C25: 2025 год | D25: тыс. руб. | E25: 2954
A26: Налог на имущество физических лиц | B26: сумма налога на имущество физических лиц, подлежащая уплате в бюджет, с учетом налоговых льгот | C26: 2025 год | D26: тыс. руб. | E26: 2150
A27: Налог на имущество организаций | B27: сумма налога на имущество организаций, исчисленная к уплате в бюджет | C27: 2024 год | D27: тыс. руб. | E27: =1844+25203 -> 27047
B28: сумма налога на имущество организаций, исчисленная к уплате в бюджет | C28: 2025 год | D28: тыс. руб. | E28: =[3]НИО!$AY$26 -> 27816
B29: сумма налога на имущество организаций, исчисленная к уплате в бюджет | C29: 1 полугодие 2026 года | D29: тыс. руб. | E29: =[3]НИО!$AZ$26 -> 15254.26
A30: Налогу на добычу общераспространенных полезных ископаемых | B30: сумма налога на добычу полезных ископаемых, подлежащая уплате в бюджет | C30: 2025 год | D30: тыс. руб. | E30: =[4]НДПИобщерасп!$BA$26 -> 866
A31: Налог на добычу полезных ископаемых (за исключением полезных ископаемых, в отношении которых при налогообложении установлен рентный коэффициент, отличный от 1, полезных ископаемых в виде углеводородного сырья, природных алмазов и общераспространенных полезных ископаемых, угля коксующегося, железных руд, апатит-магнетитовых, апатит-штаффелитовых и маложелезистых апатитовых руд, многокомпонентной комплексной руды, в отношении которой при налогообложении установлен коэффициент, характеризующий стоимость ценных компонентов в руде) | B31: сумма налога на добычу полезных ископаемых, подлежащая уплате в бюджет | C31: 2025 год | D31: тыс. руб. | E31: =[4]НДПИпрочие!$BB$26 -> 116320
A35: Глава муниципального образования
A36: _____________________________________________ | C36: ________________
C37: (подпись)

Sheet Чемал
A3: Перечень исходных данных, необходимых для осуществления оценки налогового потенциала муниципальных образований в Республике Алтай на очередной финансовый год и плановый период для проведения расчетов распределения межбюджетных трансфертов из республиканского бюджета Республики Алтай на очередной финансовый год и плановый период
A5: Муниципальное образование_Чемальский район_
A7: показатель | C7: период | D7: ед. измерения | E7: значение показателя по данным МФ РА | F7: значение показателя по данным МО | G7: согласованное значение показателя
E8: МО | F8: МО | G8: МО
A9: 1 | C9: 2 | D9: 3 | E9: 4 | F9: 5 | G9: 6
A10: Налог на доходы физических лиц | B10: сумма исчисленного налога на доходы физических лиц | C10: 2024 год | D10: тыс. руб. | E10: 235448.94
B11: сумма исчисленного налога на доходы физических лиц | C11: 2025 год | D11: тыс. руб. | E11: 282641.59
B12: сумма исчисленного налога на доходы физических лиц | C12: 1 полугодие 2026 года | D12: тыс. руб. | E12: 160051.89
A13: Налог, взимаемый в связи с применением упрощенной системы налогообложения | B13: сумма налога, взимаемого в связи с применением упрощенной системы налогообложения | C13: 2024 год | D13: тыс. руб. | E13: 0
B14: сумма налога, взимаемого в связи с применением упрощенной системы налогообложения | C14: 2025 год | D14: тыс. руб. | E14: 0
B15: сумма налога, взимаемого в связи с применением упрощенной системы налогообложения | C15: 1 полугодие 2026 года | D15: тыс. руб. | E15: 0
A16: Налог, взимаемый в связи с применением патентной системы налогообложения | B16: сумма исчисленного налога, взимаемого в связи с применением патентной системы налогообложения | C16: 2024 год | D16: тыс. руб. | E16: 6990.56
B17: сумма исчисленного налога, взимаемого в связи с применением патентной системы налогообложения | C17: 2025 год | D17: тыс. руб. | E17: ='[1]ПСН (2)'!$BF$27 -> 9795.18
B18: сумма исчисленного налога, взимаемого в связи с применением патентной системы налогообложения | C18: 1 полугодие 2026 года | D18: тыс. руб. | E18: ='[1]ПСН (2)'!$BG$27 -> 9478.98
A19: Единый сельскохозяйственный налог | B19: сумма исчисленного единого сельскохозяйственного налога | C19: 2024 год | D19: тыс. руб. | E19: 25
B20: сумма исчисленного единого сельскохозяйственного налога | C20: 2025 год | D20: тыс. руб. | E20: =[5]ЕСН!$BB$27 -> 36
B21: сумма исчисленного единого сельскохозяйственного налога | C21: 1 полугодие 2026 года | D21: тыс. руб. | E21: =[5]ЕСН!$BC$27 -> -4.283
A22: Земельный налог с организаций | B22: сумма земельного налога, подлежащая уплате в бюджет с учетом налоговых льгот | C22: 2024 год | D22: тыс. руб. | E22: 22799
B23: сумма земельного налога, подлежащая уплате в бюджет с учетом налоговых льгот | C23: 2025 год | D23: тыс. руб. | E23: =[2]ЗНорг!$BD$27 -> 26387
B24: сумма земельного налога, подлежащая уплате в бюджет с учетом налоговых льгот | C24: 1 полугодие 2026 года | D24: тыс. руб. | E24: =[2]ЗНорг!$BE$27 -> 15302.264
A25: Земельный налог с физических лиц | B25: сумма земельного налога, подлежащая уплате в бюджет с учетом налоговых льгот | C25: 2025 год | D25: тыс. руб. | E25: 34523
A26: Налог на имущество физических лиц | B26: сумма налога на имущество физических лиц, подлежащая уплате в бюджет, с учетом налоговых льгот | C26: 2025 год | D26: тыс. руб. | E26: 19904
A27: Налог на имущество организаций | B27: сумма налога на имущество организаций, исчисленная к уплате в бюджет | C27: 2024 год | D27: тыс. руб. | E27: =43415+14430 -> 57845
B28: сумма налога на имущество организаций, исчисленная к уплате в бюджет | C28: 2025 год | D28: тыс. руб. | E28: =[3]НИО!$AY$27 -> 63270
B29: сумма налога на имущество организаций, исчисленная к уплате в бюджет | C29: 1 полугодие 2026 года | D29: тыс. руб. | E29: =[3]НИО!$AZ$27 -> 49434.75
A30: Налогу на добычу общераспространенных полезных ископаемых | B30: сумма налога на добычу полезных ископаемых, подлежащая уплате в бюджет | C30: 2025 год | D30: тыс. руб. | E30: =[4]НДПИобщерасп!$BA$27 -> 4681
A31: Налог на добычу полезных ископаемых (за исключением полезных ископаемых, в отношении которых при налогообложении установлен рентный коэффициент, отличный от 1, полезных ископаемых в виде углеводородного сырья, природных алмазов и общераспространенных полезных ископаемых, угля коксующегося, железных руд, апатит-магнетитовых, апатит-штаффелитовых и маложелезистых апатитовых руд, многокомпонентной комплексной руды, в отношении которой при налогообложении установлен коэффициент, характеризующий стоимость ценных компонентов в руде) | B31: сумма налога на добычу полезных ископаемых, подлежащая уплате в бюджет | C31: 2025 год | D31: тыс. руб. | E31: 0
A35: Глава муниципального образования
A36: _____________________________________________ | C36: ________________
C37: (подпись)

Sheet Горно-Алтайск
A3: Перечень исходных данных, необходимых для осуществления оценки налогового потенциала муниципальных образований в Республике Алтай на очередной финансовый год и плановый период для проведения расчетов распределения межбюджетных трансфертов из республиканского бюджета Республики Алтай на очередной финансовый год и плановый период
A5: Муниципальное образование_г. Горно-Алтайск_
A7: показатель | C7: период | D7: ед. измерения | E7: значение показателя по данным МФ РА | F7: значение показателя по данным МО | G7: согласованное значение показателя
E8: МО | F8: МО | G8: МО
A9: 1 | C9: 2 | D9: 3 | E9: 4 | F9: 5 | G9: 6
A10: Налог на доходы физических лиц | B10: сумма исчисленного налога на доходы физических лиц | C10: 2024 год | D10: тыс. руб. | E10: 3081259.8
B11: сумма исчисленного налога на доходы физических лиц | C11: 2025 год | D11: тыс. руб. | E11: 3525590.9
B12: сумма исчисленного налога на доходы физических лиц | C12: 1 полугодие 2026 года | D12: тыс. руб. | E12: 2038198.7
A13: Налог, взимаемый в связи с применением упрощенной системы налогообложения | B13: сумма налога, взимаемого в связи с применением упрощенной системы налогообложения | C13: 2024 год | D13: тыс. руб. | E13: 627944
B14: сумма налога, взимаемого в связи с применением упрощенной системы налогообложения | C14: 2025 год | D14: тыс. руб. | E14: 535168
B15: сумма налога, взимаемого в связи с применением упрощенной системы налогообложения | C15: 1 полугодие 2026 года | D15: тыс. руб. | E15: 334991.26
A16: Налог, взимаемый в связи с применением патентной системы налогообложения | B16: сумма исчисленного налога, взимаемого в связи с применением патентной системы налогообложения | C16: 2024 год | D16: тыс. руб. | E16: 23046.3
B17: сумма исчисленного налога, взимаемого в связи с применением патентной системы налогообложения | C17: 2025 год | D17: тыс. руб. | E17: ='[1]ПСН (2)'!$BF$28 -> 27131
B18: сумма исчисленного налога, взимаемого в связи с применением патентной системы налогообложения | C18: 1 полугодие 2026 года | D18: тыс. руб. | E18: ='[1]ПСН (2)'!$BG$28 -> 24418.02
A19: Единый сельскохозяйственный налог | B19: сумма исчисленного единого сельскохозяйственного налога | C19: 2024 год | D19: тыс. руб. | E19: 213
B20: сумма исчисленного единого сельскохозяйственного налога | C20: 2025 год | D20: тыс. руб. | E20: =[5]ЕСН!$BB$28 -> 180
B21: сумма исчисленного единого сельскохозяйственного налога | C21: 1 полугодие 2026 года | D21: тыс. руб. | E21: =[5]ЕСН!$BC$28 -> 365.799
A22: Земельный налог с организаций | B22: сумма земельного налога, подлежащая уплате в бюджет с учетом налоговых льгот | C22: 2024 год | D22: тыс. руб. | E22: 32656
B23: сумма земельного налога, подлежащая уплате в бюджет с учетом налоговых льгот | C23: 2025 год | D23: тыс. руб. | E23: 34149
B24: сумма земельного налога, подлежащая уплате в бюджет с учетом налоговых льгот | C24: 1 полугодие 2026 года | D24: тыс. руб. | E24: =[2]ЗНорг!$BE$28 -> 17220.167
A25: Земельный налог с физических лиц | B25: сумма земельного налога, подлежащая уплате в бюджет с учетом налоговых льгот | C25: 2025 год | D25: тыс. руб. | E25: 16586
A26: Налог на имущество физических лиц | B26: сумма налога на имущество физических лиц, подлежащая уплате в бюджет, с учетом налоговых льгот | C26: 2025 год | D26: тыс. руб. | E26: 55665
A27: Налог на имущество организаций | B27: сумма налога на имущество организаций, исчисленная к уплате в бюджет | C27: 2024 год | D27: тыс. руб. | E27: =51945+183557 -> 235502
B28: сумма налога на имущество организаций, исчисленная к уплате в бюджет | C28: 2025 год | D28: тыс. руб. | E28: =[3]НИО!$AY$28 -> 275730
B29: сумма налога на имущество организаций, исчисленная к уплате в бюджет | C29: 1 полугодие 2026 года | D29: тыс. руб. | E29: =[3]НИО!$AZ$28 -> 151974.77
A30: Налогу на добычу общераспространенных полезных ископаемых | B30: сумма налога на добычу полезных ископаемых, подлежащая уплате в бюджет | C30: 2025 год | D30: тыс. руб. | E30: =[4]НДПИобщерасп!$BA$28 -> 0
A31: Налог на добычу полезных ископаемых (за исключением полезных ископаемых, в отношении которых при налогообложении установлен рентный коэффициент, отличный от 1, полезных ископаемых в виде углеводородного сырья, природных алмазов и общераспространенных полезных ископаемых, угля коксующегося, железных руд, апатит-магнетитовых, апатит-штаффелитовых и маложелезистых апатитовых руд, многокомпонентной комплексной руды, в отношении которой при налогообложении установлен коэффициент, характеризующий стоимость ценных компонентов в руде) | B31: сумма налога на добычу полезных ископаемых, подлежащая уплате в бюджет | C31: 2025 год | D31: тыс. руб. | E31: 0
A35: Глава муниципального образования
A36: _____________________________________________ | C36: ________________
C37: (подпись)
