Workbook

Sheet Кош-Агачский р-он
A5: Анализ поступления налоговых и неналоговых доходов консолидированного бюджета муниципального образования
A7: по состоянию на 1 февраля 2026 г.
F9: Кош-Агачский район
A11: Единица измерения: тыс. руб
A13: Наименование показателя | B13: Код Дохода | C13: Годовой план | F13: Фактическое поступление за прошлый финансовый год | I13: Фактическое поступление в отчетном финансовом году | L13: Темп роста КБ МО, % | O13: Отклонение (+/-) | R13: % выполнения плана
C15: МР | D15: СП | E15: КБ МО | F15: МР | G15: СП | H15: КБ МО | I15: МР | J15: СП | K15: КБ МО | L15: МР | M15: СП | N15: КБ МО | O15: МР | P15: СП | Q15: КБ МО | R15: МР | S15: СП | T15: КБ МО
A17: 1 | B17: 2 | C17: 3 | D17: 4 | E17: 5 | F17: 6 | G17: 7 | H17: 8 | I17: 9 | J17: 10 | K17: 11 | L17: 12 | M17: 13 | N17: 14 | O17: 15 | P17: 16 | Q17: 17 | R17: 18 | S17: 19 | T17: 20
A18: НАЛОГОВЫЕ И НЕНАЛОГОВЫЕ ДОХОДЫ | B18: 00010000000000000000 | C18: 336292.7 | D18: 15408.25 | E18: 351700.95 | F18: 16306.628 | G18: 920.7964 | H18: 17227.424 | I18: 13223.012 | J18: 534.8951 | K18: 13757.907 | L18: 81.0897 | M18: 58.0904 | N18: 79.8604 | O18: -3083.616 | P18: -385.9013 | Q18: -3469.5173 | R18: 3.9319 | S18: 3.4714 | T18: 3.9118
A19: НАЛОГОВЫЕ И НЕНАЛОГОВЫЕ ДОХОДЫ без невыясненных поступлений | C19: 336292.7 | D19: 15408.25 | E19: 351700.95 | F19: 16304.382 | G19: 920.7964 | H19: 17225.178 | I19: 13217.852 | J19: 534.8951 | K19: 13752.747 | L19: 81.0693 | M19: 58.0904 | N19: 79.8409 | O19: -3086.53 | P19: -385.9013 | Q19: -3472.4313 | R19: 3.9304 | S19: 3.4714 | T19: 3.9103
A20: Налоговые доходы | C20: 282708.01 | D20: 14352.72 | E20: 297060.73 | F20: 13323.306 | G20: 399.7008 | H20: 13723.007 | I20: 11406.805 | J20: 525.1335 | K20: 11931.939 | L20: 85.6154 | M20: 131.3816 | N20: 86.9484 | O20: -1916.5013 | P20: 125.4327 | Q20: -1791.0684 | R20: 4.0348 | S20: 3.6587 | T20: 4.0166
A21: НАЛОГ НА ДОХОДЫ ФИЗИЧЕСКИХ ЛИЦ | B21: 00010102000010000110 | C21: 212908.61 | D21: 7373 | E21: 220281.61 | F21: 7814.7695 | G21: 294.897 | H21: 8109.6664 | I21: 8459.9501 | J21: 323.5113 | K21: 8783.4614 | L21: 108.2559 | M21: 109.7031 | N21: 108.3085 | O21: 645.1806 | P21: 28.6143 | Q21: 673.795 | R21: 3.9735 | S21: 4.3877 | T21: 3.9873
A22: АКЦИЗЫ ПО ПОДАКЦИЗНОЙ ПРОДУКЦИИ | B22: 00010302000010000110 | C22: 24499.7 | D22: 0 | E22: 24499.7 | F22: 1853.2242 | G22: 0 | H22: 1853.2242 | I22: 1855.286 | J22: 0 | K22: 1855.286 | L22: 100.1112 | M22: 0 | N22: 100.1112 | O22: 2.0618 | P22: 0 | Q22: 2.0618 | R22: 7.5726 | S22: 0 | T22: 7.5726
A23: Туристический налог | B23: 00010303000010000110 | C23: 0 | D23: 1297 | E23: 1297 | F23: 0 | G23: 0 | H23: 0 | I23: 0 | J23: 84.8632 | K23: 84.8632 | L23: 0 | M23: 0 | N23: 0 | O23: 0 | P23: 84.8632 | Q23: 84.8632 | R23: 0 | S23: 6.543 | T23: 6.543
A24: НАЛОГИ НА СОВОКУПНЫЙ ДОХОД | B24: 00010500000000000000 | C24: 3900 | D24: 5 | E24: 3905 | F24: 2542.1241 | G24: 0 | H24: 2542.1241 | I24: -108.1083 | J24: 0 | K24: -108.1083 | L24: -4.2526 | M24: 0 | N24: -4.2526 | O24: -2650.2324 | P24: 0 | Q24: -2650.2324 | R24: -2.772 | S24: 0 | T24: -2.7684
A25: Налог, взимаемый в связи с применением упрощенной системы налогообложения | B25: 00010501000000000110 | C25: 0 | D25: 0 | E25: 0 | F25: 0 | G25: 0 | H25: 0 | I25: 0 | J25: 0 | K25: 0 | L25: 0 | M25: 0 | N25: 0 | O25: 0 | P25: 0 | Q25: 0 | R25: 0 | S25: 0 | T25: 0
A26: Единый налог на вмененный доход | B26: 00010502000020000110 | C26: 0 | D26: 0 | E26: 0 | F26: 0 | G26: 0 | H26: 0 | I26: 24.4774 | J26: 0 | K26: 24.4774 | L26: 0 | M26: 0 | N26: 0 | O26: 24.4774 | P26: 0 | Q26: 24.4774 | R26: 0 | S26: 0 | T26: 0
A27: Единый сельскохозяйственный налог | B27: 00010503000010000110 | C27: 0 | D27: 5 | E27: 5 | F27: 0 | G27: 0 | H27: 0 | I27: 0 | J27: 0 | K27: 0 | L27: 0 | M27: 0 | N27: 0 | O27: 0 | P27: 0 | Q27: 0 | R27: 0 | S27: 0 | T27: 0
A28: Налог, взимаемый в связи с применением патентной системы налогообложения | B28: 00010504000020000110 | C28: 3900 | D28: 0 | E28: 3900 | F28: 2542.1241 | G28: 0 | H28: 2542.1241 | I28: -132.5857 | J28: 0 | K28: -132.5857 | L28: -5.2155 | M28: 0 | N28: -5.2155 | O28: -2674.7098 | P28: 0 | Q28: -2674.7098 | R28: -3.3996 | S28: 0 | T28: -3.3996
A29: НАЛОГИ НА ИМУЩЕСТВО | B29: 00010600000000000000 | C29: 25698 | D29: 5664.72 | E29: 31362.72 | F29: -9.0563 | G29: 104.2038 | H29: 95.1474 | I29: 253.4962 | J29: 116.159 | K29: 369.6552 | L29: -2799.1144 | M29: 111.4729 | N29: 388.5079 | O29: 262.5525 | P29: 11.9552 | Q29: 274.5078 | R29: 0.9864 | S29: 2.0505 | T29: 1.1786
A30: Налог на имущество физических лиц | B30: 00010601000000000110 | C30: 0 | D30: 3173.83 | E30: 3173.83 | F30: 0 | G30: 51.361 | H30: 51.361 | I30: 0 | J30: 59.2983 | K30: 59.2983 | L30: 0 | M30: 115.4539 | N30: 115.4539 | O30: 0 | P30: 7.9373 | Q30: 7.9373 | R30: 0 | S30: 1.8683 | T30: 1.8683
A31: Налог на имущество организаций | B31: 00010602000020000110 | C31: 25698 | D31: 0 | E31: 25698 | F31: -9.0563 | G31: 0 | H31: -9.0563 | I31: 253.4962 | J31: 0 | K31: 253.4962 | L31: -2799.1144 | M31: 0 | N31: -2799.1144 | O31: 262.5525 | P31: 0 | Q31: 262.5525 | R31: 0.9864 | S31: 0 | T31: 0.9864
A32: Земельный налог всего, в том числе: | B32: 00010606000000000110 | C32: 0 | D32: 2490.89 | E32: 2490.89 | F32: 0 | G32: 52.8428 | H32: 52.8428 | I32: 0 | J32: 56.8606 | K32: 56.8606 | L32: 0 | M32: 107.6033 | N32: 107.6033 | O32: 0 | P32: 4.0178 | Q32: 4.0178 | R32: 0 | S32: 2.2827 | T32: 2.2827
... A44: ЗАДОЛЖЕННОСТЬ И ПЕРЕРАСЧЕТЫ ПО ОТМЕНЕННЫМ НАЛОГАМ, СБОРАМ И ИНЫМ ОБЯЗАТЕЛЬНЫМ ПЛАТЕЖАМ | B44: 00010900000000000000 | C44: 0 | D44: 0 | E44: 0 | F44: 0 | G44: 0 | H44: 0 | I44: 0 | J44: 0 | K44: 0 | L44: 0 | M44: 0 | N44: 0 | O44: 0 | P44: 0 | Q44: 0 | R44: 0 | S44: 0 | T44: 0
A45: Неналоговые доходы | C45: 53584.69 | D45: 1055.53 | E45: 54640.22 | F45: 2983.3215 | G45: 521.0957 | H45: 3504.4172 | I45: 1816.2067 | J45: 9.7617 | K45: 1825.9684 | L45: 60.8786 | M45: 1.8733 | N45: 52.1047 | O45: -1167.1148 | P45: -511.334 | Q45: -1678.4488 | R45: 3.3894 | S45: 0.9248 | T45: 3.3418
A46: Неналоговые доходы без невыясненных поступлений | C46: 53584.69 | D46: 1055.53 | E46: 54640.22 | F46: 2981.0756 | G46: 521.0957 | H46: 3502.1713 | I46: 1811.0468 | J46: 9.7617 | K46: 1820.8085 | L46: 60.7514 | M46: 1.8733 | N46: 51.9908 | O46: -1170.0288 | P46: -511.334 | Q46: -1681.3628 | R46: 3.3797 | S46: 0.9248 | T46: 3.3323
A47: ДОХОДЫ ОТ ИСПОЛЬЗОВАНИЯ ИМУЩЕСТВА, НАХОДЯЩЕГОСЯ В ГОСУДАРСТВЕННОЙ И МУНИЦИПАЛЬНОЙ СОБСТВЕННОСТИ | B47: 00011100000000000000 | C47: 15000 | D47: 500.28 | E47: 15500.28 | F47: 1377.435 | G47: 30.1917 | H47: 1407.6267 | I47: 719.7096 | J47: 9.7617 | K47: 729.4713 | L47: 52.2499 | M47: 32.3323 | N47: 51.8227 | O47: -657.7254 | P47: -20.43 | Q47: -678.1554 | R47: 4.798 | S47: 1.9512 | T47: 4.7061
A48: Доходы, получаемые в виде арендной платы за земельные участки, государственная собственность на которые не разграничена, а также средства от продажи права на заключение договоров аренды указанных земельных участков | B48: 00011105010000000120 | C48: 14821.75 | D48: 0 | E48: 14821.75 | F48: 1377.435 | G48: 0 | H48: 1377.435 | I48: 719.7096 | J48: 0 | K48: 719.7096 | L48: 52.2499 | M48: 0 | N48: 52.2499 | O48: -657.7254 | P48: 0 | Q48: -657.7254 | R48: 4.8557 | S48: 0 | T48: 4.8557
A49: Доходы, получаемые в виде арендной платы за земли после разграничения государственной собственности на землю, а также средства от продажи права на заключение договоров аренды указанных земельных участков (за исключением земельных участков бюджетных и автономных учреждений) | B49: 00011105020000000120 | C49: 0 | D49: 100 | E49: 100 | F49: 0 | G49: 21.9 | H49: 21.9 | I49: 0 | J49: 1.47 | K49: 1.47 | L49: 0 | M49: 6.7123 | N49: 6.7123 | O49: 0 | P49: -20.43 | Q49: -20.43 | R49: 0 | S49: 1.47 | T49: 1.47
A50: Доходы, получаемые в виде арендной платы за земельные участки, которые находятся в федеральной собственности и осуществление полномочий по управлению и распоряжению которыми передано органам государственной власти субъектов Российской Федерации, а также средства от продажи права на заключение договоров аренды указанных земельных участков | B50: 00011105026000000120 | C50: 0 | D50: 0 | E50: 0 | F50: 0 | G50: 0 | H50: 0 | I50: 0 | J50: 0 | K50: 0 | L50: 0 | M50: 0 | N50: 0 | O50: 0 | P50: 0 | Q50: 0 | R50: 0 | S50: 0 | T50: 0
A51: Доходы от сдачи в аренду имущества, находящегося в оперативном управлении органов государственной власти, органов местного самоуправления, государственных внебюджетных фондов и созданных ими учреждений (за исключением имущества бюджетных и автономных учреждений) | B51: 00011105030000000120 | C51: 0 | D51: 400.28 | E51: 400.28 | F51: 0 | G51: 8.2917 | H51: 8.2917 | I51: 0 | J51: 8.2917 | K51: 8.2917 | L51: 0 | M51: 100 | N51: 100 | O51: 0 | P51: 0 | Q51: 0 | R51: 0 | S51: 2.0714 | T51: 2.0714
A52: Доходы от сдачи в аренду имущества, составляющего государственную (муниципальную) казну (за исключением земельных участков) | B52: 00011105070000000120 | C52: 0 | D52: 0 | E52: 0 | F52: 0 | G52: 0 | H52: 0 | I52: 0 | J52: 0 | K52: 0 | L52: 0 | M52: 0 | N52: 0 | O52: 0 | P52: 0 | Q52: 0 | R52: 0 | S52: 0 | T52: 0
A53: Платежи от государственных и муниципальных унитарных предприятий | B53: 00011107000000000120 | C53: 0 | D53: 0 | E53: 0 | F53: 0 | G53: 0 | H53: 0 | I53: 0 | J53: 0 | K53: 0 | L53: 0 | M53: 0 | N53: 0 | O53: 0 | P53: 0 | Q53: 0 | R53: 0 | S53: 0 | T53: 0
A54: Средства, получаемые от передачи имущества, находящегося в государственной и муниципальной собственности (за исключением имущества бюджетных и автономных учреждений, а также имущества государственных и муниципальных унитарных предприятий, в том числе казенных), в залог, в доверительное управление | B54: 00011108000000000120 | C54: 0 | D54: 0 | E54: 0 | F54: 0 | G54: 0 | H54: 0 | I54: 0 | J54: 0 | K54: 0 | L54: 0 | M54: 0 | N54: 0 | O54: 0 | P54: 0 | Q54: 0 | R54: 0 | S54: 0 | T54: 0
A55: Прочие доходы от использования имущества и прав, находящихся в государственной и муниципальной собственности (за исключением имущества бюджетных и автономных учреждений, а также имущества государственных и муниципальных унитарных предприятий, в том числе казенных) | B55: 00011109000000000120 | C55: 178.25 | D55: 0 | E55: 178.25 | F55: 0 | G55: 0 | H55: 0 | I55: 0 | J55: 0 | K55: 0 | L55: 0 | M55: 0 | N55: 0 | O55: 0 | P55: 0 | Q55: 0 | R55: 0 | S55: 0 | T55: 0
A56: ПЛАТЕЖИ ПРИ ПОЛЬЗОВАНИИ ПРИРОДНЫМИ РЕСУРСАМИ | B56: 00011200000000000000 | C56: 2500 | D56: 0 | E56: 2500 | F56: 40.3038 | G56: 0 | H56: 40.3038 | I56: 0 | J56: 0 | K56: 0 | L56: 0 | M56: 0 | N56: 0 | O56: -40.3038 | P56: 0 | Q56: -40.3038 | R56: 0 | S56: 0 | T56: 0
A57: ДОХОДЫ ОТ ОКАЗАНИЯ ПЛАТНЫХ УСЛУГ (РАБОТ) И КОМПЕНСАЦИИ ЗАТРАТ ГОСУДАРСТВА | B57: 00011300000000000000 | C57: 26184.69 | D57: 427.85 | E57: 26612.54 | F57: 869.0321 | G57: 0 | H57: 869.0321 | I57: 871.4586 | J57: 0 | K57: 871.4586 | L57: 100.2792 | M57: 0 | N57: 100.2792 | O57: 2.4265 | P57: 0 | Q57: 2.4265 | R57: 3.3281 | S57: 0 | T57: 3.2746
A58: Доходы от оказания платных услуг (работ) | B58: 00011301000000000130 | C58: 24703.35 | D58: 113.512 | E58: 24816.862 | F58: 786.2029 | G58: 0 | H58: 786.2029 | I58: 442.7592 | J58: 0 | K58: 442.7592 | L58: 56.3161 | M58: 0 | N58: 56.3161 | O58: -343.4437 | P58: 0 | Q58: -343.4437 | R58: 1.7923 | S58: 0 | T58: 1.7841
... A70: инициативные платежи | B70: 000 1171500000 0000 150 | C70: 0 | D70: 0 | E70: 0 | F70: 0 | G70: 0 | H70: 0 | I70: 0 | J70: 0 | K70: 0 | L70: 0 | M70: 0 | N70: 0 | O70: 0 | P70: 0 | Q70: 0 | R70: 0 | S70: 0 | T70: 0

Sheet Улаганский р-он
A5: Анализ поступления налоговых и неналоговых доходов консолидированного бюджета муниципального образования
A7: по состоянию на 1 февраля 2026 г.
E9: Улаганский район
A11: Единица измерения: тыс. руб
A13: Наименование показателя | B13: Код Дохода | C13: Годовой план | F13: Фактическое поступление за прошлый финансовый год | I13: Фактическое поступление в отчетном финансовом году | L13: Темп роста КБ МО, % | O13: Отклонение (+/-) | R13: % выполнения плана
C15: МР | D15: СП | E15: КБ МО | F15: МР | G15: СП | H15: КБ МО | I15: МР | J15: СП | K15: КБ МО | L15: МР | M15: СП | N15: КБ МО | O15: МР | P15: СП | Q15: КБ МО | R15: МР | S15: СП | T15: КБ МО
A17: 1 | B17: 2 | C17: 3 | D17: 4 | E17: 5 | F17: 6 | G17: 7 | H17: 8 | I17: 9 | J17: 10 | K17: 11 | L17: 12 | M17: 13 | N17: 14 | O17: 15 | P17: 16 | Q17: 17 | R17: 18 | S17: 19 | T17: 20
A18: НАЛОГОВЫЕ И НЕНАЛОГОВЫЕ ДОХОДЫ | B18: 00010000000000000000 | C18: 218659.54 | D18: 19224.49 | E18: 237884.03 | F18: 10259.147 | G18: 428.224 | H18: 10687.371 | I18: 6274.4738 | J18: 540.4089 | K18: 6814.8827 | L18: 61.1598 | M18: 126.1977 | N18: 63.7657 | O18: -3984.6728 | P18: 112.1849 | Q18: -3872.4879 | R18: 2.8695 | S18: 2.811 | T18: 2.8647
A19: НАЛОГОВЫЕ И НЕНАЛОГОВЫЕ ДОХОДЫ без невыясненных поступлений | C19: 218659.54 | D19: 19224.49 | E19: 237884.03 | F19: 10216.344 | G19: 428.224 | H19: 10644.568 | I19: 6265.4355 | J19: 540.4089 | K19: 6805.8444 | L19: 61.3275 | M19: 126.1977 | N19: 63.9372 | O19: -3950.9089 | P19: 112.1849 | Q19: -3838.724 | R19: 2.8653 | S19: 2.811 | T19: 2.8609
A20: Налоговые доходы | C20: 195684.51 | D20: 19027.49 | E20: 214712 | F20: 5865.5964 | G20: 428.224 | H20: 6293.8204 | I20: 5357.1254 | J20: 540.4089 | K20: 5897.5342 | L20: 91.3312 | M20: 126.1977 | N20: 93.7035 | O20: -508.471 | P20: 112.1849 | Q20: -396.2862 | R20: 2.7376 | S20: 2.8401 | T20: 2.7467
A21: НАЛОГ НА ДОХОДЫ ФИЗИЧЕСКИХ ЛИЦ | B21: 00010102000010000110 | C21: 145177.31 | D21: 5531.08 | E21: 150708.39 | F21: 2653.6814 | G21: 100.1389 | H21: 2753.8203 | I21: 4108.2972 | J21: 157.886 | K21: 4266.1831 | L21: 154.815 | M21: 157.667 | N21: 154.9187 | O21: 1454.6158 | P21: 57.7471 | Q21: 1512.3628 | R21: 2.8298 | S21: 2.8545 | T21: 2.8307
A22: АКЦИЗЫ ПО ПОДАКЦИЗНОЙ ПРОДУКЦИИ | B22: 00010300000000000000 | C22: 15615.6 | D22: 0 | E22: 15615.6 | F22: 1181.209 | G22: 0 | H22: 1181.209 | I22: 1182.5557 | J22: 0 | K22: 1182.5557 | L22: 100.114 | M22: 0 | N22: 100.114 | O22: 1.3467 | P22: 0 | Q22: 1.3467 | R22: 7.5729 | S22: 0 | T22: 7.5729
A23: Туристический налог | B23: 00010303000010000110 | C23: 0 | D23: 6825 | E23: 6825 | F23: 0 | G23: 0 | H23: 0 | I23: 0 | J23: 196.6161 | K23: 196.6161 | L23: 0 | M23: 0 | N23: 0 | O23: 0 | P23: 196.6161 | Q23: 196.6161 | R23: 0 | S23: 2.8808 | T23: 2.8808
A24: НАЛОГИ НА СОВОКУПНЫЙ ДОХОД | B24: 00010500000000000000 | C24: 5319 | D24: 0 | E24: 5319 | F24: 1127.7372 | G24: 0 | H24: 1127.7372 | I24: -533.9305 | J24: 0 | K24: -533.9305 | L24: -47.3452 | M24: 0 | N24: -47.3452 | O24: -1661.6677 | P24: 0 | Q24: -1661.6677 | R24: -10.0381 | S24: 0 | T24: -10.0381
A25: Налог, взимаемый в связи с применением упрощенной системы налогообложения | B25: 00010501000000000110 | C25: 0 | D25: 0 | E25: 0 | F25: 0 | G25: 0 | H25: 0 | I25: 0 | J25: 0 | K25: 0 | L25: 0 | M25: 0 | N25: 0 | O25: 0 | P25: 0 | Q25: 0 | R25: 0 | S25: 0 | T25: 0
A26: Единый налог на вмененный доход | B26: 00010502000020000110 | C26: 0 | D26: 0 | E26: 0 | F26: 0.3 | G26: 0 | H26: 0.3 | I26: 0 | J26: 0 | K26: 0 | L26: 0 | M26: 0 | N26: 0 | O26: -0.3 | P26: 0 | Q26: -0.3 | R26: 0 | S26: 0 | T26: 0
A27: Единый сельскохозяйственный налог | B27: 00010503000010000110 | C27: 0 | D27: 0 | E27: 0 | F27: 0 | G27: 0 | H27: 0 | I27: 0 | J27: 0 | K27: 0 | L27: 0 | M27: 0 | N27: 0 | O27: 0 | P27: 0 | Q27: 0 | R27: 0 | S27: 0 | T27: 0
A28: Налог, взимаемый в связи с применением патентной системы налогообложения | B28: 00010504000020000110 | C28: 5319 | D28: 0 | E28: 5319 | F28: 1127.4372 | G28: 0 | H28: 1127.4372 | I28: -533.9305 | J28: 0 | K28: -533.9305 | L28: -47.3578 | M28: 0 | N28: -47.3578 | O28: -1661.3677 | P28: 0 | Q28: -1661.3677 | R28: -10.0381 | S28: 0 | T28: -10.0381
A29: НАЛОГИ НА ИМУЩЕСТВО | B29: 00010600000000000000 | C29: 19596 | D29: 6671.41 | E29: 26267.41 | F29: 314.2035 | G29: 328.0851 | H29: 642.2886 | I29: 0 | J29: 185.9068 | K29: 185.9068 | L29: 0 | M29: 56.6642 | N29: 28.9444 | O29: -314.2035 | P29: -142.1783 | Q29: -456.3818 | R29: 0 | S29: 2.7866 | T29: 0.7077
A30: Налог на имущество физических лиц | B30: 00010601000000000110 | C30: 0 | D30: 3169.38 | E30: 3169.38 | F30: 0 | G30: 307.2046 | H30: 307.2046 | I30: 0 | J30: 151.2303 | K30: 151.2303 | L30: 0 | M30: 49.2278 | N30: 49.2278 | O30: 0 | P30: -155.9743 | Q30: -155.9743 | R30: 0 | S30: 4.7716 | T30: 4.7716
A31: Налог на имущество организаций | B31: 00010602000020000110 | C31: 19596 | D31: 0 | E31: 19596 | F31: 314.2035 | G31: 0 | H31: 314.2035 | I31: 0 | J31: 0 | K31: 0 | L31: 0 | M31: 0 | N31: 0 | O31: -314.2035 | P31: 0 | Q31: -314.2035 | R31: 0 | S31: 0 | T31: 0
A32: Земельный налог всего, в том числе: | B32: 00010606000000000110 | C32: 0 | D32: 3502.03 | E32: 3502.03 | F32: 0 | G32: 20.8805 | H32: 20.8805 | I32: 0 | J32: 34.6765 | K32: 34.6765 | L32: 0 | M32: 166.0712 | N32: 166.0712 | O32: 0 | P32: 13.796 | Q32: 13.796 | R32: 0 | S32: 0.9901 | T32: 0.9901
... A44: ЗАДОЛЖЕННОСТЬ И ПЕРЕРАСЧЕТЫ ПО ОТМЕНЕННЫМ НАЛОГАМ, СБОРАМ И ИНЫМ ОБЯЗАТЕЛЬНЫМ ПЛАТЕЖАМ | B44: 00010900000000000000 | C44: 0 | D44: 0 | E44: 0 | F44: 0 | G44: 0 | H44: 0 | I44: 0 | J44: 0 | K44: 0 | L44: 0 | M44: 0 | N44: 0 | O44: 0 | P44: 0 | Q44: 0 | R44: 0 | S44: 0 | T44: 0
A45: Неналоговые доходы | C45: 22975.025 | D45: 197 | E45: 23172.025 | F45: 4393.5502 | G45: 0 | H45: 4393.5502 | I45: 917.3484 | J45: 0 | K45: 917.3484 | L45: 20.8794 | M45: 0 | N45: 20.8794 | O45: -3476.2018 | P45: 0 | Q45: -3476.2018 | R45: 3.9928 | S45: 0 | T45: 3.9588
A46: Неналоговые доходы без невыясненных поступлений | C46: 22975.025 | D46: 197 | E46: 23172.025 | F46: 4350.748 | G46: 0 | H46: 4350.748 | I46: 908.3101 | J46: 0 | K46: 908.3101 | L46: 20.8771 | M46: 0 | N46: 20.8771 | O46: -3442.4379 | P46: 0 | Q46: -3442.4379 | R46: 3.9534 | S46: 0 | T46: 3.9198
A47: ДОХОДЫ ОТ ИСПОЛЬЗОВАНИЯ ИМУЩЕСТВА, НАХОДЯЩЕГОСЯ В ГОСУДАРСТВЕННОЙ И МУНИЦИПАЛЬНОЙ СОБСТВЕННОСТИ | B47: 00011100000000000000 | C47: 4238.01 | D47: 42 | E47: 4280.01 | F47: 2547.5804 | G47: 0 | H47: 2547.5804 | I47: 108.5371 | J47: 0 | K47: 108.5371 | L47: 4.2603 | M47: 0 | N47: 4.2603 | O47: -2439.0433 | P47: 0 | Q47: -2439.0433 | R47: 2.561 | S47: 0 | T47: 2.5359
A48: Доходы, получаемые в виде арендной платы за земельные участки, государственная собственность на которые не разграничена, а также средства от продажи права на заключение договоров аренды указанных земельных участков | B48: 00011105010000000120 | C48: 4194.03 | D48: 0 | E48: 4194.03 | F48: 2547.5804 | G48: 0 | H48: 2547.5804 | I48: 104.7751 | J48: 0 | K48: 104.7751 | L48: 4.1127 | M48: 0 | N48: 4.1127 | O48: -2442.8053 | P48: 0 | Q48: -2442.8053 | R48: 2.4981 | S48: 0 | T48: 2.4981
A49: Доходы, получаемые в виде арендной платы за земли после разграничения государственной собственности на землю, а также средства от продажи права на заключение договоров аренды указанных земельных участков (за исключением земельных участков бюджетных и автономных учреждений) | B49: 00011105020000000120 | C49: 0 | D49: 0 | E49: 0 | F49: 0 | G49: 0 | H49: 0 | I49: 0 | J49: 0 | K49: 0 | L49: 0 | M49: 0 | N49: 0 | O49: 0 | P49: 0 | Q49: 0 | R49: 0 | S49: 0 | T49: 0
A50: Доходы, получаемые в виде арендной платы за земельные участки, которые находятся в федеральной собственности и осуществление полномочий по управлению и распоряжению которыми передано органам государственной власти субъектов Российской Федерации, а также средства от продажи права на заключение договоров аренды указанных земельных участков | B50: 00011105026000000120 | C50: 0 | D50: 0 | E50: 0 | F50: 0 | G50: 0 | H50: 0 | I50: 0 | J50: 0 | K50: 0 | L50: 0 | M50: 0 | N50: 0 | O50: 0 | P50: 0 | Q50: 0 | R50: 0 | S50: 0 | T50: 0
A51: Доходы от сдачи в аренду имущества, находящегося в оперативном управлении органов государственной власти, органов местного самоуправления, государственных внебюджетных фондов и созданных ими учреждений (за исключением имущества бюджетных и автономных учреждений) | B51: 00011105030000000120 | C51: 39.98 | D51: 42 | E51: 81.98 | F51: 0 | G51: 0 | H51: 0 | I51: 3.762 | J51: 0 | K51: 3.762 | L51: 0 | M51: 0 | N51: 0 | O51: 3.762 | P51: 0 | Q51: 3.762 | R51: 9.4097 | S51: 0 | T51: 4.5889
A52: Доходы от сдачи в аренду имущества, составляющего государственную (муниципальную) казну (за исключением земельных участков) | B52: 00011105070000000120 | C52: 0 | D52: 0 | E52: 0 | F52: 0 | G52: 0 | H52: 0 | I52: 0 | J52: 0 | K52: 0 | L52: 0 | M52: 0 | N52: 0 | O52: 0 | P52: 0 | Q52: 0 | R52: 0 | S52: 0 | T52: 0
A53: Платежи от государственных и муниципальных унитарных предприятий | B53: 00011107000000000120 | C53: 0 | D53: 0 | E53: 0 | F53: 0 | G53: 0 | H53: 0 | I53: 0 | J53: 0 | K53: 0 | L53: 0 | M53: 0 | N53: 0 | O53: 0 | P53: 0 | Q53: 0 | R53: 0 | S53: 0 | T53: 0
A54: Средства, получаемые от передачи имущества, находящегося в государственной и муниципальной собственности (за исключением имущества бюджетных и автономных учреждений, а также имущества государственных и муниципальных унитарных предприятий, в том числе казенных), в залог, в доверительное управление | B54: 00011108000000000120 | C54: 0 | D54: 0 | E54: 0 | F54: 0 | G54: 0 | H54: 0 | I54: 0 | J54: 0 | K54: 0 | L54: 0 | M54: 0 | N54: 0 | O54: 0 | P54: 0 | Q54: 0 | R54: 0 | S54: 0 | T54: 0
A55: Прочие доходы от использования имущества и прав, находящихся в государственной и муниципальной собственности (за исключением имущества бюджетных и автономных учреждений, а также имущества государственных и муниципальных унитарных предприятий, в том числе казенных) | B55: 00011109000000000120 | C55: 4 | D55: 0 | E55: 4 | F55: 0 | G55: 0 | H55: 0 | I55: 0 | J55: 0 | K55: 0 | L55: 0 | M55: 0 | N55: 0 | O55: 0 | P55: 0 | Q55: 0 | R55: 0 | S55: 0 | T55: 0
A56: ПЛАТЕЖИ ПРИ ПОЛЬЗОВАНИИ ПРИРОДНЫМИ РЕСУРСАМИ | B56: 00011200000000000000 | C56: 162.23 | D56: 0 | E56: 162.23 | F56: 2.2995 | G56: 0 | H56: 2.2995 | I56: 0 | J56: 0 | K56: 0 | L56: 0 | M56: 0 | N56: 0 | O56: -2.2995 | P56: 0 | Q56: -2.2995 | R56: 0 | S56: 0 | T56: 0
A57: ДОХОДЫ ОТ ОКАЗАНИЯ ПЛАТНЫХ УСЛУГ (РАБОТ) И КОМПЕНСАЦИИ ЗАТРАТ ГОСУДАРСТВА | B57: 00011300000000000000 | C57: 13249.915 | D57: 55 | E57: 13304.915 | F57: 676.703 | G57: 0 | H57: 676.703 | I57: 515.1972 | J57: 0 | K57: 515.1972 | L57: 76.1334 | M57: 0 | N57: 76.1334 | O57: -161.5058 | P57: 0 | Q57: -161.5058 | R57: 3.8883 | S57: 0 | T57: 3.8722
A58: Доходы от оказания платных услуг (работ) | B58: 00011301000000000130 | C58: 13249.915 | D58: 55 | E58: 13304.915 | F58: 676.703 | G58: 0 | H58: 676.703 | I58: 515.1972 | J58: 0 | K58: 515.1972 | L58: 76.1334 | M58: 0 | N58: 76.1334 | O58: -161.5058 | P58: 0 | Q58: -161.5058 | R58: 3.8883 | S58: 0 | T58: 3.8722
... A70: инициативные платежи | B70: 000 1171500000 0000 150 | C70: 0 | D70: 0 | E70: 0 | F70: 0 | G70: 0 | H70: 0 | I70: 0 | J70: 0 | K70: 0 | L70: 0 | M70: 0 | N70: 0 | O70: 0 | P70: 0 | Q70: 0 | R70: 0 | S70: 0 | T70: 0

Sheet Усть-Канский р-он
A5: Анализ поступления налоговых и неналоговых доходов консолидированного бюджета муниципального образования
A7: по состоянию на 1 февраля 2026 г.
E9: Усть-Канский район
A11: Единица измерения: тыс. руб
A13: Наименование показателя | B13: Код Дохода | C13: Годовой план | F13: Фактическое поступление за прошлый финансовый год | I13: Фактическое поступление в отчетном финансовом году | L13: Темп роста КБ МО, % | O13: Отклонение (+/-) | R13: % выполнения плана
C15: МР | D15: СП | E15: КБ МО | F15: МР | G15: СП | H15: КБ МО | I15: МР | J15: СП | K15: КБ МО | L15: МР | M15: СП | N15: КБ МО | O15: МР | P15: СП | Q15: КБ МО | R15: МР | S15: СП | T15: КБ МО
A17: 1 | B17: 2 | C17: 3 | D17: 4 | E17: 5 | F17: 6 | G17: 7 | H17: 8 | I17: 9 | J17: 10 | K17: 11 | L17: 12 | M17: 13 | N17: 14 | O17: 15 | P17: 16 | Q17: 17 | R17: 18 | S17: 19 | T17: 20
A18: НАЛОГОВЫЕ И НЕНАЛОГОВЫЕ ДОХОДЫ | B18: 00010000000000000000 | C18: 189320.76 | D18: 17300.932 | E18: 206621.69 | F18: 6889.7869 | G18: 416.3124 | H18: 7306.0993 | I18: 6432.7403 | J18: 237.7689 | K18: 6670.5091 | L18: 93.3663 | M18: 57.113 | N18: 91.3005 | O18: -457.0466 | P18: -178.5435 | Q18: -635.5902 | R18: 3.3977 | S18: 1.3743 | T18: 3.2283
A19: НАЛОГОВЫЕ И НЕНАЛОГОВЫЕ ДОХОДЫ без невыясненных поступлений | C19: 189320.76 | D19: 17300.932 | E19: 206621.69 | F19: 6889.7869 | G19: 416.3124 | H19: 7306.0993 | I19: 6432.7403 | J19: 237.7689 | K19: 6670.5091 | L19: 93.3663 | M19: 57.113 | N19: 91.3005 | O19: -457.0466 | P19: -178.5435 | Q19: -635.5902 | R19: 3.3977 | S19: 1.3743 | T19: 3.2283
A20: Налоговые доходы | C20: 179174.62 | D20: 17249.2 | E20: 196423.82 | F20: 6085.3461 | G20: 409.0565 | H20: 6494.4025 | I20: 5751.9846 | J20: 232.513 | K20: 5984.4976 | L20: 94.5218 | M20: 56.8412 | N20: 92.1485 | O20: -333.3615 | P20: -176.5435 | Q20: -509.9049 | R20: 3.2102 | S20: 1.3479 | T20: 3.0467
A21: НАЛОГ НА ДОХОДЫ ФИЗИЧЕСКИХ ЛИЦ | B21: 00010102000010000110 | C21: 114188 | D21: 4110.6 | E21: 118298.6 | F21: 1986.7778 | G21: 75.0666 | H21: 2061.8443 | I21: 2676.6151 | J21: 103.4588 | K21: 2780.0739 | L21: 134.7214 | M21: 137.8226 | N21: 134.8343 | O21: 689.8373 | P21: 28.3922 | Q21: 718.2296 | R21: 2.344 | S21: 2.5168 | T21: 2.35
A22: АКЦИЗЫ ПО ПОДАКЦИЗНОЙ ПРОДУКЦИИ | B22: 00010300000000000000 | C22: 28554.203 | D22: 0 | E22: 28554.203 | F22: 2159.9218 | G22: 0 | H22: 2159.9218 | I22: 2162.3554 | J22: 0 | K22: 2162.3554 | L22: 100.1126 | M22: 0 | N22: 100.1126 | O22: 2.4336 | P22: 0 | Q22: 2.4336 | R22: 7.5728 | S22: 0 | T22: 7.5728
A23: Туристический налог | B23: 00010303000010000110 | C23: 0 | D23: 133.4 | E23: 133.4 | F23: 0 | G23: 0 | H23: 0 | I23: 0 | J23: 20.4 | K23: 20.4 | L23: 0 | M23: 0 | N23: 0 | O23: 0 | P23: 20.4 | Q23: 20.4 | R23: 0 | S23: 15.2923 | T23: 15.2923
A24: НАЛОГИ НА СОВОКУПНЫЙ ДОХОД | B24: 00010500000000000000 | C24: 5596.52 | D24: 865.2 | E24: 6461.72 | F24: 1389.3161 | G24: 0.0696 | H24: 1389.3857 | I24: 173.8908 | J24: 0.0542 | K24: 173.945 | L24: 12.5162 | M24: 77.8735 | N24: 12.5195 | O24: -1215.4253 | P24: -0.0154 | Q24: -1215.4407 | R24: 3.1071 | S24: 0.0062 | T24: 2.6919
A25: Налог, взимаемый в связи с применением упрощенной системы налогообложения | B25: 00010501000000000110 | C25: 0 | D25: 0 | E25: 0 | F25: 0 | G25: 0 | H25: 0 | I25: 0 | J25: 0 | K25: 0 | L25: 0 | M25: 0 | N25: 0 | O25: 0 | P25: 0 | Q25: 0 | R25: 0 | S25: 0 | T25: 0
A26: Единый налог на вмененный доход | B26: 00010502000020000110 | C26: 0 | D26: 0 | E26: 0 | F26: 0.425 | G26: 0.075 | H26: 0.5 | I26: 0.0008 | J26: 0.0002 | K26: 0.001 | L26: 0.1882 | M26: 0.2666 | N26: 0.2 | O26: -0.4242 | P26: -0.0748 | Q26: -0.499 | R26: 0 | S26: 0 | T26: 0
A27: Единый сельскохозяйственный налог | B27: 00010503000010000110 | C27: 1404.18 | D27: 865.2 | E27: 2269.38 | F27: -0.0125 | G27: -0.0054 | H27: -0.0179 | I27: 0.1262 | J27: 0.0541 | K27: 0.1803 | L27: -1009.6 | M27: -1001.8518 | N27: -1007.2625 | O27: 0.1387 | P27: 0.0595 | Q27: 0.1982 | R27: 0.0089 | S27: 0.0062 | T27: 0.0079
A28: Налог, взимаемый в связи с применением патентной системы налогообложения | B28: 00010504000020000110 | C28: 4192.34 | D28: 0 | E28: 4192.34 | F28: 1388.9036 | G28: 0 | H28: 1388.9036 | I28: 173.7638 | J28: 0 | K28: 173.7638 | L28: 12.5108 | M28: 0 | N28: 12.5108 | O28: -1215.1398 | P28: 0 | Q28: -1215.1398 | R28: 4.1447 | S28: 0 | T28: 4.1447
A29: НАЛОГИ НА ИМУЩЕСТВО | B29: 00010600000000000000 | C29: 21035.7 | D29: 12117 | E29: 33152.7 | F29: -13.4985 | G29: 332.8203 | H29: 319.3218 | I29: -8.722 | J29: 108.5 | K29: 99.778 | L29: 64.6145 | M29: 32.6001 | N29: 31.2468 | O29: 4.7765 | P29: -224.3203 | Q29: -219.5438 | R29: -0.0414 | S29: 0.8954 | T29: 0.3009
A30: Налог на имущество физических лиц | B30: 00010601000000000110 | C30: 0 | D30: 6766.5 | E30: 6766.5 | F30: 0 | G30: 233.2082 | H30: 233.2082 | I30: 0 | J30: 49.2118 | K30: 49.2118 | L30: 0 | M30: 21.102 | N30: 21.102 | O30: 0 | P30: -183.9964 | Q30: -183.9964 | R30: 0 | S30: 0.7272 | T30: 0.7272
A31: Налог на имущество организаций | B31: 00010602000020000110 | C31: 21035.7 | D31: 0 | E31: 21035.7 | F31: -13.4985 | G31: 0 | H31: -13.4985 | I31: -8.722 | J31: 0 | K31: -8.722 | L31: 64.6145 | M31: 0 | N31: 64.6145 | O31: 4.7765 | P31: 0 | Q31: 4.7765 | R31: -0.0414 | S31: 0 | T31: -0.0414
A32: Земельный налог всего, в том числе: | B32: 00010606000000000110 | C32: 0 | D32: 5350.5 | E32: 5350.5 | F32: 0 | G32: 99.6121 | H32: 99.6121 | I32: 0 | J32: 59.2882 | K32: 59.2882 | L32: 0 | M32: 59.519 | N32: 59.519 | O32: 0 | P32: -40.3239 | Q32: -40.3239 | R32: 0 | S32: 1.108 | T32: 1.108
... A44: ЗАДОЛЖЕННОСТЬ И ПЕРЕРАСЧЕТЫ ПО ОТМЕНЕННЫМ НАЛОГАМ, СБОРАМ И ИНЫМ ОБЯЗАТЕЛЬНЫМ ПЛАТЕЖАМ | B44: 00010900000000000000 | C44: 0 | D44: 0 | E44: 0 | F44: 0 | G44: 0 | H44: 0 | I44: 0 | J44: 0 | K44: 0 | L44: 0 | M44: 0 | N44: 0 | O44: 0 | P44: 0 | Q44: 0 | R44: 0 | S44: 0 | T44: 0
A45: Неналоговые доходы | C45: 10146.14 | D45: 51.732 | E45: 10197.872 | F45: 804.441 | G45: 7.2559 | H45: 811.6969 | I45: 680.7557 | J45: 5.2559 | K45: 686.0116 | L45: 84.6246 | M45: 72.4362 | N45: 84.5157 | O45: -123.6853 | P45: -2 | Q45: -125.6853 | R45: 6.7095 | S45: 10.1598 | T45: 6.727
A46: Неналоговые доходы без невыясненных поступлений | C46: 10146.14 | D46: 51.732 | E46: 10197.872 | F46: 804.441 | G46: 7.2559 | H46: 811.6969 | I46: 680.7557 | J46: 5.2559 | K46: 686.0116 | L46: 84.6246 | M46: 72.4362 | N46: 84.5157 | O46: -123.6853 | P46: -2 | Q46: -125.6853 | R46: 6.7095 | S46: 10.1598 | T46: 6.727
A47: ДОХОДЫ ОТ ИСПОЛЬЗОВАНИЯ ИМУЩЕСТВА, НАХОДЯЩЕГОСЯ В ГОСУДАРСТВЕННОЙ И МУНИЦИПАЛЬНОЙ СОБСТВЕННОСТИ | B47: 00011100000000000000 | C47: 7270.1 | D47: 51.732 | E47: 7321.832 | F47: 718.4156 | G47: 5.2559 | H47: 723.6715 | I47: 574.9284 | J47: 5.2559 | K47: 580.1843 | L47: 80.0272 | M47: 100 | N47: 80.1723 | O47: -143.4872 | P47: 0 | Q47: -143.4872 | R47: 7.9081 | S47: 10.1598 | T47: 7.924
A48: Доходы, получаемые в виде арендной платы за земельные участки, государственная собственность на которые не разграничена, а также средства от продажи права на заключение договоров аренды указанных земельных участков | B48: 00011105010000000120 | C48: 7270.1 | D48: 0 | E48: 7270.1 | F48: 718.4156 | G48: 0 | H48: 718.4156 | I48: 574.9284 | J48: 0 | K48: 574.9284 | L48: 80.0272 | M48: 0 | N48: 80.0272 | O48: -143.4872 | P48: 0 | Q48: -143.4872 | R48: 7.9081 | S48: 0 | T48: 7.9081
A49: Доходы, получаемые в виде арендной платы за земли после разграничения государственной собственности на землю, а также средства от продажи права на заключение договоров аренды указанных земельных участков (за исключением земельных участков бюджетных и автономных учреждений) | B49: 00011105020000000120 | C49: 0 | D49: 29 | E49: 29 | F49: 0 | G49: 0 | H49: 0 | I49: 0 | J49: 0 | K49: 0 | L49: 0 | M49: 0 | N49: 0 | O49: 0 | P49: 0 | Q49: 0 | R49: 0 | S49: 0 | T49: 0
A50: Доходы, получаемые в виде арендной платы за земельные участки, которые находятся в федеральной собственности и осуществление полномочий по управлению и распоряжению которыми передано органам государственной власти субъектов Российской Федерации, а также средства от продажи права на заключение договоров аренды указанных земельных участков | B50: 00011105026000000120 | C50: 0 | D50: 0 | E50: 0 | F50: 0 | G50: 0 | H50: 0 | I50: 0 | J50: 0 | K50: 0 | L50: 0 | M50: 0 | N50: 0 | O50: 0 | P50: 0 | Q50: 0 | R50: 0 | S50: 0 | T50: 0
A51: Доходы от сдачи в аренду имущества, находящегося в оперативном управлении органов государственной власти, органов местного самоуправления, государственных внебюджетных фондов и созданных ими учреждений (за исключением имущества бюджетных и автономных учреждений) | B51: 00011105030000000120 | C51: 0 | D51: 22.732 | E51: 22.732 | F51: 0 | G51: 5.2559 | H51: 5.2559 | I51: 0 | J51: 5.2559 | K51: 5.2559 | L51: 0 | M51: 100 | N51: 100 | O51: 0 | P51: 0 | Q51: 0 | R51: 0 | S51: 23.1211 | T51: 23.1211
A52: Доходы от сдачи в аренду имущества, составляющего государственную (муниципальную) казну (за исключением земельных участков) | B52: 00011105070000000120 | C52: 0 | D52: 0 | E52: 0 | F52: 0 | G52: 0 | H52: 0 | I52: 0 | J52: 0 | K52: 0 | L52: 0 | M52: 0 | N52: 0 | O52: 0 | P52: 0 | Q52: 0 | R52: 0 | S52: 0 | T52: 0
A53: Платежи от государственных и муниципальных унитарных предприятий | B53: 00011107000000000120 | C53: 0 | D53: 0 | E53: 0 | F53: 0 | G53: 0 | H53: 0 | I53: 0 | J53: 0 | K53: 0 | L53: 0 | M53: 0 | N53: 0 | O53: 0 | P53: 0 | Q53: 0 | R53: 0 | S53: 0 | T53: 0
A54: Средства, получаемые от передачи имущества, находящегося в государственной и муниципальной собственности (за исключением имущества бюджетных и автономных учреждений, а также имущества государственных и муниципальных унитарных предприятий, в том числе казенных), в залог, в доверительное управление | B54: 00011108000000000120 | C54: 0 | D54: 0 | E54: 0 | F54: 0 | G54: 0 | H54: 0 | I54: 0 | J54: 0 | K54: 0 | L54: 0 | M54: 0 | N54: 0 | O54: 0 | P54: 0 | Q54: 0 | R54: 0 | S54: 0 | T54: 0
A55: Прочие доходы от использования имущества и прав, находящихся в государственной и муниципальной собственности (за исключением имущества бюджетных и автономных учреждений, а также имущества государственных и муниципальных унитарных предприятий, в том числе казенных) | B55: 00011109000000000120 | C55: 0 | D55: 0 | E55: 0 | F55: 0 | G55: 0 | H55: 0 | I55: 0 | J55: 0 | K55: 0 | L55: 0 | M55: 0 | N55: 0 | O55: 0 | P55: 0 | Q55: 0 | R55: 0 | S55: 0 | T55: 0
A56: ПЛАТЕЖИ ПРИ ПОЛЬЗОВАНИИ ПРИРОДНЫМИ РЕСУРСАМИ | B56: 00011200000000000000 | C56: 0 | D56: 0 | E56: 0 | F56: 0.0031 | G56: 0 | H56: 0.0031 | I56: 0 | J56: 0 | K56: 0 | L56: 0 | M56: 0 | N56: 0 | O56: -0.0031 | P56: 0 | Q56: -0.0031 | R56: 0 | S56: 0 | T56: 0
A57: ДОХОДЫ ОТ ОКАЗАНИЯ ПЛАТНЫХ УСЛУГ (РАБОТ) И КОМПЕНСАЦИИ ЗАТРАТ ГОСУДАРСТВА | B57: 00011300000000000000 | C57: 0 | D57: 0 | E57: 0 | F57: 0 | G57: 0 | H57: 0 | I57: 0 | J57: 0 | K57: 0 | L57: 0 | M57: 0 | N57: 0 | O57: 0 | P57: 0 | Q57: 0 | R57: 0 | S57: 0 | T57: 0
A58: Доходы от оказания платных услуг (работ) | B58: 00011301000000000130 | C58: 0 | D58: 0 | E58: 0 | F58: 0 | G58: 0 | H58: 0 | I58: 0 | J58: 0 | K58: 0 | L58: 0 | M58: 0 | N58: 0 | O58: 0 | P58: 0 | Q58: 0 | R58: 0 | S58: 0 | T58: 0
... A70: инициативные платежи | B70: 000 1171500000 0000 150 | C70: 0 | D70: 0 | E70: 0 | F70: 0 | G70: 0 | H70: 0 | I70: 0 | J70: 0 | K70: 0 | L70: 0 | M70: 0 | N70: 0 | O70: 0 | P70: 0 | Q70: 0 | R70: 0 | S70: 0 | T70: 0

Sheet Онгудайский р-он
A5: Анализ поступления налоговых и неналоговых доходов консолидированного бюджета муниципального образования
A7: по состоянию на 1 февраля 2026 г.
E9: Онгудайский район
A11: Единица измерения: тыс. руб
A13: Наименование показателя | B13: Код Дохода | C13: Годовой план | F13: Фактическое поступление за прошлый финансовый год | I13: Фактическое поступление в отчетном финансовом году | L13: Темп роста КБ МО, % | O13: Отклонение (+/-) | R13: % выполнения плана
C15: МР | D15: СП | E15: КБ МО | F15: МР | G15: СП | H15: КБ МО | I15: МР | J15: СП | K15: КБ МО | L15: МР | M15: СП | N15: КБ МО | O15: МР | P15: СП | Q15: КБ МО | R15: МР | S15: СП | T15: КБ МО
A17: 1 | B17: 2 | C17: 3 | D17: 4 | E17: 5 | F17: 6 | G17: 7 | H17: 8 | I17: 9 | J17: 10 | K17: 11 | L17: 12 | M17: 13 | N17: 14 | O17: 15 | P17: 16 | Q17: 17 | R17: 18 | S17: 19 | T17: 20
A18: НАЛОГОВЫЕ И НЕНАЛОГОВЫЕ ДОХОДЫ | B18: 00010000000000000000 | C18: 257495.4 | D18: 26854.134 | E18: 284349.53 | F18: 12015.653 | G18: 461.8464 | H18: 12477.499 | I18: 6820.2227 | J18: 465.4087 | K18: 7285.6314 | L18: 56.7611 | M18: 100.7713 | N18: 58.3901 | O18: -5195.4298 | P18: 3.5623 | Q18: -5191.8675 | R18: 2.6486 | S18: 1.733 | T18: 2.5622
A19: НАЛОГОВЫЕ И НЕНАЛОГОВЫЕ ДОХОДЫ без невыясненных поступлений | C19: 257495.4 | D19: 26854.134 | E19: 284349.53 | F19: 12009.716 | G19: 460.8244 | H19: 12470.54 | I19: 6820.0613 | J19: 461.2629 | K19: 7281.3242 | L19: 56.7878 | M19: 100.0951 | N19: 58.3882 | O19: -5189.6542 | P19: 0.4385 | Q19: -5189.2157 | R19: 2.6486 | S19: 1.7176 | T19: 2.5606
A20: Налоговые доходы | C20: 216589.96 | D20: 25111.134 | E20: 241701.09 | F20: 10139.603 | G20: 369.0864 | H20: 10508.689 | I20: 4934.288 | J20: 359.9086 | K20: 5294.1966 | L20: 48.6635 | M20: 97.5133 | N20: 50.3792 | O20: -5205.315 | P20: -9.1778 | Q20: -5214.4928 | R20: 2.2781 | S20: 1.4332 | T20: 2.1903
A21: НАЛОГ НА ДОХОДЫ ФИЗИЧЕСКИХ ЛИЦ | B21: 00010102000010000110 | C21: 145805.5 | D21: 4835.33 | E21: 150640.83 | F21: 3757.7381 | G21: 141.8015 | H21: 3899.5396 | I21: 3807.7926 | J21: 146.317 | K21: 3954.1096 | L21: 101.332 | M21: 103.1843 | N21: 101.3993 | O21: 50.0545 | P21: 4.5155 | Q21: 54.57 | R21: 2.6115 | S21: 3.0259 | T21: 2.6248
A22: АКЦИЗЫ ПО ПОДАКЦИЗНОЙ ПРОДУКЦИИ | B22: 00010300000000000000 | C22: 21275.26 | D22: 0 | E22: 21275.26 | F22: 1673.3515 | G22: 0 | H22: 1673.3515 | I22: 1675.2214 | J22: 0 | K22: 1675.2214 | L22: 100.1117 | M22: 0 | N22: 100.1117 | O22: 1.8699 | P22: 0 | Q22: 1.8699 | R22: 7.874 | S22: 0 | T22: 7.874
A23: Туристический налог | B23: 00010303000010000110 | C23: 0 | D23: 2726.0037 | E23: 2726.0037 | F23: 0 | G23: 0 | H23: 0 | I23: 0 | J23: 34.729 | K23: 34.729 | L23: 0 | M23: 0 | N23: 0 | O23: 0 | P23: 34.729 | Q23: 34.729 | R23: 0 | S23: 1.2739 | T23: 1.2739
A24: НАЛОГИ НА СОВОКУПНЫЙ ДОХОД | B24: 00010500000000000000 | C24: 8606.7 | D24: 386.4 | E24: 8993.1 | F24: 2821.4732 | G24: 1.0124 | H24: 2822.4856 | I24: 47.7858 | J24: -0.108 | K24: 47.6778 | L24: 1.6936 | M24: -10.6677 | N24: 1.6892 | O24: -2773.6874 | P24: -1.1204 | Q24: -2774.8078 | R24: 0.5552 | S24: -0.0279 | T24: 0.5301
A25: Налог, взимаемый в связи с применением упрощенной системы налогообложения | B25: 00010501000000000110 | C25: 0 | D25: 0 | E25: 0 | F25: 0 | G25: 0 | H25: 0 | I25: 0 | J25: 0 | K25: 0 | L25: 0 | M25: 0 | N25: 0 | O25: 0 | P25: 0 | Q25: 0 | R25: 0 | S25: 0 | T25: 0
A26: Единый налог на вмененный доход | B26: 00010502000020000110 | C26: 0 | D26: 0 | E26: 0 | F26: 0 | G26: 0 | H26: 0 | I26: 0 | J26: 0 | K26: 0 | L26: 0 | M26: 0 | N26: 0 | O26: 0 | P26: 0 | Q26: 0 | R26: 0 | S26: 0 | T26: 0
A27: Единый сельскохозяйственный налог | B27: 00010503000010000110 | C27: 1206.8 | D27: 386.4 | E27: 1593.2 | F27: 2.3623 | G27: 1.0124 | H27: 3.3748 | I27: -0.252 | J27: -0.108 | K27: -0.36 | L27: -10.6675 | M27: -10.6677 | N27: -10.6672 | O27: -2.6143 | P27: -1.1204 | Q27: -3.7348 | R27: -0.0208 | S27: -0.0279 | T27: -0.0225
A28: Налог, взимаемый в связи с применением патентной системы налогообложения | B28: 00010504000020000110 | C28: 7399.9 | D28: 0 | E28: 7399.9 | F28: 2819.1108 | G28: 0 | H28: 2819.1108 | I28: 48.0378 | J28: 0 | K28: 48.0378 | L28: 1.704 | M28: 0 | N28: 1.704 | O28: -2771.073 | P28: 0 | Q28: -2771.073 | R28: 0.6491 | S28: 0 | T28: 0.6491
A29: НАЛОГИ НА ИМУЩЕСТВО | B29: 00010600000000000000 | C29: 30861 | D29: 17160.4 | E29: 48021.4 | F29: 1260.807 | G29: 226.3043 | H29: 1487.1113 | I29: -1231.222 | J29: 178.9706 | K29: -1052.2514 | L29: -97.6534 | M29: 79.084 | N29: -70.758 | O29: -2492.029 | P29: -47.3337 | Q29: -2539.3627 | R29: -3.9895 | S29: 1.0429 | T29: -2.1912
A30: Налог на имущество физических лиц | B30: 00010601000000000110 | C30: 0 | D30: 6970.5 | E30: 6970.5 | F30: 0 | G30: 103.3921 | H30: 103.3921 | I30: 0 | J30: 79.5018 | K30: 79.5018 | L30: 0 | M30: 76.8934 | N30: 76.8934 | O30: 0 | P30: -23.8903 | Q30: -23.8903 | R30: 0 | S30: 1.1405 | T30: 1.1405
A31: Налог на имущество организаций | B31: 00010602000020000110 | C31: 30861 | D31: 0 | E31: 30861 | F31: 1260.807 | G31: 0 | H31: 1260.807 | I31: -1231.222 | J31: 0 | K31: -1231.222 | L31: -97.6534 | M31: 0 | N31: -97.6534 | O31: -2492.029 | P31: 0 | Q31: -2492.029 | R31: -3.9895 | S31: 0 | T31: -3.9895
A32: Земельный налог всего, в том числе: | B32: 00010606000000000110 | C32: 0 | D32: 10189.9 | E32: 10189.9 | F32: 0 | G32: 122.9122 | H32: 122.9122 | I32: 0 | J32: 99.4689 | K32: 99.4689 | L32: 0 | M32: 80.9267 | N32: 80.9267 | O32: 0 | P32: -23.4433 | Q32: -23.4433 | R32: 0 | S32: 0.9761 | T32: 0.9761
... A44: ЗАДОЛЖЕННОСТЬ И ПЕРЕРАСЧЕТЫ ПО ОТМЕНЕННЫМ НАЛОГАМ, СБОРАМ И ИНЫМ ОБЯЗАТЕЛЬНЫМ ПЛАТЕЖАМ | B44: 00010900000000000000 | C44: 0 | D44: 0 | E44: 0 | F44: 0 | G44: -0.6318 | H44: -0.6318 | I44: 0 | J44: 0 | K44: 0 | L44: 0 | M44: 0 | N44: 0 | O44: 0 | P44: 0.6318 | Q44: 0.6318 | R44: 0 | S44: 0 | T44: 0
A45: Неналоговые доходы | C45: 40905.44 | D45: 1743 | E45: 42648.44 | F45: 1876.0494 | G45: 92.7601 | H45: 1968.8095 | I45: 1885.9348 | J45: 105.5001 | K45: 1991.4349 | L45: 100.5269 | M45: 113.7343 | N45: 101.1491 | O45: 9.8854 | P45: 12.74 | Q45: 22.6254 | R45: 4.6104 | S45: 6.0527 | T45: 4.6694
A46: Неналоговые доходы без невыясненных поступлений | C46: 40905.44 | D46: 1743 | E46: 42648.44 | F46: 1870.1124 | G46: 91.7381 | H46: 1961.8505 | I46: 1885.7734 | J46: 101.3543 | K46: 1987.1277 | L46: 100.8374 | M46: 110.4822 | N46: 101.2884 | O46: 15.661 | P46: 9.6162 | Q46: 25.2772 | R46: 4.61 | S46: 5.8149 | T46: 4.6593
A47: ДОХОДЫ ОТ ИСПОЛЬЗОВАНИЯ ИМУЩЕСТВА, НАХОДЯЩЕГОСЯ В ГОСУДАРСТВЕННОЙ И МУНИЦИПАЛЬНОЙ СОБСТВЕННОСТИ | B47: 00011100000000000000 | C47: 9237.04 | D47: 1646 | E47: 10883.04 | F47: 316.3337 | G47: 68.9985 | H47: 385.3322 | I47: 323.0453 | J47: 101.3543 | K47: 424.3996 | L47: 102.1216 | M47: 146.8934 | N47: 110.1386 | O47: 6.7116 | P47: 32.3558 | Q47: 39.0674 | R47: 3.4972 | S47: 6.1576 | T47: 3.8996
A48: Доходы, получаемые в виде арендной платы за земельные участки, государственная собственность на которые не разграничена, а также средства от продажи права на заключение договоров аренды указанных земельных участков | B48: 00011105010000000120 | C48: 8997 | D48: 0 | E48: 8997 | F48: 304.4354 | G48: 0 | H48: 304.4354 | I48: 312.3435 | J48: 0 | K48: 312.3435 | L48: 102.5976 | M48: 0 | N48: 102.5976 | O48: 7.9081 | P48: 0 | Q48: 7.9081 | R48: 3.4716 | S48: 0 | T48: 3.4716
A49: Доходы, получаемые в виде арендной платы за земли после разграничения государственной собственности на землю, а также средства от продажи права на заключение договоров аренды указанных земельных участков (за исключением земельных участков бюджетных и автономных учреждений) | B49: 00011105020000000120 | C49: 100 | D49: 1624 | E49: 1724 | F49: 6.4922 | G49: 65.8153 | H49: 72.3075 | I49: 10.7018 | J49: 98.171 | K49: 108.8728 | L49: 164.8408 | M49: 149.1613 | N49: 150.5691 | O49: 4.2096 | P49: 32.3557 | Q49: 36.5653 | R49: 10.7018 | S49: 6.045 | T49: 6.3151
A50: Доходы, получаемые в виде арендной платы за земельные участки, которые находятся в федеральной собственности и осуществление полномочий по управлению и распоряжению которыми передано органам государственной власти субъектов Российской Федерации, а также средства от продажи права на заключение договоров аренды указанных земельных участков | B50: 00011105026000000120 | C50: 0 | D50: 0 | E50: 0 | F50: 0 | G50: 0 | H50: 0 | I50: 0 | J50: 0 | K50: 0 | L50: 0 | M50: 0 | N50: 0 | O50: 0 | P50: 0 | Q50: 0 | R50: 0 | S50: 0 | T50: 0
A51: Доходы от сдачи в аренду имущества, находящегося в оперативном управлении органов государственной власти, органов местного самоуправления, государственных внебюджетных фондов и созданных ими учреждений (за исключением имущества бюджетных и автономных учреждений) | B51: 00011105030000000120 | C51: 140.04 | D51: 22 | E51: 162.04 | F51: 5.4061 | G51: 3.1832 | H51: 8.5894 | I51: 0 | J51: 3.1832 | K51: 3.1832 | L51: 0 | M51: 100 | N51: 37.0596 | O51: -5.4061 | P51: 0 | Q51: -5.4062 | R51: 0 | S51: 14.469 | T51: 1.9644
A52: Доходы от сдачи в аренду имущества, составляющего государственную (муниципальную) казну (за исключением земельных участков) | B52: 00011105070000000120 | C52: 0 | D52: 0 | E52: 0 | F52: 0 | G52: 0 | H52: 0 | I52: 0 | J52: 0 | K52: 0 | L52: 0 | M52: 0 | N52: 0 | O52: 0 | P52: 0 | Q52: 0 | R52: 0 | S52: 0 | T52: 0
A53: Платежи от государственных и муниципальных унитарных предприятий | B53: 00011107000000000120 | C53: 0 | D53: 0 | E53: 0 | F53: 0 | G53: 0 | H53: 0 | I53: 0 | J53: 0 | K53: 0 | L53: 0 | M53: 0 | N53: 0 | O53: 0 | P53: 0 | Q53: 0 | R53: 0 | S53: 0 | T53: 0
A54: Средства, получаемые от передачи имущества, находящегося в государственной и муниципальной собственности (за исключением имущества бюджетных и автономных учреждений, а также имущества государственных и муниципальных унитарных предприятий, в том числе казенных), в залог, в доверительное управление | B54: 00011108000000000120 | C54: 0 | D54: 0 | E54: 0 | F54: 0 | G54: 0 | H54: 0 | I54: 0 | J54: 0 | K54: 0 | L54: 0 | M54: 0 | N54: 0 | O54: 0 | P54: 0 | Q54: 0 | R54: 0 | S54: 0 | T54: 0
A55: Прочие доходы от использования имущества и прав, находящихся в государственной и муниципальной собственности (за исключением имущества бюджетных и автономных учреждений, а также имущества государственных и муниципальных унитарных предприятий, в том числе казенных) | B55: 00011109000000000120 | C55: 0 | D55: 0 | E55: 0 | F55: 0 | G55: 0 | H55: 0 | I55: 0 | J55: 0 | K55: 0 | L55: 0 | M55: 0 | N55: 0 | O55: 0 | P55: 0 | Q55: 0 | R55: 0 | S55: 0 | T55: 0
A56: ПЛАТЕЖИ ПРИ ПОЛЬЗОВАНИИ ПРИРОДНЫМИ РЕСУРСАМИ | B56: 00011200000000000000 | C56: 75 | D56: 0 | E56: 75 | F56: 4.6499 | G56: 0 | H56: 4.6499 | I56: 0 | J56: 0 | K56: 0 | L56: 0 | M56: 0 | N56: 0 | O56: -4.6499 | P56: 0 | Q56: -4.6499 | R56: 0 | S56: 0 | T56: 0
A57: ДОХОДЫ ОТ ОКАЗАНИЯ ПЛАТНЫХ УСЛУГ (РАБОТ) И КОМПЕНСАЦИИ ЗАТРАТ ГОСУДАРСТВА | B57: 00011300000000000000 | C57: 28203.4 | D57: 0 | E57: 28203.4 | F57: 1112.03 | G57: 15 | H57: 1127.03 | I57: 1205.5217 | J57: 0 | K57: 1205.5217 | L57: 108.4073 | M57: 0 | N57: 106.9644 | O57: 93.4917 | P57: -15 | Q57: 78.4917 | R57: 4.2743 | S57: 0 | T57: 4.2743
A58: Доходы от оказания платных услуг (работ) | B58: 00011301000000000130 | C58: 28080 | D58: 0 | E58: 28080 | F58: 1036.9972 | G58: 15 | H58: 1051.9972 | I58: 1205.5217 | J58: 0 | K58: 1205.5217 | L58: 116.2512 | M58: 0 | N58: 114.5936 | O58: 168.5245 | P58: -15 | Q58: 153.5245 | R58: 4.2931 | S58: 0 | T58: 4.2931
... A70: инициативные платежи | B70: 000 1171500000 0000 150 | C70: 0 | D70: 0 | E70: 0 | F70: 0 | G70: 0 | H70: 0 | I70: 0 | J70: 0 | K70: 0 | L70: 0 | M70: 0 | N70: 0 | O70: 0 | P70: 0 | Q70: 0 | R70: 0 | S70: 0 | T70: 0

Sheet Шебалинский р-он
A5: Анализ поступления налоговых и неналоговых доходов консолидированного бюджета муниципального образования
A7: по состоянию на 1 февраля 2026 г.
E9: Шебалинский район
A11: Единица измерения: тыс. руб
A13: Наименование показателя | B13: Код Дохода | C13: Годовой план | F13: Фактическое поступление за прошлый финансовый год | I13: Фактическое поступление в отчетном финансовом году | L13: Темп роста КБ МО, % | O13: Отклонение (+/-) | R13: % выполнения плана
C15: МР | D15: СП | E15: КБ МО | F15: МР | G15: СП | H15: КБ МО | I15: МР | J15: СП | K15: КБ МО | L15: МР | M15: СП | N15: КБ МО | O15: МР | P15: СП | Q15: КБ МО | R15: МР | S15: СП | T15: КБ МО
A17: 1 | B17: 2 | C17: 3 | D17: 4 | E17: 5 | F17: 6 | G17: 7 | H17: 8 | I17: 9 | J17: 10 | K17: 11 | L17: 12 | M17: 13 | N17: 14 | O17: 15 | P17: 16 | Q17: 17 | R17: 18 | S17: 19 | T17: 20
A18: НАЛОГОВЫЕ И НЕНАЛОГОВЫЕ ДОХОДЫ | B18: 00010000000000000000 | C18: 178314.22 | D18: 23660.6 | E18: 201974.82 | F18: 7481.2411 | G18: 1348.9133 | H18: 8830.1545 | I18: 6432.8812 | J18: 878.3558 | K18: 7311.237 | L18: 85.9868 | M18: 65.1158 | N18: 82.7985 | O18: -1048.3599 | P18: -470.5575 | Q18: -1518.9175 | R18: 3.6076 | S18: 3.7123 | T18: 3.6198
A19: НАЛОГОВЫЕ И НЕНАЛОГОВЫЕ ДОХОДЫ без невыясненных поступлений | C19: 178314.22 | D19: 23660.6 | E19: 201974.82 | F19: 7479.2411 | G19: 1348.7622 | H19: 8828.0034 | I19: 6432.2798 | J19: 878.2047 | K19: 7310.4845 | L19: 86.0017 | M19: 65.1119 | N19: 82.8101 | O19: -1046.9613 | P19: -470.5575 | Q19: -1517.5189 | R19: 3.6072 | S19: 3.7116 | T19: 3.6195
A20: Налоговые доходы | C20: 158462.12 | D20: 23243.1 | E20: 181705.22 | F20: 6763.6497 | G20: 1327.4277 | H20: 8091.0773 | I20: 5843.3617 | J20: 866.906 | K20: 6710.2677 | L20: 86.3936 | M20: 65.3072 | N20: 82.9341 | O20: -920.288 | P20: -460.5217 | Q20: -1380.8096 | R20: 3.6875 | S20: 3.7297 | T20: 3.6929
A21: НАЛОГ НА ДОХОДЫ ФИЗИЧЕСКИХ ЛИЦ | B21: 00010102000010000110 | C21: 115754.32 | D21: 4298 | E21: 120052.32 | F21: 2902.8791 | G21: 109.5475 | H21: 3012.4265 | I21: 4032.8105 | J21: 154.2815 | K21: 4187.092 | L21: 138.9245 | M21: 140.8352 | N21: 138.9939 | O21: 1129.9314 | P21: 44.734 | Q21: 1174.6655 | R21: 3.4839 | S21: 3.5896 | T21: 3.4877
A22: АКЦИЗЫ ПО ПОДАКЦИЗНОЙ ПРОДУКЦИИ | B22: 00010300000000000000 | C22: 17676.3 | D22: 0 | E22: 17676.3 | F22: 1390.2804 | G22: 0 | H22: 1390.2804 | I22: 1405.7455 | J22: 0 | K22: 1405.7455 | L22: 101.1123 | M22: 0 | N22: 101.1123 | O22: 15.4651 | P22: 0 | Q22: 15.4651 | R22: 7.9527 | S22: 0 | T22: 7.9527
A23: Туристический налог | B23: 00010303000010000110 | C23: 0 | D23: 486.1 | E23: 486.1 | F23: 0 | G23: 0 | H23: 0 | I23: 0 | J23: 575.0795 | K23: 575.0795 | L23: 0 | M23: 0 | N23: 0 | O23: 0 | P23: 575.0795 | Q23: 575.0795 | R23: 0 | S23: 118.3047 | T23: 118.3047
A24: НАЛОГИ НА СОВОКУПНЫЙ ДОХОД | B24: 00010500000000000000 | C24: 6359.9 | D24: 838 | E24: 7197.9 | F24: 2037.5212 | G24: 0.1044 | H24: 2037.6256 | I24: -252.431 | J24: 0 | K24: -252.431 | L24: -12.3891 | M24: 0 | N24: -12.3884 | O24: -2289.9522 | P24: -0.1044 | Q24: -2290.0566 | R24: -3.9691 | S24: 0 | T24: -3.507
A25: Налог, взимаемый в связи с применением упрощенной системы налогообложения | B25: 00010501000000000110 | C25: 0 | D25: 0 | E25: 0 | F25: 0 | G25: 0 | H25: 0 | I25: 0 | J25: 0 | K25: 0 | L25: 0 | M25: 0 | N25: 0 | O25: 0 | P25: 0 | Q25: 0 | R25: 0 | S25: 0 | T25: 0
A26: Единый налог на вмененный доход | B26: 00010502000020000110 | C26: 0 | D26: 0 | E26: 0 | F26: 0 | G26: 0 | H26: 0 | I26: 0 | J26: 0 | K26: 0 | L26: 0 | M26: 0 | N26: 0 | O26: 0 | P26: 0 | Q26: 0 | R26: 0 | S26: 0 | T26: 0
A27: Единый сельскохозяйственный налог | B27: 00010503000010000110 | C27: 1327.5 | D27: 838 | E27: 2165.5 | F27: 0.2436 | G27: 0.1044 | H27: 0.348 | I27: 0 | J27: 0 | K27: 0 | L27: 0 | M27: 0 | N27: 0 | O27: -0.2436 | P27: -0.1044 | Q27: -0.348 | R27: 0 | S27: 0 | T27: 0
A28: Налог, взимаемый в связи с применением патентной системы налогообложения | B28: 00010504000020000110 | C28: 5032.4 | D28: 0 | E28: 5032.4 | F28: 2037.2776 | G28: 0 | H28: 2037.2776 | I28: -252.431 | J28: 0 | K28: -252.431 | L28: -12.3906 | M28: 0 | N28: -12.3906 | O28: -2289.7086 | P28: 0 | Q28: -2289.7086 | R28: -5.0161 | S28: 0 | T28: -5.0161
A29: НАЛОГИ НА ИМУЩЕСТВО | B29: 00010600000000000000 | C29: 11341.4 | D29: 17621 | E29: 28962.4 | F29: 0 | G29: 1217.7758 | H29: 1217.7758 | I29: -1.2165 | J29: 137.545 | K29: 136.3285 | L29: 0 | M29: 11.2947 | N29: 11.1948 | O29: -1.2165 | P29: -1080.2308 | Q29: -1081.4473 | R29: -0.0107 | S29: 0.7805 | T29: 0.4707
A30: Налог на имущество физических лиц | B30: 00010601000000000110 | C30: 0 | D30: 4869 | E30: 4869 | F30: 0 | G30: 114.42 | H30: 114.42 | I30: 0 | J30: 67.4768 | K30: 67.4768 | L30: 0 | M30: 58.9729 | N30: 58.9729 | O30: 0 | P30: -46.9432 | Q30: -46.9432 | R30: 0 | S30: 1.3858 | T30: 1.3858
A31: Налог на имущество организаций | B31: 00010602000020000110 | C31: 11341.4 | D31: 0 | E31: 11341.4 | F31: 0 | G31: 0 | H31: 0 | I31: -1.2165 | J31: 0 | K31: -1.2165 | L31: 0 | M31: 0 | N31: 0 | O31: -1.2165 | P31: 0 | Q31: -1.2165 | R31: -0.0107 | S31: 0 | T31: -0.0107
A32: Земельный налог всего, в том числе: | B32: 00010606000000000110 | C32: 0 | D32: 12752 | E32: 12752 | F32: 0 | G32: 1103.3558 | H32: 1103.3558 | I32: 0 | J32: 70.0682 | K32: 70.0682 | L32: 0 | M32: 6.3504 | N32: 6.3504 | O32: 0 | P32: -1033.2876 | Q32: -1033.2876 | R32: 0 | S32: 0.5494 | T32: 0.5494
... A44: ЗАДОЛЖЕННОСТЬ И ПЕРЕРАСЧЕТЫ ПО ОТМЕНЕННЫМ НАЛОГАМ, СБОРАМ И ИНЫМ ОБЯЗАТЕЛЬНЫМ ПЛАТЕЖАМ | B44: 00010900000000000000 | C44: 0 | D44: 0 | E44: 0 | F44: 0 | G44: 0 | H44: 0 | I44: 0 | J44: 0 | K44: 0 | L44: 0 | M44: 0 | N44: 0 | O44: 0 | P44: 0 | Q44: 0 | R44: 0 | S44: 0 | T44: 0
A45: Неналоговые доходы | C45: 19852.1 | D45: 417.5 | E45: 20269.6 | F45: 717.5916 | G45: 21.4858 | H45: 739.0774 | I45: 589.5196 | J45: 11.4499 | K45: 600.9695 | L45: 82.1525 | M45: 53.2905 | N45: 81.3134 | O45: -128.072 | P45: -10.0359 | Q45: -138.1079 | R45: 2.9695 | S45: 2.7424 | T45: 2.9648
A46: Неналоговые доходы без невыясненных поступлений | C46: 19852.1 | D46: 417.5 | E46: 20269.6 | F46: 715.5916 | G46: 21.3347 | H46: 736.9263 | I46: 588.9182 | J46: 11.2988 | K46: 600.217 | L46: 82.298 | M46: 52.9597 | N46: 81.4487 | O46: -126.6734 | P46: -10.0359 | Q46: -136.7093 | R46: 2.9665 | S46: 2.7062 | T46: 2.9611
A47: ДОХОДЫ ОТ ИСПОЛЬЗОВАНИЯ ИМУЩЕСТВА, НАХОДЯЩЕГОСЯ В ГОСУДАРСТВЕННОЙ И МУНИЦИПАЛЬНОЙ СОБСТВЕННОСТИ | B47: 00011100000000000000 | C47: 15600 | D47: 282 | E47: 15882 | F47: 458.1461 | G47: 11.3692 | H47: 469.5153 | I47: 480.6328 | J47: 9.7988 | K47: 490.4316 | L47: 104.9081 | M47: 86.1872 | N47: 104.4548 | O47: 22.4867 | P47: -1.5704 | Q47: 20.9163 | R47: 3.0809 | S47: 3.4747 | T47: 3.0879
A48: Доходы, получаемые в виде арендной платы за земельные участки, государственная собственность на которые не разграничена, а также средства от продажи права на заключение договоров аренды указанных земельных участков | B48: 00011105010000000120 | C48: 11951 | D48: 0 | E48: 11951 | F48: 445.1151 | G48: 0 | H48: 445.1151 | I48: 466.6168 | J48: 0 | K48: 466.6168 | L48: 104.8305 | M48: 0 | N48: 104.8305 | O48: 21.5017 | P48: 0 | Q48: 21.5017 | R48: 3.9044 | S48: 0 | T48: 3.9044
A49: Доходы, получаемые в виде арендной платы за земли после разграничения государственной собственности на землю, а также средства от продажи права на заключение договоров аренды указанных земельных участков (за исключением земельных участков бюджетных и автономных учреждений) | B49: 00011105020000000120 | C49: 0 | D49: 264 | E49: 264 | F49: 0 | G49: 7.41 | H49: 7.41 | I49: 0 | J49: 2.965 | K49: 2.965 | L49: 0 | M49: 40.0134 | N49: 40.0134 | O49: 0 | P49: -4.445 | Q49: -4.445 | R49: 0 | S49: 1.1231 | T49: 1.1231
A50: Доходы, получаемые в виде арендной платы за земельные участки, которые находятся в федеральной собственности и осуществление полномочий по управлению и распоряжению которыми передано органам государственной власти субъектов Российской Федерации, а также средства от продажи права на заключение договоров аренды указанных земельных участков | B50: 00011105026000000120 | C50: 0 | D50: 0 | E50: 0 | F50: 0 | G50: 0 | H50: 0 | I50: 0 | J50: 0 | K50: 0 | L50: 0 | M50: 0 | N50: 0 | O50: 0 | P50: 0 | Q50: 0 | R50: 0 | S50: 0 | T50: 0
A51: Доходы от сдачи в аренду имущества, находящегося в оперативном управлении органов государственной власти, органов местного самоуправления, государственных внебюджетных фондов и созданных ими учреждений (за исключением имущества бюджетных и автономных учреждений) | B51: 00011105030000000120 | C51: 3649 | D51: 15 | E51: 3664 | F51: 13.0309 | G51: 3.9592 | H51: 16.9901 | I51: 14.016 | J51: 3.9592 | K51: 17.9752 | L51: 107.5597 | M51: 100 | N51: 105.798 | O51: 0.9851 | P51: 0 | Q51: 0.9851 | R51: 0.3841 | S51: 26.3946 | T51: 0.4905
A52: Доходы от сдачи в аренду имущества, составляющего государственную (муниципальную) казну (за исключением земельных участков) | B52: 00011105070000000120 | C52: 0 | D52: 0 | E52: 0 | F52: 0 | G52: 0 | H52: 0 | I52: 0 | J52: 0 | K52: 0 | L52: 0 | M52: 0 | N52: 0 | O52: 0 | P52: 0 | Q52: 0 | R52: 0 | S52: 0 | T52: 0
A53: Платежи от государственных и муниципальных унитарных предприятий | B53: 00011107000000000120 | C53: 0 | D53: 0 | E53: 0 | F53: 0 | G53: 0 | H53: 0 | I53: 0 | J53: 0 | K53: 0 | L53: 0 | M53: 0 | N53: 0 | O53: 0 | P53: 0 | Q53: 0 | R53: 0 | S53: 0 | T53: 0
A54: Средства, получаемые от передачи имущества, находящегося в государственной и муниципальной собственности (за исключением имущества бюджетных и автономных учреждений, а также имущества государственных и муниципальных унитарных предприятий, в том числе казенных), в залог, в доверительное управление | B54: 00011108000000000120 | C54: 0 | D54: 0 | E54: 0 | F54: 0 | G54: 0 | H54: 0 | I54: 0 | J54: 0 | K54: 0 | L54: 0 | M54: 0 | N54: 0 | O54: 0 | P54: 0 | Q54: 0 | R54: 0 | S54: 0 | T54: 0
A55: Прочие доходы от использования имущества и прав, находящихся в государственной и муниципальной собственности (за исключением имущества бюджетных и автономных учреждений, а также имущества государственных и муниципальных унитарных предприятий, в том числе казенных) | B55: 00011109000000000120 | C55: 0 | D55: 3 | E55: 3 | F55: 0 | G55: 0 | H55: 0 | I55: 0 | J55: 2.8746 | K55: 2.8746 | L55: 0 | M55: 0 | N55: 0 | O55: 0 | P55: 2.8746 | Q55: 2.8746 | R55: 0 | S55: 95.82 | T55: 95.82
A56: ПЛАТЕЖИ ПРИ ПОЛЬЗОВАНИИ ПРИРОДНЫМИ РЕСУРСАМИ | B56: 00011200000000000000 | C56: 328.1 | D56: 0 | E56: 328.1 | F56: 54.8322 | G56: 0 | H56: 54.8322 | I56: 0 | J56: 0 | K56: 0 | L56: 0 | M56: 0 | N56: 0 | O56: -54.8322 | P56: 0 | Q56: -54.8322 | R56: 0 | S56: 0 | T56: 0
A57: ДОХОДЫ ОТ ОКАЗАНИЯ ПЛАТНЫХ УСЛУГ (РАБОТ) И КОМПЕНСАЦИИ ЗАТРАТ ГОСУДАРСТВА | B57: 00011300000000000000 | C57: 694 | D57: 0 | E57: 694 | F57: 9.5527 | G57: 0 | H57: 9.5527 | I57: 28.2621 | J57: 0 | K57: 28.2621 | L57: 295.8545 | M57: 0 | N57: 295.8545 | O57: 18.7094 | P57: 0 | Q57: 18.7094 | R57: 4.0723 | S57: 0 | T57: 4.0723
A58: Доходы от оказания платных услуг (работ) | B58: 00011301000000000130 | C58: 0 | D58: 0 | E58: 0 | F58: 0.2925 | G58: 0 | H58: 0.2925 | I58: 15.1314 | J58: 0 | K58: 15.1314 | L58: 5173.1282 | M58: 0 | N58: 5173.1282 | O58: 14.8389 | P58: 0 | Q58: 14.8389 | R58: 0 | S58: 0 | T58: 0
... A70: инициативные платежи | B70: 000 1171500000 0000 150 | C70: 0 | D70: 0 | E70: 0 | F70: 0 | G70: 0 | H70: 0 | I70: 0 | J70: 0 | K70: 0 | L70: 0 | M70: 0 | N70: 0 | O70: 0 | P70: 0 | Q70: 0 | R70: 0 | S70: 0 | T70: 0

Sheet Усть-Коксинский р-он
A5: Анализ поступления налоговых и неналоговых доходов консолидированного бюджета муниципального образования
A7: по состоянию на 1 февраля 2026 г.
E9: Усть-Коксинский район
A11: Единица измерения: тыс. руб
A13: Наименование показателя | B13: Код Дохода | C13: Годовой план | F13: Фактическое поступление за прошлый финансовый год | I13: Фактическое поступление в отчетном финансовом году | L13: Темп роста КБ МО, % | O13: Отклонение (+/-) | R13: % выполнения плана
C15: МР | D15: СП | E15: КБ МО | F15: МР | G15: СП | H15: КБ МО | I15: МР | J15: СП | K15: КБ МО | L15: МР | M15: СП | N15: КБ МО | O15: МР | P15: СП | Q15: КБ МО | R15: МР | S15: СП | T15: КБ МО
A17: 1 | B17: 2 | C17: 3 | D17: 4 | E17: 5 | F17: 6 | G17: 7 | H17: 8 | I17: 9 | J17: 10 | K17: 11 | L17: 12 | M17: 13 | N17: 14 | O17: 15 | P17: 16 | Q17: 17 | R17: 18 | S17: 19 | T17: 20
A18: НАЛОГОВЫЕ И НЕНАЛОГОВЫЕ ДОХОДЫ | B18: 00010000000000000000 | C18: 248635.83 | D18: 34329.5 | E18: 282965.33 | F18: 9393.7782 | G18: 327.4939 | H18: 9721.272 | I18: 4920.658 | J18: 300.5609 | K18: 5221.2189 | L18: 52.382 | M18: 91.776 | N18: 53.7092 | O18: -4473.1202 | P18: -26.933 | Q18: -4500.0531 | R18: 1.979 | S18: 0.8755 | T18: 1.8451
A19: НАЛОГОВЫЕ И НЕНАЛОГОВЫЕ ДОХОДЫ без невыясненных поступлений | C19: 248635.83 | D19: 34329.5 | E19: 282965.33 | F19: 9393.7782 | G19: 327.4939 | H19: 9721.272 | I19: 4920.658 | J19: 300.5609 | K19: 5221.2189 | L19: 52.382 | M19: 91.776 | N19: 53.7092 | O19: -4473.1202 | P19: -26.933 | Q19: -4500.0531 | R19: 1.979 | S19: 0.8755 | T19: 1.8451
A20: Налоговые доходы | C20: 230022.68 | D20: 31047.4 | E20: 261070.08 | F20: 8108.251 | G20: 265.8939 | H20: 8374.1449 | I20: 3223.8825 | J20: 292.8764 | K20: 3516.7589 | L20: 39.7605 | M20: 110.1478 | N20: 41.9954 | O20: -4884.3685 | P20: 26.9825 | Q20: -4857.386 | R20: 1.4015 | S20: 0.9433 | T20: 1.347
A21: НАЛОГ НА ДОХОДЫ ФИЗИЧЕСКИХ ЛИЦ | B21: 00010102000010000110 | C21: 161555.55 | D21: 4938 | E21: 166493.55 | F21: 2534.9526 | G21: 95.6586 | H21: 2630.6112 | I21: 2618.8405 | J21: 101.6078 | K21: 2720.4483 | L21: 103.3092 | M21: 106.2192 | N21: 103.415 | O21: 83.8879 | P21: 5.9492 | Q21: 89.8371 | R21: 1.621 | S21: 2.0576 | T21: 1.6339
A22: АКЦИЗЫ ПО ПОДАКЦИЗНОЙ ПРОДУКЦИИ | B22: 00010300000000000000 | C22: 20595.13 | D22: 0 | E22: 20595.13 | F22: 1619.8577 | G22: 0 | H22: 1619.8577 | I22: 1622.1617 | J22: 0 | K22: 1622.1617 | L22: 100.1422 | M22: 0 | N22: 100.1422 | O22: 2.304 | P22: 0 | Q22: 2.304 | R22: 7.8764 | S22: 0 | T22: 7.8764
